BEGIN:VCALENDAR
VERSION:2.0
PRODID:-//The Connection Church - ECPv6.5.1.5//NONSGML v1.0//EN
CALSCALE:GREGORIAN
METHOD:PUBLISH
X-ORIGINAL-URL:http://theconnection.ws
X-WR-CALDESC:Events for The Connection Church
REFRESH-INTERVAL;VALUE=DURATION:PT1H
X-Robots-Tag:noindex
X-PUBLISHED-TTL:PT1H
BEGIN:VTIMEZONE
TZID:America/New_York
BEGIN:DAYLIGHT
TZOFFSETFROM:-0500
TZOFFSETTO:-0400
TZNAME:EDT
DTSTART:20180311T070000
END:DAYLIGHT
BEGIN:STANDARD
TZOFFSETFROM:-0400
TZOFFSETTO:-0500
TZNAME:EST
DTSTART:20181104T060000
END:STANDARD
END:VTIMEZONE
BEGIN:VEVENT
DTSTART;TZID=America/New_York:20180723T180000
DTEND;TZID=America/New_York:20180723T200000
DTSTAMP:20260421T072928
CREATED:20180610T052127Z
LAST-MODIFIED:20180610T052357Z
UID:3781-1532368800-1532376000@theconnection.ws
SUMMARY:6-8 pm VBS Shipwrecked
DESCRIPTION:Come join us for our 2018 VBS!  Our theme is Shipwrecked.  Sign up is on our theconnection.ws Homepage.  Don’t miss the fun and learning! \n 
URL:http://theconnection.ws/event/vbs-shipwrecked/2018-07-23/
END:VEVENT
END:VCALENDAR