BEGIN:VCALENDAR
VERSION:2.0
PRODID:-//The Connection Church - ECPv6.5.1.5//NONSGML v1.0//EN
CALSCALE:GREGORIAN
METHOD:PUBLISH
X-ORIGINAL-URL:http://theconnection.ws
X-WR-CALDESC:Events for The Connection Church
REFRESH-INTERVAL;VALUE=DURATION:PT1H
X-Robots-Tag:noindex
X-PUBLISHED-TTL:PT1H
BEGIN:VTIMEZONE
TZID:America/New_York
BEGIN:DAYLIGHT
TZOFFSETFROM:-0500
TZOFFSETTO:-0400
TZNAME:EDT
DTSTART:20180311T070000
END:DAYLIGHT
BEGIN:STANDARD
TZOFFSETFROM:-0400
TZOFFSETTO:-0500
TZNAME:EST
DTSTART:20181104T060000
END:STANDARD
BEGIN:DAYLIGHT
TZOFFSETFROM:-0500
TZOFFSETTO:-0400
TZNAME:EDT
DTSTART:20190310T070000
END:DAYLIGHT
BEGIN:STANDARD
TZOFFSETFROM:-0400
TZOFFSETTO:-0500
TZNAME:EST
DTSTART:20191103T060000
END:STANDARD
END:VTIMEZONE
BEGIN:VEVENT
DTSTART;TZID=America/New_York:20190601T063000
DTEND;TZID=America/New_York:20190601T200000
DTSTAMP:20260420T162355
CREATED:20190601T224716Z
LAST-MODIFIED:20190601T224716Z
UID:4826-1559370600-1559419200@theconnection.ws
SUMMARY:6:30pm Women's Connect Group
DESCRIPTION:Will be held at either Margie’s or Joetta’s house.  Please see one of them for details.
URL:http://theconnection.ws/event/630pm-womens-connect-group/2019-06-01/
END:VEVENT
BEGIN:VEVENT
DTSTART;VALUE=DATE:20190105
DTEND;VALUE=DATE:20190106
DTSTAMP:20260420T162355
CREATED:20181211T155006Z
LAST-MODIFIED:20181211T155006Z
UID:4212-1546646400-1546732799@theconnection.ws
SUMMARY:Joetta Beaver hosting FFI Seminar
DESCRIPTION:Details to follow……
URL:http://theconnection.ws/event/joetta-beaver-hosting-ffi-seminar/
LOCATION:The Connection Church\, 5532 Sinclair Rd\, Columbus\, OH\, 43229\, United States
END:VEVENT
BEGIN:VEVENT
DTSTART;TZID=America/New_York:20180922T090000
DTEND;TZID=America/New_York:20180922T180000
DTSTAMP:20260420T162355
CREATED:20180721T032521Z
LAST-MODIFIED:20180721T032521Z
UID:3889-1537606800-1537639200@theconnection.ws
SUMMARY:9:00am-6:00pm FFI Blessing Generations Conference
DESCRIPTION:Blessing Generations.  Family Foundations International Conference.  Conference is held Friday night and all day Saturday.  This event is held in the main sanctuary.  Contact the church or Joetta Beaver for more information.
URL:http://theconnection.ws/event/900am-600pm-ffi-blessing-generations-conference/
END:VEVENT
BEGIN:VEVENT
DTSTART;TZID=America/New_York:20180921T183000
DTEND;TZID=America/New_York:20180921T220000
DTSTAMP:20260420T162355
CREATED:20180721T032331Z
LAST-MODIFIED:20180721T032331Z
UID:3887-1537554600-1537567200@theconnection.ws
SUMMARY:6:30-10:00pm FFI Blessing Generations Conference
DESCRIPTION:Blessing Generations.  Family Foundations International Conference.  Conference is held Friday night and all day Saturday.  This event is held in the main sanctuary.  Contact the church or Joetta Beaver for more information.
URL:http://theconnection.ws/event/630-1000pm-ffi-blessing-generations-conference/
END:VEVENT
BEGIN:VEVENT
DTSTART;TZID=America/New_York:20180818T090000
DTEND;TZID=America/New_York:20180818T180000
DTSTAMP:20260420T162355
CREATED:20180721T030638Z
LAST-MODIFIED:20180721T030638Z
UID:3885-1534582800-1534615200@theconnection.ws
SUMMARY:9:00am-6:00pm FFI Conference The Question for Women
DESCRIPTION:The Women Question.  Family Foundations International Conference.  Conference is held Friday night and all day Saturday.  This event is held in the main sanctuary.  Contact the church or Joetta Beaver for more information.
URL:http://theconnection.ws/event/900am-600pm-ffi-conference-the-question-for-women/
END:VEVENT
BEGIN:VEVENT
DTSTART;TZID=America/New_York:20180817T183000
DTEND;TZID=America/New_York:20180817T220000
DTSTAMP:20260420T162355
CREATED:20180721T030453Z
LAST-MODIFIED:20180721T033133Z
UID:3882-1534530600-1534543200@theconnection.ws
SUMMARY:6:30-10:00pm FFI Conference The Question for Women
DESCRIPTION:The Women Question.  Family Foundations International Conference.  Conference is held Friday night and all day Saturday.  This event is held in the main sanctuary.  Contact the church or Joetta Beaver for more information.
URL:http://theconnection.ws/event/630-1000pm-ffi-conference-the-women-question/
END:VEVENT
END:VCALENDAR