BEGIN:VCALENDAR
VERSION:2.0
PRODID:-//The Connection Church - ECPv6.5.1.5//NONSGML v1.0//EN
CALSCALE:GREGORIAN
METHOD:PUBLISH
X-WR-CALNAME:The Connection Church
X-ORIGINAL-URL:http://theconnection.ws
X-WR-CALDESC:Events for The Connection Church
REFRESH-INTERVAL;VALUE=DURATION:PT1H
X-Robots-Tag:noindex
X-PUBLISHED-TTL:PT1H
BEGIN:VTIMEZONE
TZID:America/New_York
BEGIN:DAYLIGHT
TZOFFSETFROM:-0500
TZOFFSETTO:-0400
TZNAME:EDT
DTSTART:20180311T070000
END:DAYLIGHT
BEGIN:STANDARD
TZOFFSETFROM:-0400
TZOFFSETTO:-0500
TZNAME:EST
DTSTART:20181104T060000
END:STANDARD
BEGIN:DAYLIGHT
TZOFFSETFROM:-0500
TZOFFSETTO:-0400
TZNAME:EDT
DTSTART:20190310T070000
END:DAYLIGHT
BEGIN:STANDARD
TZOFFSETFROM:-0400
TZOFFSETTO:-0500
TZNAME:EST
DTSTART:20191103T060000
END:STANDARD
END:VTIMEZONE
BEGIN:VEVENT
DTSTART;VALUE=DATE:20190504
DTEND;VALUE=DATE:20190505
DTSTAMP:20260421T135754
CREATED:20190105T193646Z
LAST-MODIFIED:20190403T151547Z
UID:4270-1556928000-1557014399@theconnection.ws
SUMMARY:Private All-Day Event Children's Sanctuary
DESCRIPTION:Private event hosted by Janet Bryan (contact Doug Fentiman for details)
URL:http://theconnection.ws/event/private-event-childrens-sanctuary/
LOCATION:Children’s Sanctuary
END:VEVENT
BEGIN:VEVENT
DTSTART;TZID=America/New_York:20180106T080000
DTEND;TZID=America/New_York:20180106T120000
DTSTAMP:20260421T135754
CREATED:20180122T191436Z
LAST-MODIFIED:20180122T194127Z
UID:2734-1515225600-1515240000@theconnection.ws
SUMMARY:8:00am-12:00 Hspc Fasting
DESCRIPTION:Saturdays of fasting\, held for all four Saturdays in January \nWill meet in the Children’s Sanctuary
URL:http://theconnection.ws/event/hspc-fasting/2018-01-06/
LOCATION:Children’s Sanctuary
END:VEVENT
END:VCALENDAR