BEGIN:VCALENDAR
VERSION:2.0
PRODID:-//The Connection Church - ECPv6.5.1.5//NONSGML v1.0//EN
CALSCALE:GREGORIAN
METHOD:PUBLISH
X-WR-CALNAME:The Connection Church
X-ORIGINAL-URL:https://theconnection.ws
X-WR-CALDESC:Events for The Connection Church
REFRESH-INTERVAL;VALUE=DURATION:PT1H
X-Robots-Tag:noindex
X-PUBLISHED-TTL:PT1H
BEGIN:VTIMEZONE
TZID:America/New_York
BEGIN:DAYLIGHT
TZOFFSETFROM:-0500
TZOFFSETTO:-0400
TZNAME:EDT
DTSTART:20240310T070000
END:DAYLIGHT
BEGIN:STANDARD
TZOFFSETFROM:-0400
TZOFFSETTO:-0500
TZNAME:EST
DTSTART:20241103T060000
END:STANDARD
END:VTIMEZONE
BEGIN:VEVENT
DTSTART;TZID=America/New_York:20241030T183000
DTEND;TZID=America/New_York:20241030T203000
DTSTAMP:20260419T234348
CREATED:20171031T011231Z
LAST-MODIFIED:20250226T230522Z
UID:10250-1730313000-1730320200@theconnection.ws
SUMMARY:Hspc Prayer Service
DESCRIPTION:Will meet in the Fellowship Hall.  See Pastor Robson for details.
URL:https://theconnection.ws/event/630-hspc-prayer-service-2021-01-06/2024-10-30/
END:VEVENT
BEGIN:VEVENT
DTSTART;TZID=America/New_York:20241027T150000
DTEND;TZID=America/New_York:20241027T170000
DTSTAMP:20260419T234348
CREATED:20171030T032015Z
LAST-MODIFIED:20250226T231820Z
UID:10241-1730041200-1730048400@theconnection.ws
SUMMARY:Hspc Service
DESCRIPTION:Our Hispanic Service meets in the Main Sanctuary.
URL:https://theconnection.ws/event/300-hspc-service/2024-10-27/
END:VEVENT
BEGIN:VEVENT
DTSTART;TZID=America/New_York:20241027T100000
DTEND;TZID=America/New_York:20241027T113000
DTSTAMP:20260419T234348
CREATED:20171028T045217Z
LAST-MODIFIED:20250226T231341Z
UID:10240-1730023200-1730028600@theconnection.ws
SUMMARY:Sunday Morning Service
DESCRIPTION:Come worship with us.  Expect a time of singing\, prayer\, and hearing a message from God’s Word!  We look forward to seeing you! \nWill meet in the Main Sanctuary.
URL:https://theconnection.ws/event/sunday-worship-service/2024-10-27/
END:VEVENT
BEGIN:VEVENT
DTSTART;TZID=America/New_York:20241023T183000
DTEND;TZID=America/New_York:20241023T203000
DTSTAMP:20260419T234348
CREATED:20171031T011231Z
LAST-MODIFIED:20250226T230521Z
UID:10233-1729708200-1729715400@theconnection.ws
SUMMARY:Hspc Prayer Service
DESCRIPTION:Will meet in the Fellowship Hall.  See Pastor Robson for details.
URL:https://theconnection.ws/event/630-hspc-prayer-service-2021-01-06/2024-10-23/
END:VEVENT
BEGIN:VEVENT
DTSTART;TZID=America/New_York:20241020T150000
DTEND;TZID=America/New_York:20241020T170000
DTSTAMP:20260419T234348
CREATED:20171030T032015Z
LAST-MODIFIED:20250226T231820Z
UID:10224-1729436400-1729443600@theconnection.ws
SUMMARY:Hspc Service
DESCRIPTION:Our Hispanic Service meets in the Main Sanctuary.
URL:https://theconnection.ws/event/300-hspc-service/2024-10-20/
END:VEVENT
BEGIN:VEVENT
DTSTART;TZID=America/New_York:20241020T100000
DTEND;TZID=America/New_York:20241020T113000
DTSTAMP:20260419T234348
CREATED:20171028T045217Z
LAST-MODIFIED:20250226T231340Z
UID:10223-1729418400-1729423800@theconnection.ws
SUMMARY:Sunday Morning Service
DESCRIPTION:Come worship with us.  Expect a time of singing\, prayer\, and hearing a message from God’s Word!  We look forward to seeing you! \nWill meet in the Main Sanctuary.
URL:https://theconnection.ws/event/sunday-worship-service/2024-10-20/
END:VEVENT
BEGIN:VEVENT
DTSTART;TZID=America/New_York:20241019T120000
DTEND;TZID=America/New_York:20241019T220000
DTSTAMP:20260419T234348
CREATED:20240908T172556Z
LAST-MODIFIED:20240908T172556Z
UID:12154-1729339200-1729375200@theconnection.ws
SUMMARY:Private Event
DESCRIPTION:See Pastor Robson for details.  This is a wedding ceremony.
URL:https://theconnection.ws/event/private-event-5/
LOCATION:Main Sanctuary
END:VEVENT
BEGIN:VEVENT
DTSTART;TZID=America/New_York:20241018T190000
DTEND;TZID=America/New_York:20241018T203000
DTSTAMP:20260419T234348
CREATED:20240903T223631Z
LAST-MODIFIED:20240903T223631Z
UID:11493-1729278000-1729283400@theconnection.ws
SUMMARY:Worship Night
DESCRIPTION:This event will be held in the main sanctuary.  Please see Doug Fentiman for details.
URL:https://theconnection.ws/event/worship-night-2/2024-10-18/
LOCATION:Main Sanctuary
END:VEVENT
BEGIN:VEVENT
DTSTART;TZID=America/New_York:20241016T183000
DTEND;TZID=America/New_York:20241016T203000
DTSTAMP:20260419T234348
CREATED:20240903T230439Z
LAST-MODIFIED:20240903T230439Z
UID:11913-1729103400-1729110600@theconnection.ws
SUMMARY:Hspc Prayer Service
DESCRIPTION:This event is held in the Fellowship Hall.  Please see Pastor Robson for details. \n 
URL:https://theconnection.ws/event/hspc-prayer-service/2024-10-16/
END:VEVENT
BEGIN:VEVENT
DTSTART;TZID=America/New_York:20241016T183000
DTEND;TZID=America/New_York:20241016T203000
DTSTAMP:20260419T234348
CREATED:20240903T225940Z
LAST-MODIFIED:20240903T225940Z
UID:11905-1729103400-1729110600@theconnection.ws
SUMMARY:Women's Connect Group
DESCRIPTION:See Joetta Beaver for details.  Event will be held in the Main Sanctuary.
URL:https://theconnection.ws/event/womens-connect-group/2024-10-16/
LOCATION:Main Sanctuary
END:VEVENT
BEGIN:VEVENT
DTSTART;TZID=America/New_York:20241016T183000
DTEND;TZID=America/New_York:20241016T203000
DTSTAMP:20260419T234348
CREATED:20171031T011231Z
LAST-MODIFIED:20171031T011231Z
UID:12737-1729103400-1729110600@theconnection.ws
SUMMARY:Hspc Prayer Service
DESCRIPTION:Will meet in the Fellowship Hall.  See Pastor Robson for details.
URL:https://theconnection.ws/event/630-hspc-prayer-service-2021-01-06/2024-10-16/
END:VEVENT
BEGIN:VEVENT
DTSTART;TZID=America/New_York:20241013T150000
DTEND;TZID=America/New_York:20241013T170000
DTSTAMP:20260419T234348
CREATED:20171030T032015Z
LAST-MODIFIED:20250226T231820Z
UID:9707-1728831600-1728838800@theconnection.ws
SUMMARY:Hspc Service
DESCRIPTION:Our Hispanic Service meets in the Main Sanctuary.
URL:https://theconnection.ws/event/300-hspc-service/2024-10-13/
END:VEVENT
BEGIN:VEVENT
DTSTART;TZID=America/New_York:20241013T100000
DTEND;TZID=America/New_York:20241013T113000
DTSTAMP:20260419T234348
CREATED:20171028T045217Z
LAST-MODIFIED:20250226T231340Z
UID:9706-1728813600-1728819000@theconnection.ws
SUMMARY:Sunday Morning Service
DESCRIPTION:Come worship with us.  Expect a time of singing\, prayer\, and hearing a message from God’s Word!  We look forward to seeing you! \nWill meet in the Main Sanctuary.
URL:https://theconnection.ws/event/sunday-worship-service/2024-10-13/
END:VEVENT
BEGIN:VEVENT
DTSTART;TZID=America/New_York:20241009T183000
DTEND;TZID=America/New_York:20241009T203000
DTSTAMP:20260419T234348
CREATED:20240903T230439Z
LAST-MODIFIED:20240903T230439Z
UID:11912-1728498600-1728505800@theconnection.ws
SUMMARY:Hspc Prayer Service
DESCRIPTION:This event is held in the Fellowship Hall.  Please see Pastor Robson for details. \n 
URL:https://theconnection.ws/event/hspc-prayer-service/2024-10-09/
END:VEVENT
BEGIN:VEVENT
DTSTART;TZID=America/New_York:20241009T183000
DTEND;TZID=America/New_York:20241009T203000
DTSTAMP:20260419T234348
CREATED:20240903T225940Z
LAST-MODIFIED:20240903T225940Z
UID:11904-1728498600-1728505800@theconnection.ws
SUMMARY:Women's Connect Group
DESCRIPTION:See Joetta Beaver for details.  Event will be held in the Main Sanctuary.
URL:https://theconnection.ws/event/womens-connect-group/2024-10-09/
LOCATION:Main Sanctuary
END:VEVENT
BEGIN:VEVENT
DTSTART;TZID=America/New_York:20241009T183000
DTEND;TZID=America/New_York:20241009T203000
DTSTAMP:20260419T234348
CREATED:20171031T011231Z
LAST-MODIFIED:20171031T011231Z
UID:12736-1728498600-1728505800@theconnection.ws
SUMMARY:Hspc Prayer Service
DESCRIPTION:Will meet in the Fellowship Hall.  See Pastor Robson for details.
URL:https://theconnection.ws/event/630-hspc-prayer-service-2021-01-06/2024-10-09/
END:VEVENT
BEGIN:VEVENT
DTSTART;TZID=America/New_York:20241006T150000
DTEND;TZID=America/New_York:20241006T170000
DTSTAMP:20260419T234348
CREATED:20171030T032015Z
LAST-MODIFIED:20250226T231819Z
UID:9682-1728226800-1728234000@theconnection.ws
SUMMARY:Hspc Service
DESCRIPTION:Our Hispanic Service meets in the Main Sanctuary.
URL:https://theconnection.ws/event/300-hspc-service/2024-10-06/
END:VEVENT
BEGIN:VEVENT
DTSTART;TZID=America/New_York:20241006T100000
DTEND;TZID=America/New_York:20241006T113000
DTSTAMP:20260419T234348
CREATED:20171028T045217Z
LAST-MODIFIED:20250226T231340Z
UID:9681-1728208800-1728214200@theconnection.ws
SUMMARY:Sunday Morning Service
DESCRIPTION:Come worship with us.  Expect a time of singing\, prayer\, and hearing a message from God’s Word!  We look forward to seeing you! \nWill meet in the Main Sanctuary.
URL:https://theconnection.ws/event/sunday-worship-service/2024-10-06/
END:VEVENT
BEGIN:VEVENT
DTSTART;TZID=America/New_York:20241003T190000
DTEND;TZID=America/New_York:20241003T203000
DTSTAMP:20260419T234348
CREATED:20240903T225526Z
LAST-MODIFIED:20240903T231101Z
UID:11897-1727982000-1727987400@theconnection.ws
SUMMARY:Men's Connect Group
DESCRIPTION:See John Ellas for details.
URL:https://theconnection.ws/event/mens-connect-group-2024-09-12/2024-10-03/
LOCATION:Main Sanctuary
END:VEVENT
BEGIN:VEVENT
DTSTART;TZID=America/New_York:20241002T183000
DTEND;TZID=America/New_York:20241002T203000
DTSTAMP:20260419T234348
CREATED:20240903T230439Z
LAST-MODIFIED:20240903T230439Z
UID:11911-1727893800-1727901000@theconnection.ws
SUMMARY:Hspc Prayer Service
DESCRIPTION:This event is held in the Fellowship Hall.  Please see Pastor Robson for details. \n 
URL:https://theconnection.ws/event/hspc-prayer-service/2024-10-02/
END:VEVENT
BEGIN:VEVENT
DTSTART;TZID=America/New_York:20241002T183000
DTEND;TZID=America/New_York:20241002T203000
DTSTAMP:20260419T234348
CREATED:20240903T225940Z
LAST-MODIFIED:20240903T225940Z
UID:11903-1727893800-1727901000@theconnection.ws
SUMMARY:Women's Connect Group
DESCRIPTION:See Joetta Beaver for details.  Event will be held in the Main Sanctuary.
URL:https://theconnection.ws/event/womens-connect-group/2024-10-02/
LOCATION:Main Sanctuary
END:VEVENT
BEGIN:VEVENT
DTSTART;TZID=America/New_York:20241002T183000
DTEND;TZID=America/New_York:20241002T203000
DTSTAMP:20260419T234348
CREATED:20171031T011231Z
LAST-MODIFIED:20171031T011231Z
UID:12735-1727893800-1727901000@theconnection.ws
SUMMARY:Hspc Prayer Service
DESCRIPTION:Will meet in the Fellowship Hall.  See Pastor Robson for details.
URL:https://theconnection.ws/event/630-hspc-prayer-service-2021-01-06/2024-10-02/
END:VEVENT
BEGIN:VEVENT
DTSTART;TZID=America/New_York:20240929T150000
DTEND;TZID=America/New_York:20240929T170000
DTSTAMP:20260419T234348
CREATED:20171030T032015Z
LAST-MODIFIED:20250226T231818Z
UID:9565-1727622000-1727629200@theconnection.ws
SUMMARY:Hspc Service
DESCRIPTION:Our Hispanic Service meets in the Main Sanctuary.
URL:https://theconnection.ws/event/300-hspc-service/2024-09-29/
END:VEVENT
BEGIN:VEVENT
DTSTART;TZID=America/New_York:20240929T100000
DTEND;TZID=America/New_York:20240929T113000
DTSTAMP:20260419T234348
CREATED:20171028T045217Z
LAST-MODIFIED:20250226T231340Z
UID:9564-1727604000-1727609400@theconnection.ws
SUMMARY:Sunday Morning Service
DESCRIPTION:Come worship with us.  Expect a time of singing\, prayer\, and hearing a message from God’s Word!  We look forward to seeing you! \nWill meet in the Main Sanctuary.
URL:https://theconnection.ws/event/sunday-worship-service/2024-09-29/
END:VEVENT
BEGIN:VEVENT
DTSTART;TZID=America/New_York:20240927T190000
DTEND;TZID=America/New_York:20240927T230000
DTSTAMP:20260419T234348
CREATED:20240903T223036Z
LAST-MODIFIED:20240903T223036Z
UID:11487-1727463600-1727478000@theconnection.ws
SUMMARY:HSPC Prayer Vigil 7-11pm
DESCRIPTION:This event will be held in the Fellowship Hall.  See Pastor Robson for details.
URL:https://theconnection.ws/event/hspc-prayer-vigil-7-11pm/
LOCATION:Fellowship Hall
END:VEVENT
BEGIN:VEVENT
DTSTART;TZID=America/New_York:20240926T190000
DTEND;TZID=America/New_York:20240926T203000
DTSTAMP:20260419T234348
CREATED:20240903T225526Z
LAST-MODIFIED:20240903T231100Z
UID:11896-1727377200-1727382600@theconnection.ws
SUMMARY:Men's Connect Group
DESCRIPTION:See John Ellas for details.
URL:https://theconnection.ws/event/mens-connect-group-2024-09-12/2024-09-26/
LOCATION:Main Sanctuary
END:VEVENT
BEGIN:VEVENT
DTSTART;TZID=America/New_York:20240925T183000
DTEND;TZID=America/New_York:20240925T203000
DTSTAMP:20260419T234348
CREATED:20240903T230439Z
LAST-MODIFIED:20240903T230439Z
UID:11910-1727289000-1727296200@theconnection.ws
SUMMARY:Hspc Prayer Service
DESCRIPTION:This event is held in the Fellowship Hall.  Please see Pastor Robson for details. \n 
URL:https://theconnection.ws/event/hspc-prayer-service/2024-09-25/
END:VEVENT
BEGIN:VEVENT
DTSTART;TZID=America/New_York:20240925T183000
DTEND;TZID=America/New_York:20240925T203000
DTSTAMP:20260419T234348
CREATED:20240903T225940Z
LAST-MODIFIED:20240903T225940Z
UID:11902-1727289000-1727296200@theconnection.ws
SUMMARY:Women's Connect Group
DESCRIPTION:See Joetta Beaver for details.  Event will be held in the Main Sanctuary.
URL:https://theconnection.ws/event/womens-connect-group/2024-09-25/
LOCATION:Main Sanctuary
END:VEVENT
BEGIN:VEVENT
DTSTART;TZID=America/New_York:20240925T183000
DTEND;TZID=America/New_York:20240925T203000
DTSTAMP:20260419T234348
CREATED:20171031T011231Z
LAST-MODIFIED:20171031T011231Z
UID:12734-1727289000-1727296200@theconnection.ws
SUMMARY:Hspc Prayer Service
DESCRIPTION:Will meet in the Fellowship Hall.  See Pastor Robson for details.
URL:https://theconnection.ws/event/630-hspc-prayer-service-2021-01-06/2024-09-25/
END:VEVENT
BEGIN:VEVENT
DTSTART;TZID=America/New_York:20240922T150000
DTEND;TZID=America/New_York:20240922T170000
DTSTAMP:20260419T234348
CREATED:20171030T032015Z
LAST-MODIFIED:20250226T231818Z
UID:9555-1727017200-1727024400@theconnection.ws
SUMMARY:Hspc Service
DESCRIPTION:Our Hispanic Service meets in the Main Sanctuary.
URL:https://theconnection.ws/event/300-hspc-service/2024-09-22/
END:VEVENT
END:VCALENDAR