BEGIN:VCALENDAR
VERSION:2.0
PRODID:-//The Connection Church - ECPv6.5.1.5//NONSGML v1.0//EN
CALSCALE:GREGORIAN
METHOD:PUBLISH
X-WR-CALNAME:The Connection Church
X-ORIGINAL-URL:https://theconnection.ws
X-WR-CALDESC:Events for The Connection Church
REFRESH-INTERVAL;VALUE=DURATION:PT1H
X-Robots-Tag:noindex
X-PUBLISHED-TTL:PT1H
BEGIN:VTIMEZONE
TZID:America/New_York
BEGIN:DAYLIGHT
TZOFFSETFROM:-0500
TZOFFSETTO:-0400
TZNAME:EDT
DTSTART:20270314T070000
END:DAYLIGHT
BEGIN:STANDARD
TZOFFSETFROM:-0400
TZOFFSETTO:-0500
TZNAME:EST
DTSTART:20271107T060000
END:STANDARD
END:VTIMEZONE
BEGIN:VEVENT
DTSTART;TZID=America/New_York:20270618T190000
DTEND;TZID=America/New_York:20270618T203000
DTSTAMP:20260420T020819
CREATED:20240903T223631Z
LAST-MODIFIED:20240903T223631Z
UID:13481-1813345200-1813350600@theconnection.ws
SUMMARY:Worship Night
DESCRIPTION:This event will be held in the main sanctuary.  Please see Doug Fentiman for details.
URL:https://theconnection.ws/event/worship-night-2/2027-06-18/
LOCATION:Main Sanctuary
END:VEVENT
BEGIN:VEVENT
DTSTART;TZID=America/New_York:20270620T100000
DTEND;TZID=America/New_York:20270620T113000
DTSTAMP:20260420T020819
CREATED:20171028T045217Z
LAST-MODIFIED:20171028T045217Z
UID:13482-1813485600-1813491000@theconnection.ws
SUMMARY:Sunday Morning Service
DESCRIPTION:Come worship with us.  Expect a time of singing\, prayer\, and hearing a message from God’s Word!  We look forward to seeing you! \nWill meet in the Main Sanctuary.
URL:https://theconnection.ws/event/sunday-worship-service/2027-06-20/
END:VEVENT
BEGIN:VEVENT
DTSTART;TZID=America/New_York:20270620T150000
DTEND;TZID=America/New_York:20270620T170000
DTSTAMP:20260420T020819
CREATED:20171030T032015Z
LAST-MODIFIED:20171030T032015Z
UID:13483-1813503600-1813510800@theconnection.ws
SUMMARY:Hspc Service
DESCRIPTION:Our Hispanic Service meets in the Main Sanctuary.
URL:https://theconnection.ws/event/300-hspc-service/2027-06-20/
END:VEVENT
BEGIN:VEVENT
DTSTART;TZID=America/New_York:20270623T183000
DTEND;TZID=America/New_York:20270623T200000
DTSTAMP:20260420T020819
CREATED:20171030T033600Z
LAST-MODIFIED:20171030T033600Z
UID:13485-1813775400-1813780800@theconnection.ws
SUMMARY:Women's Connect Group
DESCRIPTION:Will meet in the back of the sanctuary unless announced otherwise.
URL:https://theconnection.ws/event/700pm-womans-connect-group-2021-01-06/2027-06-23/
END:VEVENT
BEGIN:VEVENT
DTSTART;TZID=America/New_York:20270623T183000
DTEND;TZID=America/New_York:20270623T203000
DTSTAMP:20260420T020819
CREATED:20171031T011231Z
LAST-MODIFIED:20171031T011231Z
UID:13484-1813775400-1813782600@theconnection.ws
SUMMARY:Hspc Prayer Service
DESCRIPTION:Will meet in the Fellowship Hall.  See Pastor Robson for details.
URL:https://theconnection.ws/event/630-hspc-prayer-service-2021-01-06/2027-06-23/
END:VEVENT
BEGIN:VEVENT
DTSTART;TZID=America/New_York:20270627T100000
DTEND;TZID=America/New_York:20270627T113000
DTSTAMP:20260420T020819
CREATED:20171028T045217Z
LAST-MODIFIED:20171028T045217Z
UID:13486-1814090400-1814095800@theconnection.ws
SUMMARY:Sunday Morning Service
DESCRIPTION:Come worship with us.  Expect a time of singing\, prayer\, and hearing a message from God’s Word!  We look forward to seeing you! \nWill meet in the Main Sanctuary.
URL:https://theconnection.ws/event/sunday-worship-service/2027-06-27/
END:VEVENT
BEGIN:VEVENT
DTSTART;TZID=America/New_York:20270627T150000
DTEND;TZID=America/New_York:20270627T170000
DTSTAMP:20260420T020819
CREATED:20171030T032015Z
LAST-MODIFIED:20171030T032015Z
UID:13487-1814108400-1814115600@theconnection.ws
SUMMARY:Hspc Service
DESCRIPTION:Our Hispanic Service meets in the Main Sanctuary.
URL:https://theconnection.ws/event/300-hspc-service/2027-06-27/
END:VEVENT
BEGIN:VEVENT
DTSTART;TZID=America/New_York:20270630T183000
DTEND;TZID=America/New_York:20270630T200000
DTSTAMP:20260420T020819
CREATED:20171030T033600Z
LAST-MODIFIED:20171030T033600Z
UID:13489-1814380200-1814385600@theconnection.ws
SUMMARY:Women's Connect Group
DESCRIPTION:Will meet in the back of the sanctuary unless announced otherwise.
URL:https://theconnection.ws/event/700pm-womans-connect-group-2021-01-06/2027-06-30/
END:VEVENT
BEGIN:VEVENT
DTSTART;TZID=America/New_York:20270630T183000
DTEND;TZID=America/New_York:20270630T203000
DTSTAMP:20260420T020819
CREATED:20171031T011231Z
LAST-MODIFIED:20171031T011231Z
UID:13488-1814380200-1814387400@theconnection.ws
SUMMARY:Hspc Prayer Service
DESCRIPTION:Will meet in the Fellowship Hall.  See Pastor Robson for details.
URL:https://theconnection.ws/event/630-hspc-prayer-service-2021-01-06/2027-06-30/
END:VEVENT
BEGIN:VEVENT
DTSTART;TZID=America/New_York:20270704T100000
DTEND;TZID=America/New_York:20270704T113000
DTSTAMP:20260420T020819
CREATED:20171028T045217Z
LAST-MODIFIED:20171028T045217Z
UID:13493-1814695200-1814700600@theconnection.ws
SUMMARY:Sunday Morning Service
DESCRIPTION:Come worship with us.  Expect a time of singing\, prayer\, and hearing a message from God’s Word!  We look forward to seeing you! \nWill meet in the Main Sanctuary.
URL:https://theconnection.ws/event/sunday-worship-service/2027-07-04/
END:VEVENT
BEGIN:VEVENT
DTSTART;TZID=America/New_York:20270704T150000
DTEND;TZID=America/New_York:20270704T170000
DTSTAMP:20260420T020819
CREATED:20171030T032015Z
LAST-MODIFIED:20171030T032015Z
UID:13494-1814713200-1814720400@theconnection.ws
SUMMARY:Hspc Service
DESCRIPTION:Our Hispanic Service meets in the Main Sanctuary.
URL:https://theconnection.ws/event/300-hspc-service/2027-07-04/
END:VEVENT
BEGIN:VEVENT
DTSTART;TZID=America/New_York:20270707T183000
DTEND;TZID=America/New_York:20270707T200000
DTSTAMP:20260420T020819
CREATED:20171030T033600Z
LAST-MODIFIED:20171030T033600Z
UID:13496-1814985000-1814990400@theconnection.ws
SUMMARY:Women's Connect Group
DESCRIPTION:Will meet in the back of the sanctuary unless announced otherwise.
URL:https://theconnection.ws/event/700pm-womans-connect-group-2021-01-06/2027-07-07/
END:VEVENT
BEGIN:VEVENT
DTSTART;TZID=America/New_York:20270707T183000
DTEND;TZID=America/New_York:20270707T203000
DTSTAMP:20260420T020819
CREATED:20171031T011231Z
LAST-MODIFIED:20171031T011231Z
UID:13495-1814985000-1814992200@theconnection.ws
SUMMARY:Hspc Prayer Service
DESCRIPTION:Will meet in the Fellowship Hall.  See Pastor Robson for details.
URL:https://theconnection.ws/event/630-hspc-prayer-service-2021-01-06/2027-07-07/
END:VEVENT
BEGIN:VEVENT
DTSTART;TZID=America/New_York:20270711T100000
DTEND;TZID=America/New_York:20270711T113000
DTSTAMP:20260420T020819
CREATED:20171028T045217Z
LAST-MODIFIED:20171028T045217Z
UID:13497-1815300000-1815305400@theconnection.ws
SUMMARY:Sunday Morning Service
DESCRIPTION:Come worship with us.  Expect a time of singing\, prayer\, and hearing a message from God’s Word!  We look forward to seeing you! \nWill meet in the Main Sanctuary.
URL:https://theconnection.ws/event/sunday-worship-service/2027-07-11/
END:VEVENT
BEGIN:VEVENT
DTSTART;TZID=America/New_York:20270711T150000
DTEND;TZID=America/New_York:20270711T170000
DTSTAMP:20260420T020819
CREATED:20171030T032015Z
LAST-MODIFIED:20171030T032015Z
UID:13498-1815318000-1815325200@theconnection.ws
SUMMARY:Hspc Service
DESCRIPTION:Our Hispanic Service meets in the Main Sanctuary.
URL:https://theconnection.ws/event/300-hspc-service/2027-07-11/
END:VEVENT
BEGIN:VEVENT
DTSTART;TZID=America/New_York:20270714T183000
DTEND;TZID=America/New_York:20270714T200000
DTSTAMP:20260420T020819
CREATED:20171030T033600Z
LAST-MODIFIED:20171030T033600Z
UID:13500-1815589800-1815595200@theconnection.ws
SUMMARY:Women's Connect Group
DESCRIPTION:Will meet in the back of the sanctuary unless announced otherwise.
URL:https://theconnection.ws/event/700pm-womans-connect-group-2021-01-06/2027-07-14/
END:VEVENT
BEGIN:VEVENT
DTSTART;TZID=America/New_York:20270714T183000
DTEND;TZID=America/New_York:20270714T203000
DTSTAMP:20260420T020819
CREATED:20171031T011231Z
LAST-MODIFIED:20171031T011231Z
UID:13499-1815589800-1815597000@theconnection.ws
SUMMARY:Hspc Prayer Service
DESCRIPTION:Will meet in the Fellowship Hall.  See Pastor Robson for details.
URL:https://theconnection.ws/event/630-hspc-prayer-service-2021-01-06/2027-07-14/
END:VEVENT
BEGIN:VEVENT
DTSTART;TZID=America/New_York:20270716T190000
DTEND;TZID=America/New_York:20270716T203000
DTSTAMP:20260420T020819
CREATED:20240903T223631Z
LAST-MODIFIED:20240903T223631Z
UID:13501-1815764400-1815769800@theconnection.ws
SUMMARY:Worship Night
DESCRIPTION:This event will be held in the main sanctuary.  Please see Doug Fentiman for details.
URL:https://theconnection.ws/event/worship-night-2/2027-07-16/
LOCATION:Main Sanctuary
END:VEVENT
BEGIN:VEVENT
DTSTART;TZID=America/New_York:20270718T100000
DTEND;TZID=America/New_York:20270718T113000
DTSTAMP:20260420T020819
CREATED:20171028T045217Z
LAST-MODIFIED:20171028T045217Z
UID:13502-1815904800-1815910200@theconnection.ws
SUMMARY:Sunday Morning Service
DESCRIPTION:Come worship with us.  Expect a time of singing\, prayer\, and hearing a message from God’s Word!  We look forward to seeing you! \nWill meet in the Main Sanctuary.
URL:https://theconnection.ws/event/sunday-worship-service/2027-07-18/
END:VEVENT
BEGIN:VEVENT
DTSTART;TZID=America/New_York:20270718T150000
DTEND;TZID=America/New_York:20270718T170000
DTSTAMP:20260420T020819
CREATED:20171030T032015Z
LAST-MODIFIED:20171030T032015Z
UID:13503-1815922800-1815930000@theconnection.ws
SUMMARY:Hspc Service
DESCRIPTION:Our Hispanic Service meets in the Main Sanctuary.
URL:https://theconnection.ws/event/300-hspc-service/2027-07-18/
END:VEVENT
BEGIN:VEVENT
DTSTART;TZID=America/New_York:20270721T183000
DTEND;TZID=America/New_York:20270721T200000
DTSTAMP:20260420T020819
CREATED:20171030T033600Z
LAST-MODIFIED:20171030T033600Z
UID:13505-1816194600-1816200000@theconnection.ws
SUMMARY:Women's Connect Group
DESCRIPTION:Will meet in the back of the sanctuary unless announced otherwise.
URL:https://theconnection.ws/event/700pm-womans-connect-group-2021-01-06/2027-07-21/
END:VEVENT
BEGIN:VEVENT
DTSTART;TZID=America/New_York:20270721T183000
DTEND;TZID=America/New_York:20270721T203000
DTSTAMP:20260420T020819
CREATED:20171031T011231Z
LAST-MODIFIED:20171031T011231Z
UID:13504-1816194600-1816201800@theconnection.ws
SUMMARY:Hspc Prayer Service
DESCRIPTION:Will meet in the Fellowship Hall.  See Pastor Robson for details.
URL:https://theconnection.ws/event/630-hspc-prayer-service-2021-01-06/2027-07-21/
END:VEVENT
BEGIN:VEVENT
DTSTART;TZID=America/New_York:20270725T100000
DTEND;TZID=America/New_York:20270725T113000
DTSTAMP:20260420T020819
CREATED:20171028T045217Z
LAST-MODIFIED:20171028T045217Z
UID:13506-1816509600-1816515000@theconnection.ws
SUMMARY:Sunday Morning Service
DESCRIPTION:Come worship with us.  Expect a time of singing\, prayer\, and hearing a message from God’s Word!  We look forward to seeing you! \nWill meet in the Main Sanctuary.
URL:https://theconnection.ws/event/sunday-worship-service/2027-07-25/
END:VEVENT
BEGIN:VEVENT
DTSTART;TZID=America/New_York:20270725T150000
DTEND;TZID=America/New_York:20270725T170000
DTSTAMP:20260420T020819
CREATED:20171030T032015Z
LAST-MODIFIED:20171030T032015Z
UID:13507-1816527600-1816534800@theconnection.ws
SUMMARY:Hspc Service
DESCRIPTION:Our Hispanic Service meets in the Main Sanctuary.
URL:https://theconnection.ws/event/300-hspc-service/2027-07-25/
END:VEVENT
BEGIN:VEVENT
DTSTART;TZID=America/New_York:20270728T183000
DTEND;TZID=America/New_York:20270728T200000
DTSTAMP:20260420T020819
CREATED:20171030T033600Z
LAST-MODIFIED:20171030T033600Z
UID:13509-1816799400-1816804800@theconnection.ws
SUMMARY:Women's Connect Group
DESCRIPTION:Will meet in the back of the sanctuary unless announced otherwise.
URL:https://theconnection.ws/event/700pm-womans-connect-group-2021-01-06/2027-07-28/
END:VEVENT
BEGIN:VEVENT
DTSTART;TZID=America/New_York:20270728T183000
DTEND;TZID=America/New_York:20270728T203000
DTSTAMP:20260420T020819
CREATED:20171031T011231Z
LAST-MODIFIED:20171031T011231Z
UID:13508-1816799400-1816806600@theconnection.ws
SUMMARY:Hspc Prayer Service
DESCRIPTION:Will meet in the Fellowship Hall.  See Pastor Robson for details.
URL:https://theconnection.ws/event/630-hspc-prayer-service-2021-01-06/2027-07-28/
END:VEVENT
BEGIN:VEVENT
DTSTART;TZID=America/New_York:20270801T100000
DTEND;TZID=America/New_York:20270801T113000
DTSTAMP:20260420T020819
CREATED:20171028T045217Z
LAST-MODIFIED:20171028T045217Z
UID:13510-1817114400-1817119800@theconnection.ws
SUMMARY:Sunday Morning Service
DESCRIPTION:Come worship with us.  Expect a time of singing\, prayer\, and hearing a message from God’s Word!  We look forward to seeing you! \nWill meet in the Main Sanctuary.
URL:https://theconnection.ws/event/sunday-worship-service/2027-08-01/
END:VEVENT
BEGIN:VEVENT
DTSTART;TZID=America/New_York:20270801T150000
DTEND;TZID=America/New_York:20270801T170000
DTSTAMP:20260420T020819
CREATED:20171030T032015Z
LAST-MODIFIED:20171030T032015Z
UID:13511-1817132400-1817139600@theconnection.ws
SUMMARY:Hspc Service
DESCRIPTION:Our Hispanic Service meets in the Main Sanctuary.
URL:https://theconnection.ws/event/300-hspc-service/2027-08-01/
END:VEVENT
BEGIN:VEVENT
DTSTART;TZID=America/New_York:20270804T183000
DTEND;TZID=America/New_York:20270804T200000
DTSTAMP:20260420T020819
CREATED:20171030T033600Z
LAST-MODIFIED:20171030T033600Z
UID:13513-1817404200-1817409600@theconnection.ws
SUMMARY:Women's Connect Group
DESCRIPTION:Will meet in the back of the sanctuary unless announced otherwise.
URL:https://theconnection.ws/event/700pm-womans-connect-group-2021-01-06/2027-08-04/
END:VEVENT
BEGIN:VEVENT
DTSTART;TZID=America/New_York:20270804T183000
DTEND;TZID=America/New_York:20270804T203000
DTSTAMP:20260420T020819
CREATED:20171031T011231Z
LAST-MODIFIED:20171031T011231Z
UID:13512-1817404200-1817411400@theconnection.ws
SUMMARY:Hspc Prayer Service
DESCRIPTION:Will meet in the Fellowship Hall.  See Pastor Robson for details.
URL:https://theconnection.ws/event/630-hspc-prayer-service-2021-01-06/2027-08-04/
END:VEVENT
END:VCALENDAR