BEGIN:VCALENDAR
VERSION:2.0
PRODID:-//The Connection Church - ECPv6.5.1.5//NONSGML v1.0//EN
CALSCALE:GREGORIAN
METHOD:PUBLISH
X-ORIGINAL-URL:https://theconnection.ws
X-WR-CALDESC:Events for The Connection Church
REFRESH-INTERVAL;VALUE=DURATION:PT1H
X-Robots-Tag:noindex
X-PUBLISHED-TTL:PT1H
BEGIN:VTIMEZONE
TZID:America/New_York
BEGIN:DAYLIGHT
TZOFFSETFROM:-0500
TZOFFSETTO:-0400
TZNAME:EDT
DTSTART:20270314T070000
END:DAYLIGHT
BEGIN:STANDARD
TZOFFSETFROM:-0400
TZOFFSETTO:-0500
TZNAME:EST
DTSTART:20271107T060000
END:STANDARD
END:VTIMEZONE
BEGIN:VEVENT
DTSTART;TZID=America/New_York:20270808T100000
DTEND;TZID=America/New_York:20270808T113000
DTSTAMP:20260420T014318
CREATED:20171028T045217Z
LAST-MODIFIED:20171028T045217Z
UID:13515-1817719200-1817724600@theconnection.ws
SUMMARY:Sunday Morning Service
DESCRIPTION:Come worship with us.  Expect a time of singing\, prayer\, and hearing a message from God’s Word!  We look forward to seeing you! \nWill meet in the Main Sanctuary.
URL:https://theconnection.ws/event/sunday-worship-service/2027-08-08/
END:VEVENT
BEGIN:VEVENT
DTSTART;TZID=America/New_York:20270808T150000
DTEND;TZID=America/New_York:20270808T170000
DTSTAMP:20260420T014318
CREATED:20171030T032015Z
LAST-MODIFIED:20171030T032015Z
UID:13516-1817737200-1817744400@theconnection.ws
SUMMARY:Hspc Service
DESCRIPTION:Our Hispanic Service meets in the Main Sanctuary.
URL:https://theconnection.ws/event/300-hspc-service/2027-08-08/
END:VEVENT
BEGIN:VEVENT
DTSTART;TZID=America/New_York:20270811T183000
DTEND;TZID=America/New_York:20270811T200000
DTSTAMP:20260420T014318
CREATED:20171030T033600Z
LAST-MODIFIED:20171030T033600Z
UID:13518-1818009000-1818014400@theconnection.ws
SUMMARY:Women's Connect Group
DESCRIPTION:Will meet in the back of the sanctuary unless announced otherwise.
URL:https://theconnection.ws/event/700pm-womans-connect-group-2021-01-06/2027-08-11/
END:VEVENT
BEGIN:VEVENT
DTSTART;TZID=America/New_York:20270811T183000
DTEND;TZID=America/New_York:20270811T203000
DTSTAMP:20260420T014318
CREATED:20171031T011231Z
LAST-MODIFIED:20171031T011231Z
UID:13517-1818009000-1818016200@theconnection.ws
SUMMARY:Hspc Prayer Service
DESCRIPTION:Will meet in the Fellowship Hall.  See Pastor Robson for details.
URL:https://theconnection.ws/event/630-hspc-prayer-service-2021-01-06/2027-08-11/
END:VEVENT
BEGIN:VEVENT
DTSTART;TZID=America/New_York:20270815T100000
DTEND;TZID=America/New_York:20270815T113000
DTSTAMP:20260420T014318
CREATED:20171028T045217Z
LAST-MODIFIED:20171028T045217Z
UID:13519-1818324000-1818329400@theconnection.ws
SUMMARY:Sunday Morning Service
DESCRIPTION:Come worship with us.  Expect a time of singing\, prayer\, and hearing a message from God’s Word!  We look forward to seeing you! \nWill meet in the Main Sanctuary.
URL:https://theconnection.ws/event/sunday-worship-service/2027-08-15/
END:VEVENT
BEGIN:VEVENT
DTSTART;TZID=America/New_York:20270815T150000
DTEND;TZID=America/New_York:20270815T170000
DTSTAMP:20260420T014318
CREATED:20171030T032015Z
LAST-MODIFIED:20171030T032015Z
UID:13520-1818342000-1818349200@theconnection.ws
SUMMARY:Hspc Service
DESCRIPTION:Our Hispanic Service meets in the Main Sanctuary.
URL:https://theconnection.ws/event/300-hspc-service/2027-08-15/
END:VEVENT
BEGIN:VEVENT
DTSTART;TZID=America/New_York:20270818T183000
DTEND;TZID=America/New_York:20270818T200000
DTSTAMP:20260420T014318
CREATED:20171030T033600Z
LAST-MODIFIED:20171030T033600Z
UID:13522-1818613800-1818619200@theconnection.ws
SUMMARY:Women's Connect Group
DESCRIPTION:Will meet in the back of the sanctuary unless announced otherwise.
URL:https://theconnection.ws/event/700pm-womans-connect-group-2021-01-06/2027-08-18/
END:VEVENT
BEGIN:VEVENT
DTSTART;TZID=America/New_York:20270818T183000
DTEND;TZID=America/New_York:20270818T203000
DTSTAMP:20260420T014318
CREATED:20171031T011231Z
LAST-MODIFIED:20171031T011231Z
UID:13521-1818613800-1818621000@theconnection.ws
SUMMARY:Hspc Prayer Service
DESCRIPTION:Will meet in the Fellowship Hall.  See Pastor Robson for details.
URL:https://theconnection.ws/event/630-hspc-prayer-service-2021-01-06/2027-08-18/
END:VEVENT
BEGIN:VEVENT
DTSTART;TZID=America/New_York:20270820T190000
DTEND;TZID=America/New_York:20270820T203000
DTSTAMP:20260420T014318
CREATED:20240903T223631Z
LAST-MODIFIED:20240903T223631Z
UID:13523-1818788400-1818793800@theconnection.ws
SUMMARY:Worship Night
DESCRIPTION:This event will be held in the main sanctuary.  Please see Doug Fentiman for details.
URL:https://theconnection.ws/event/worship-night-2/2027-08-20/
LOCATION:Main Sanctuary
END:VEVENT
BEGIN:VEVENT
DTSTART;TZID=America/New_York:20270822T100000
DTEND;TZID=America/New_York:20270822T113000
DTSTAMP:20260420T014318
CREATED:20171028T045217Z
LAST-MODIFIED:20171028T045217Z
UID:13524-1818928800-1818934200@theconnection.ws
SUMMARY:Sunday Morning Service
DESCRIPTION:Come worship with us.  Expect a time of singing\, prayer\, and hearing a message from God’s Word!  We look forward to seeing you! \nWill meet in the Main Sanctuary.
URL:https://theconnection.ws/event/sunday-worship-service/2027-08-22/
END:VEVENT
BEGIN:VEVENT
DTSTART;TZID=America/New_York:20270822T150000
DTEND;TZID=America/New_York:20270822T170000
DTSTAMP:20260420T014318
CREATED:20171030T032015Z
LAST-MODIFIED:20171030T032015Z
UID:13525-1818946800-1818954000@theconnection.ws
SUMMARY:Hspc Service
DESCRIPTION:Our Hispanic Service meets in the Main Sanctuary.
URL:https://theconnection.ws/event/300-hspc-service/2027-08-22/
END:VEVENT
BEGIN:VEVENT
DTSTART;TZID=America/New_York:20270825T183000
DTEND;TZID=America/New_York:20270825T200000
DTSTAMP:20260420T014318
CREATED:20171030T033600Z
LAST-MODIFIED:20171030T033600Z
UID:13527-1819218600-1819224000@theconnection.ws
SUMMARY:Women's Connect Group
DESCRIPTION:Will meet in the back of the sanctuary unless announced otherwise.
URL:https://theconnection.ws/event/700pm-womans-connect-group-2021-01-06/2027-08-25/
END:VEVENT
BEGIN:VEVENT
DTSTART;TZID=America/New_York:20270825T183000
DTEND;TZID=America/New_York:20270825T203000
DTSTAMP:20260420T014318
CREATED:20171031T011231Z
LAST-MODIFIED:20171031T011231Z
UID:13526-1819218600-1819225800@theconnection.ws
SUMMARY:Hspc Prayer Service
DESCRIPTION:Will meet in the Fellowship Hall.  See Pastor Robson for details.
URL:https://theconnection.ws/event/630-hspc-prayer-service-2021-01-06/2027-08-25/
END:VEVENT
BEGIN:VEVENT
DTSTART;TZID=America/New_York:20270829T100000
DTEND;TZID=America/New_York:20270829T113000
DTSTAMP:20260420T014318
CREATED:20171028T045217Z
LAST-MODIFIED:20171028T045217Z
UID:13528-1819533600-1819539000@theconnection.ws
SUMMARY:Sunday Morning Service
DESCRIPTION:Come worship with us.  Expect a time of singing\, prayer\, and hearing a message from God’s Word!  We look forward to seeing you! \nWill meet in the Main Sanctuary.
URL:https://theconnection.ws/event/sunday-worship-service/2027-08-29/
END:VEVENT
BEGIN:VEVENT
DTSTART;TZID=America/New_York:20270829T150000
DTEND;TZID=America/New_York:20270829T170000
DTSTAMP:20260420T014318
CREATED:20171030T032015Z
LAST-MODIFIED:20171030T032015Z
UID:13529-1819551600-1819558800@theconnection.ws
SUMMARY:Hspc Service
DESCRIPTION:Our Hispanic Service meets in the Main Sanctuary.
URL:https://theconnection.ws/event/300-hspc-service/2027-08-29/
END:VEVENT
BEGIN:VEVENT
DTSTART;TZID=America/New_York:20270901T183000
DTEND;TZID=America/New_York:20270901T200000
DTSTAMP:20260420T014318
CREATED:20171030T033600Z
LAST-MODIFIED:20171030T033600Z
UID:13531-1819823400-1819828800@theconnection.ws
SUMMARY:Women's Connect Group
DESCRIPTION:Will meet in the back of the sanctuary unless announced otherwise.
URL:https://theconnection.ws/event/700pm-womans-connect-group-2021-01-06/2027-09-01/
END:VEVENT
BEGIN:VEVENT
DTSTART;TZID=America/New_York:20270901T183000
DTEND;TZID=America/New_York:20270901T203000
DTSTAMP:20260420T014318
CREATED:20171031T011231Z
LAST-MODIFIED:20171031T011231Z
UID:13530-1819823400-1819830600@theconnection.ws
SUMMARY:Hspc Prayer Service
DESCRIPTION:Will meet in the Fellowship Hall.  See Pastor Robson for details.
URL:https://theconnection.ws/event/630-hspc-prayer-service-2021-01-06/2027-09-01/
END:VEVENT
BEGIN:VEVENT
DTSTART;TZID=America/New_York:20270905T100000
DTEND;TZID=America/New_York:20270905T113000
DTSTAMP:20260420T014318
CREATED:20171028T045217Z
LAST-MODIFIED:20171028T045217Z
UID:13532-1820138400-1820143800@theconnection.ws
SUMMARY:Sunday Morning Service
DESCRIPTION:Come worship with us.  Expect a time of singing\, prayer\, and hearing a message from God’s Word!  We look forward to seeing you! \nWill meet in the Main Sanctuary.
URL:https://theconnection.ws/event/sunday-worship-service/2027-09-05/
END:VEVENT
BEGIN:VEVENT
DTSTART;TZID=America/New_York:20270905T150000
DTEND;TZID=America/New_York:20270905T170000
DTSTAMP:20260420T014318
CREATED:20171030T032015Z
LAST-MODIFIED:20171030T032015Z
UID:13533-1820156400-1820163600@theconnection.ws
SUMMARY:Hspc Service
DESCRIPTION:Our Hispanic Service meets in the Main Sanctuary.
URL:https://theconnection.ws/event/300-hspc-service/2027-09-05/
END:VEVENT
BEGIN:VEVENT
DTSTART;TZID=America/New_York:20270908T183000
DTEND;TZID=America/New_York:20270908T200000
DTSTAMP:20260420T014318
CREATED:20171030T033600Z
LAST-MODIFIED:20171030T033600Z
UID:13535-1820428200-1820433600@theconnection.ws
SUMMARY:Women's Connect Group
DESCRIPTION:Will meet in the back of the sanctuary unless announced otherwise.
URL:https://theconnection.ws/event/700pm-womans-connect-group-2021-01-06/2027-09-08/
END:VEVENT
BEGIN:VEVENT
DTSTART;TZID=America/New_York:20270908T183000
DTEND;TZID=America/New_York:20270908T203000
DTSTAMP:20260420T014318
CREATED:20171031T011231Z
LAST-MODIFIED:20171031T011231Z
UID:13534-1820428200-1820435400@theconnection.ws
SUMMARY:Hspc Prayer Service
DESCRIPTION:Will meet in the Fellowship Hall.  See Pastor Robson for details.
URL:https://theconnection.ws/event/630-hspc-prayer-service-2021-01-06/2027-09-08/
END:VEVENT
BEGIN:VEVENT
DTSTART;TZID=America/New_York:20270912T100000
DTEND;TZID=America/New_York:20270912T113000
DTSTAMP:20260420T014318
CREATED:20171028T045217Z
LAST-MODIFIED:20171028T045217Z
UID:13536-1820743200-1820748600@theconnection.ws
SUMMARY:Sunday Morning Service
DESCRIPTION:Come worship with us.  Expect a time of singing\, prayer\, and hearing a message from God’s Word!  We look forward to seeing you! \nWill meet in the Main Sanctuary.
URL:https://theconnection.ws/event/sunday-worship-service/2027-09-12/
END:VEVENT
BEGIN:VEVENT
DTSTART;TZID=America/New_York:20270912T150000
DTEND;TZID=America/New_York:20270912T170000
DTSTAMP:20260420T014318
CREATED:20171030T032015Z
LAST-MODIFIED:20171030T032015Z
UID:13537-1820761200-1820768400@theconnection.ws
SUMMARY:Hspc Service
DESCRIPTION:Our Hispanic Service meets in the Main Sanctuary.
URL:https://theconnection.ws/event/300-hspc-service/2027-09-12/
END:VEVENT
BEGIN:VEVENT
DTSTART;TZID=America/New_York:20270915T183000
DTEND;TZID=America/New_York:20270915T200000
DTSTAMP:20260420T014318
CREATED:20171030T033600Z
LAST-MODIFIED:20171030T033600Z
UID:13539-1821033000-1821038400@theconnection.ws
SUMMARY:Women's Connect Group
DESCRIPTION:Will meet in the back of the sanctuary unless announced otherwise.
URL:https://theconnection.ws/event/700pm-womans-connect-group-2021-01-06/2027-09-15/
END:VEVENT
BEGIN:VEVENT
DTSTART;TZID=America/New_York:20270915T183000
DTEND;TZID=America/New_York:20270915T203000
DTSTAMP:20260420T014318
CREATED:20171031T011231Z
LAST-MODIFIED:20171031T011231Z
UID:13538-1821033000-1821040200@theconnection.ws
SUMMARY:Hspc Prayer Service
DESCRIPTION:Will meet in the Fellowship Hall.  See Pastor Robson for details.
URL:https://theconnection.ws/event/630-hspc-prayer-service-2021-01-06/2027-09-15/
END:VEVENT
BEGIN:VEVENT
DTSTART;TZID=America/New_York:20270917T190000
DTEND;TZID=America/New_York:20270917T203000
DTSTAMP:20260420T014318
CREATED:20240903T223631Z
LAST-MODIFIED:20240903T223631Z
UID:13540-1821207600-1821213000@theconnection.ws
SUMMARY:Worship Night
DESCRIPTION:This event will be held in the main sanctuary.  Please see Doug Fentiman for details.
URL:https://theconnection.ws/event/worship-night-2/2027-09-17/
LOCATION:Main Sanctuary
END:VEVENT
BEGIN:VEVENT
DTSTART;TZID=America/New_York:20270919T100000
DTEND;TZID=America/New_York:20270919T113000
DTSTAMP:20260420T014318
CREATED:20171028T045217Z
LAST-MODIFIED:20171028T045217Z
UID:13541-1821348000-1821353400@theconnection.ws
SUMMARY:Sunday Morning Service
DESCRIPTION:Come worship with us.  Expect a time of singing\, prayer\, and hearing a message from God’s Word!  We look forward to seeing you! \nWill meet in the Main Sanctuary.
URL:https://theconnection.ws/event/sunday-worship-service/2027-09-19/
END:VEVENT
BEGIN:VEVENT
DTSTART;TZID=America/New_York:20270919T150000
DTEND;TZID=America/New_York:20270919T170000
DTSTAMP:20260420T014318
CREATED:20171030T032015Z
LAST-MODIFIED:20171030T032015Z
UID:13542-1821366000-1821373200@theconnection.ws
SUMMARY:Hspc Service
DESCRIPTION:Our Hispanic Service meets in the Main Sanctuary.
URL:https://theconnection.ws/event/300-hspc-service/2027-09-19/
END:VEVENT
BEGIN:VEVENT
DTSTART;TZID=America/New_York:20270922T183000
DTEND;TZID=America/New_York:20270922T200000
DTSTAMP:20260420T014318
CREATED:20171030T033600Z
LAST-MODIFIED:20171030T033600Z
UID:13544-1821637800-1821643200@theconnection.ws
SUMMARY:Women's Connect Group
DESCRIPTION:Will meet in the back of the sanctuary unless announced otherwise.
URL:https://theconnection.ws/event/700pm-womans-connect-group-2021-01-06/2027-09-22/
END:VEVENT
BEGIN:VEVENT
DTSTART;TZID=America/New_York:20270922T183000
DTEND;TZID=America/New_York:20270922T203000
DTSTAMP:20260420T014318
CREATED:20171031T011231Z
LAST-MODIFIED:20171031T011231Z
UID:13543-1821637800-1821645000@theconnection.ws
SUMMARY:Hspc Prayer Service
DESCRIPTION:Will meet in the Fellowship Hall.  See Pastor Robson for details.
URL:https://theconnection.ws/event/630-hspc-prayer-service-2021-01-06/2027-09-22/
END:VEVENT
END:VCALENDAR