BEGIN:VCALENDAR
VERSION:2.0
PRODID:-//The Connection Church - ECPv6.5.1.5//NONSGML v1.0//EN
CALSCALE:GREGORIAN
METHOD:PUBLISH
X-WR-CALNAME:The Connection Church
X-ORIGINAL-URL:https://theconnection.ws
X-WR-CALDESC:Events for The Connection Church
REFRESH-INTERVAL;VALUE=DURATION:PT1H
X-Robots-Tag:noindex
X-PUBLISHED-TTL:PT1H
BEGIN:VTIMEZONE
TZID:America/New_York
BEGIN:DAYLIGHT
TZOFFSETFROM:-0500
TZOFFSETTO:-0400
TZNAME:EDT
DTSTART:20240310T070000
END:DAYLIGHT
BEGIN:STANDARD
TZOFFSETFROM:-0400
TZOFFSETTO:-0500
TZNAME:EST
DTSTART:20241103T060000
END:STANDARD
END:VTIMEZONE
BEGIN:VEVENT
DTSTART;TZID=America/New_York:20240821T183000
DTEND;TZID=America/New_York:20240821T203000
DTSTAMP:20260420T112435
CREATED:20171031T011231Z
LAST-MODIFIED:20171031T011231Z
UID:12729-1724265000-1724272200@theconnection.ws
SUMMARY:Hspc Prayer Service
DESCRIPTION:Will meet in the Fellowship Hall.  See Pastor Robson for details.
URL:https://theconnection.ws/event/630-hspc-prayer-service-2021-01-06/2024-08-21/
END:VEVENT
BEGIN:VEVENT
DTSTART;TZID=America/New_York:20240818T150000
DTEND;TZID=America/New_York:20240818T170000
DTSTAMP:20260420T112435
CREATED:20171030T032015Z
LAST-MODIFIED:20250226T231816Z
UID:9468-1723993200-1724000400@theconnection.ws
SUMMARY:Hspc Service
DESCRIPTION:Our Hispanic Service meets in the Main Sanctuary.
URL:https://theconnection.ws/event/300-hspc-service/2024-08-18/
END:VEVENT
BEGIN:VEVENT
DTSTART;TZID=America/New_York:20240818T100000
DTEND;TZID=America/New_York:20240818T113000
DTSTAMP:20260420T112435
CREATED:20171028T045217Z
LAST-MODIFIED:20250226T231337Z
UID:9467-1723975200-1723980600@theconnection.ws
SUMMARY:Sunday Morning Service
DESCRIPTION:Come worship with us.  Expect a time of singing\, prayer\, and hearing a message from God’s Word!  We look forward to seeing you! \nWill meet in the Main Sanctuary.
URL:https://theconnection.ws/event/sunday-worship-service/2024-08-18/
END:VEVENT
BEGIN:VEVENT
DTSTART;TZID=America/New_York:20240814T183000
DTEND;TZID=America/New_York:20240814T203000
DTSTAMP:20260420T112435
CREATED:20171031T011231Z
LAST-MODIFIED:20171031T011231Z
UID:12728-1723660200-1723667400@theconnection.ws
SUMMARY:Hspc Prayer Service
DESCRIPTION:Will meet in the Fellowship Hall.  See Pastor Robson for details.
URL:https://theconnection.ws/event/630-hspc-prayer-service-2021-01-06/2024-08-14/
END:VEVENT
BEGIN:VEVENT
DTSTART;TZID=America/New_York:20240811T150000
DTEND;TZID=America/New_York:20240811T170000
DTSTAMP:20260420T112435
CREATED:20171030T032015Z
LAST-MODIFIED:20250226T231815Z
UID:9443-1723388400-1723395600@theconnection.ws
SUMMARY:Hspc Service
DESCRIPTION:Our Hispanic Service meets in the Main Sanctuary.
URL:https://theconnection.ws/event/300-hspc-service/2024-08-11/
END:VEVENT
BEGIN:VEVENT
DTSTART;TZID=America/New_York:20240811T100000
DTEND;TZID=America/New_York:20240811T113000
DTSTAMP:20260420T112435
CREATED:20171028T045217Z
LAST-MODIFIED:20250226T231336Z
UID:9442-1723370400-1723375800@theconnection.ws
SUMMARY:Sunday Morning Service
DESCRIPTION:Come worship with us.  Expect a time of singing\, prayer\, and hearing a message from God’s Word!  We look forward to seeing you! \nWill meet in the Main Sanctuary.
URL:https://theconnection.ws/event/sunday-worship-service/2024-08-11/
END:VEVENT
BEGIN:VEVENT
DTSTART;TZID=America/New_York:20240807T183000
DTEND;TZID=America/New_York:20240807T203000
DTSTAMP:20260420T112435
CREATED:20171031T011231Z
LAST-MODIFIED:20171031T011231Z
UID:12727-1723055400-1723062600@theconnection.ws
SUMMARY:Hspc Prayer Service
DESCRIPTION:Will meet in the Fellowship Hall.  See Pastor Robson for details.
URL:https://theconnection.ws/event/630-hspc-prayer-service-2021-01-06/2024-08-07/
END:VEVENT
BEGIN:VEVENT
DTSTART;TZID=America/New_York:20240804T150000
DTEND;TZID=America/New_York:20240804T170000
DTSTAMP:20260420T112435
CREATED:20171030T032015Z
LAST-MODIFIED:20250226T231815Z
UID:9433-1722783600-1722790800@theconnection.ws
SUMMARY:Hspc Service
DESCRIPTION:Our Hispanic Service meets in the Main Sanctuary.
URL:https://theconnection.ws/event/300-hspc-service/2024-08-04/
END:VEVENT
BEGIN:VEVENT
DTSTART;TZID=America/New_York:20240804T100000
DTEND;TZID=America/New_York:20240804T113000
DTSTAMP:20260420T112435
CREATED:20171028T045217Z
LAST-MODIFIED:20250226T231336Z
UID:9432-1722765600-1722771000@theconnection.ws
SUMMARY:Sunday Morning Service
DESCRIPTION:Come worship with us.  Expect a time of singing\, prayer\, and hearing a message from God’s Word!  We look forward to seeing you! \nWill meet in the Main Sanctuary.
URL:https://theconnection.ws/event/sunday-worship-service/2024-08-04/
END:VEVENT
BEGIN:VEVENT
DTSTART;TZID=America/New_York:20240731T183000
DTEND;TZID=America/New_York:20240731T203000
DTSTAMP:20260420T112435
CREATED:20171031T011231Z
LAST-MODIFIED:20171031T011231Z
UID:12726-1722450600-1722457800@theconnection.ws
SUMMARY:Hspc Prayer Service
DESCRIPTION:Will meet in the Fellowship Hall.  See Pastor Robson for details.
URL:https://theconnection.ws/event/630-hspc-prayer-service-2021-01-06/2024-07-31/
END:VEVENT
BEGIN:VEVENT
DTSTART;TZID=America/New_York:20240728T150000
DTEND;TZID=America/New_York:20240728T170000
DTSTAMP:20260420T112435
CREATED:20171030T032015Z
LAST-MODIFIED:20250226T231815Z
UID:9423-1722178800-1722186000@theconnection.ws
SUMMARY:Hspc Service
DESCRIPTION:Our Hispanic Service meets in the Main Sanctuary.
URL:https://theconnection.ws/event/300-hspc-service/2024-07-28/
END:VEVENT
BEGIN:VEVENT
DTSTART;TZID=America/New_York:20240728T100000
DTEND;TZID=America/New_York:20240728T113000
DTSTAMP:20260420T112435
CREATED:20171028T045217Z
LAST-MODIFIED:20250226T231336Z
UID:9422-1722160800-1722166200@theconnection.ws
SUMMARY:Sunday Morning Service
DESCRIPTION:Come worship with us.  Expect a time of singing\, prayer\, and hearing a message from God’s Word!  We look forward to seeing you! \nWill meet in the Main Sanctuary.
URL:https://theconnection.ws/event/sunday-worship-service/2024-07-28/
END:VEVENT
BEGIN:VEVENT
DTSTART;TZID=America/New_York:20240724T183000
DTEND;TZID=America/New_York:20240724T203000
DTSTAMP:20260420T112435
CREATED:20171031T011231Z
LAST-MODIFIED:20171031T011231Z
UID:12725-1721845800-1721853000@theconnection.ws
SUMMARY:Hspc Prayer Service
DESCRIPTION:Will meet in the Fellowship Hall.  See Pastor Robson for details.
URL:https://theconnection.ws/event/630-hspc-prayer-service-2021-01-06/2024-07-24/
END:VEVENT
BEGIN:VEVENT
DTSTART;TZID=America/New_York:20240721T150000
DTEND;TZID=America/New_York:20240721T170000
DTSTAMP:20260420T112435
CREATED:20171030T032015Z
LAST-MODIFIED:20250226T231813Z
UID:9396-1721574000-1721581200@theconnection.ws
SUMMARY:Hspc Service
DESCRIPTION:Our Hispanic Service meets in the Main Sanctuary.
URL:https://theconnection.ws/event/300-hspc-service/2024-07-21/
END:VEVENT
BEGIN:VEVENT
DTSTART;TZID=America/New_York:20240721T100000
DTEND;TZID=America/New_York:20240721T113000
DTSTAMP:20260420T112435
CREATED:20171028T045217Z
LAST-MODIFIED:20250226T231335Z
UID:9395-1721556000-1721561400@theconnection.ws
SUMMARY:Sunday Morning Service
DESCRIPTION:Come worship with us.  Expect a time of singing\, prayer\, and hearing a message from God’s Word!  We look forward to seeing you! \nWill meet in the Main Sanctuary.
URL:https://theconnection.ws/event/sunday-worship-service/2024-07-21/
END:VEVENT
BEGIN:VEVENT
DTSTART;TZID=America/New_York:20240717T183000
DTEND;TZID=America/New_York:20240717T203000
DTSTAMP:20260420T112435
CREATED:20171031T011231Z
LAST-MODIFIED:20171031T011231Z
UID:12724-1721241000-1721248200@theconnection.ws
SUMMARY:Hspc Prayer Service
DESCRIPTION:Will meet in the Fellowship Hall.  See Pastor Robson for details.
URL:https://theconnection.ws/event/630-hspc-prayer-service-2021-01-06/2024-07-17/
END:VEVENT
BEGIN:VEVENT
DTSTART;TZID=America/New_York:20240714T150000
DTEND;TZID=America/New_York:20240714T170000
DTSTAMP:20260420T112435
CREATED:20171030T032015Z
LAST-MODIFIED:20250226T231813Z
UID:9386-1720969200-1720976400@theconnection.ws
SUMMARY:Hspc Service
DESCRIPTION:Our Hispanic Service meets in the Main Sanctuary.
URL:https://theconnection.ws/event/300-hspc-service/2024-07-14/
END:VEVENT
BEGIN:VEVENT
DTSTART;TZID=America/New_York:20240714T100000
DTEND;TZID=America/New_York:20240714T113000
DTSTAMP:20260420T112435
CREATED:20171028T045217Z
LAST-MODIFIED:20250226T231335Z
UID:9385-1720951200-1720956600@theconnection.ws
SUMMARY:Sunday Morning Service
DESCRIPTION:Come worship with us.  Expect a time of singing\, prayer\, and hearing a message from God’s Word!  We look forward to seeing you! \nWill meet in the Main Sanctuary.
URL:https://theconnection.ws/event/sunday-worship-service/2024-07-14/
END:VEVENT
BEGIN:VEVENT
DTSTART;TZID=America/New_York:20240713T100000
DTEND;TZID=America/New_York:20240713T150000
DTSTAMP:20260420T112435
CREATED:20240705T151111Z
LAST-MODIFIED:20240705T151111Z
UID:11482-1720864800-1720882800@theconnection.ws
SUMMARY:10-3:00pm FFI Team Meeting
DESCRIPTION:Please see Joetta Beaver for details
URL:https://theconnection.ws/event/10-300pm-ffi-team-meeting/
LOCATION:Main Sanctuary
END:VEVENT
BEGIN:VEVENT
DTSTART;TZID=America/New_York:20240710T183000
DTEND;TZID=America/New_York:20240710T203000
DTSTAMP:20260420T112435
CREATED:20171031T011231Z
LAST-MODIFIED:20171031T011231Z
UID:12723-1720636200-1720643400@theconnection.ws
SUMMARY:Hspc Prayer Service
DESCRIPTION:Will meet in the Fellowship Hall.  See Pastor Robson for details.
URL:https://theconnection.ws/event/630-hspc-prayer-service-2021-01-06/2024-07-10/
END:VEVENT
BEGIN:VEVENT
DTSTART;TZID=America/New_York:20240707T150000
DTEND;TZID=America/New_York:20240707T170000
DTSTAMP:20260420T112435
CREATED:20171030T032015Z
LAST-MODIFIED:20250226T231813Z
UID:9367-1720364400-1720371600@theconnection.ws
SUMMARY:Hspc Service
DESCRIPTION:Our Hispanic Service meets in the Main Sanctuary.
URL:https://theconnection.ws/event/300-hspc-service/2024-07-07/
END:VEVENT
BEGIN:VEVENT
DTSTART;TZID=America/New_York:20240707T100000
DTEND;TZID=America/New_York:20240707T113000
DTSTAMP:20260420T112435
CREATED:20171028T045217Z
LAST-MODIFIED:20250226T231335Z
UID:9366-1720346400-1720351800@theconnection.ws
SUMMARY:Sunday Morning Service
DESCRIPTION:Come worship with us.  Expect a time of singing\, prayer\, and hearing a message from God’s Word!  We look forward to seeing you! \nWill meet in the Main Sanctuary.
URL:https://theconnection.ws/event/sunday-worship-service/2024-07-07/
END:VEVENT
BEGIN:VEVENT
DTSTART;TZID=America/New_York:20240703T183000
DTEND;TZID=America/New_York:20240703T203000
DTSTAMP:20260420T112435
CREATED:20171031T011231Z
LAST-MODIFIED:20171031T011231Z
UID:12722-1720031400-1720038600@theconnection.ws
SUMMARY:Hspc Prayer Service
DESCRIPTION:Will meet in the Fellowship Hall.  See Pastor Robson for details.
URL:https://theconnection.ws/event/630-hspc-prayer-service-2021-01-06/2024-07-03/
END:VEVENT
BEGIN:VEVENT
DTSTART;TZID=America/New_York:20240630T150000
DTEND;TZID=America/New_York:20240630T170000
DTSTAMP:20260420T112435
CREATED:20171030T032015Z
LAST-MODIFIED:20250226T231812Z
UID:9337-1719759600-1719766800@theconnection.ws
SUMMARY:Hspc Service
DESCRIPTION:Our Hispanic Service meets in the Main Sanctuary.
URL:https://theconnection.ws/event/300-hspc-service/2024-06-30/
END:VEVENT
BEGIN:VEVENT
DTSTART;TZID=America/New_York:20240630T100000
DTEND;TZID=America/New_York:20240630T113000
DTSTAMP:20260420T112435
CREATED:20171028T045217Z
LAST-MODIFIED:20250226T231335Z
UID:9336-1719741600-1719747000@theconnection.ws
SUMMARY:Sunday Morning Service
DESCRIPTION:Come worship with us.  Expect a time of singing\, prayer\, and hearing a message from God’s Word!  We look forward to seeing you! \nWill meet in the Main Sanctuary.
URL:https://theconnection.ws/event/sunday-worship-service/2024-06-30/
END:VEVENT
BEGIN:VEVENT
DTSTART;TZID=America/New_York:20240626T183000
DTEND;TZID=America/New_York:20240626T203000
DTSTAMP:20260420T112435
CREATED:20171031T011231Z
LAST-MODIFIED:20171031T011231Z
UID:12721-1719426600-1719433800@theconnection.ws
SUMMARY:Hspc Prayer Service
DESCRIPTION:Will meet in the Fellowship Hall.  See Pastor Robson for details.
URL:https://theconnection.ws/event/630-hspc-prayer-service-2021-01-06/2024-06-26/
END:VEVENT
BEGIN:VEVENT
DTSTART;TZID=America/New_York:20240623T150000
DTEND;TZID=America/New_York:20240623T170000
DTSTAMP:20260420T112435
CREATED:20171030T032015Z
LAST-MODIFIED:20250226T231812Z
UID:9307-1719154800-1719162000@theconnection.ws
SUMMARY:Hspc Service
DESCRIPTION:Our Hispanic Service meets in the Main Sanctuary.
URL:https://theconnection.ws/event/300-hspc-service/2024-06-23/
END:VEVENT
BEGIN:VEVENT
DTSTART;TZID=America/New_York:20240623T100000
DTEND;TZID=America/New_York:20240623T113000
DTSTAMP:20260420T112435
CREATED:20171028T045217Z
LAST-MODIFIED:20250226T231333Z
UID:9306-1719136800-1719142200@theconnection.ws
SUMMARY:Sunday Morning Service
DESCRIPTION:Come worship with us.  Expect a time of singing\, prayer\, and hearing a message from God’s Word!  We look forward to seeing you! \nWill meet in the Main Sanctuary.
URL:https://theconnection.ws/event/sunday-worship-service/2024-06-23/
END:VEVENT
BEGIN:VEVENT
DTSTART;TZID=America/New_York:20240619T183000
DTEND;TZID=America/New_York:20240619T203000
DTSTAMP:20260420T112435
CREATED:20171031T011231Z
LAST-MODIFIED:20171031T011231Z
UID:12720-1718821800-1718829000@theconnection.ws
SUMMARY:Hspc Prayer Service
DESCRIPTION:Will meet in the Fellowship Hall.  See Pastor Robson for details.
URL:https://theconnection.ws/event/630-hspc-prayer-service-2021-01-06/2024-06-19/
END:VEVENT
BEGIN:VEVENT
DTSTART;TZID=America/New_York:20240616T150000
DTEND;TZID=America/New_York:20240616T170000
DTSTAMP:20260420T112435
CREATED:20171030T032015Z
LAST-MODIFIED:20250226T231812Z
UID:9296-1718550000-1718557200@theconnection.ws
SUMMARY:Hspc Service
DESCRIPTION:Our Hispanic Service meets in the Main Sanctuary.
URL:https://theconnection.ws/event/300-hspc-service/2024-06-16/
END:VEVENT
END:VCALENDAR