BEGIN:VCALENDAR
VERSION:2.0
PRODID:-//The Connection Church - ECPv6.5.1.5//NONSGML v1.0//EN
CALSCALE:GREGORIAN
METHOD:PUBLISH
X-WR-CALNAME:The Connection Church
X-ORIGINAL-URL:https://theconnection.ws
X-WR-CALDESC:Events for The Connection Church
REFRESH-INTERVAL;VALUE=DURATION:PT1H
X-Robots-Tag:noindex
X-PUBLISHED-TTL:PT1H
BEGIN:VTIMEZONE
TZID:America/New_York
BEGIN:DAYLIGHT
TZOFFSETFROM:-0500
TZOFFSETTO:-0400
TZNAME:EDT
DTSTART:20270314T070000
END:DAYLIGHT
BEGIN:STANDARD
TZOFFSETFROM:-0400
TZOFFSETTO:-0500
TZNAME:EST
DTSTART:20271107T060000
END:STANDARD
END:VTIMEZONE
BEGIN:VEVENT
DTSTART;TZID=America/New_York:20271013T183000
DTEND;TZID=America/New_York:20271013T200000
DTSTAMP:20260420T234055
CREATED:20171030T033600Z
LAST-MODIFIED:20171030T033600Z
UID:13556-1823452200-1823457600@theconnection.ws
SUMMARY:Women's Connect Group
DESCRIPTION:Will meet in the back of the sanctuary unless announced otherwise.
URL:https://theconnection.ws/event/700pm-womans-connect-group-2021-01-06/2027-10-13/
END:VEVENT
BEGIN:VEVENT
DTSTART;TZID=America/New_York:20271013T183000
DTEND;TZID=America/New_York:20271013T203000
DTSTAMP:20260420T234055
CREATED:20171031T011231Z
LAST-MODIFIED:20171031T011231Z
UID:13555-1823452200-1823459400@theconnection.ws
SUMMARY:Hspc Prayer Service
DESCRIPTION:Will meet in the Fellowship Hall.  See Pastor Robson for details.
URL:https://theconnection.ws/event/630-hspc-prayer-service-2021-01-06/2027-10-13/
END:VEVENT
BEGIN:VEVENT
DTSTART;TZID=America/New_York:20271015T190000
DTEND;TZID=America/New_York:20271015T203000
DTSTAMP:20260420T234055
CREATED:20240903T223631Z
LAST-MODIFIED:20240903T223631Z
UID:13557-1823626800-1823632200@theconnection.ws
SUMMARY:Worship Night
DESCRIPTION:This event will be held in the main sanctuary.  Please see Doug Fentiman for details.
URL:https://theconnection.ws/event/worship-night-2/2027-10-15/
LOCATION:Main Sanctuary
END:VEVENT
BEGIN:VEVENT
DTSTART;TZID=America/New_York:20271017T100000
DTEND;TZID=America/New_York:20271017T113000
DTSTAMP:20260420T234055
CREATED:20171028T045217Z
LAST-MODIFIED:20171028T045217Z
UID:13558-1823767200-1823772600@theconnection.ws
SUMMARY:Sunday Morning Service
DESCRIPTION:Come worship with us.  Expect a time of singing\, prayer\, and hearing a message from God’s Word!  We look forward to seeing you! \nWill meet in the Main Sanctuary.
URL:https://theconnection.ws/event/sunday-worship-service/2027-10-17/
END:VEVENT
BEGIN:VEVENT
DTSTART;TZID=America/New_York:20271017T150000
DTEND;TZID=America/New_York:20271017T170000
DTSTAMP:20260420T234055
CREATED:20171030T032015Z
LAST-MODIFIED:20171030T032015Z
UID:13559-1823785200-1823792400@theconnection.ws
SUMMARY:Hspc Service
DESCRIPTION:Our Hispanic Service meets in the Main Sanctuary.
URL:https://theconnection.ws/event/300-hspc-service/2027-10-17/
END:VEVENT
BEGIN:VEVENT
DTSTART;TZID=America/New_York:20271020T183000
DTEND;TZID=America/New_York:20271020T200000
DTSTAMP:20260420T234055
CREATED:20171030T033600Z
LAST-MODIFIED:20171030T033600Z
UID:13561-1824057000-1824062400@theconnection.ws
SUMMARY:Women's Connect Group
DESCRIPTION:Will meet in the back of the sanctuary unless announced otherwise.
URL:https://theconnection.ws/event/700pm-womans-connect-group-2021-01-06/2027-10-20/
END:VEVENT
BEGIN:VEVENT
DTSTART;TZID=America/New_York:20271020T183000
DTEND;TZID=America/New_York:20271020T203000
DTSTAMP:20260420T234055
CREATED:20171031T011231Z
LAST-MODIFIED:20171031T011231Z
UID:13560-1824057000-1824064200@theconnection.ws
SUMMARY:Hspc Prayer Service
DESCRIPTION:Will meet in the Fellowship Hall.  See Pastor Robson for details.
URL:https://theconnection.ws/event/630-hspc-prayer-service-2021-01-06/2027-10-20/
END:VEVENT
BEGIN:VEVENT
DTSTART;TZID=America/New_York:20271024T100000
DTEND;TZID=America/New_York:20271024T113000
DTSTAMP:20260420T234055
CREATED:20171028T045217Z
LAST-MODIFIED:20171028T045217Z
UID:13562-1824372000-1824377400@theconnection.ws
SUMMARY:Sunday Morning Service
DESCRIPTION:Come worship with us.  Expect a time of singing\, prayer\, and hearing a message from God’s Word!  We look forward to seeing you! \nWill meet in the Main Sanctuary.
URL:https://theconnection.ws/event/sunday-worship-service/2027-10-24/
END:VEVENT
BEGIN:VEVENT
DTSTART;TZID=America/New_York:20271024T150000
DTEND;TZID=America/New_York:20271024T170000
DTSTAMP:20260420T234055
CREATED:20171030T032015Z
LAST-MODIFIED:20171030T032015Z
UID:13563-1824390000-1824397200@theconnection.ws
SUMMARY:Hspc Service
DESCRIPTION:Our Hispanic Service meets in the Main Sanctuary.
URL:https://theconnection.ws/event/300-hspc-service/2027-10-24/
END:VEVENT
BEGIN:VEVENT
DTSTART;TZID=America/New_York:20271027T183000
DTEND;TZID=America/New_York:20271027T200000
DTSTAMP:20260420T234055
CREATED:20171030T033600Z
LAST-MODIFIED:20171030T033600Z
UID:13565-1824661800-1824667200@theconnection.ws
SUMMARY:Women's Connect Group
DESCRIPTION:Will meet in the back of the sanctuary unless announced otherwise.
URL:https://theconnection.ws/event/700pm-womans-connect-group-2021-01-06/2027-10-27/
END:VEVENT
BEGIN:VEVENT
DTSTART;TZID=America/New_York:20271027T183000
DTEND;TZID=America/New_York:20271027T203000
DTSTAMP:20260420T234055
CREATED:20171031T011231Z
LAST-MODIFIED:20171031T011231Z
UID:13564-1824661800-1824669000@theconnection.ws
SUMMARY:Hspc Prayer Service
DESCRIPTION:Will meet in the Fellowship Hall.  See Pastor Robson for details.
URL:https://theconnection.ws/event/630-hspc-prayer-service-2021-01-06/2027-10-27/
END:VEVENT
BEGIN:VEVENT
DTSTART;TZID=America/New_York:20271031T100000
DTEND;TZID=America/New_York:20271031T113000
DTSTAMP:20260420T234055
CREATED:20171028T045217Z
LAST-MODIFIED:20171028T045217Z
UID:13566-1824976800-1824982200@theconnection.ws
SUMMARY:Sunday Morning Service
DESCRIPTION:Come worship with us.  Expect a time of singing\, prayer\, and hearing a message from God’s Word!  We look forward to seeing you! \nWill meet in the Main Sanctuary.
URL:https://theconnection.ws/event/sunday-worship-service/2027-10-31/
END:VEVENT
BEGIN:VEVENT
DTSTART;TZID=America/New_York:20271031T150000
DTEND;TZID=America/New_York:20271031T170000
DTSTAMP:20260420T234055
CREATED:20171030T032015Z
LAST-MODIFIED:20171030T032015Z
UID:13567-1824994800-1825002000@theconnection.ws
SUMMARY:Hspc Service
DESCRIPTION:Our Hispanic Service meets in the Main Sanctuary.
URL:https://theconnection.ws/event/300-hspc-service/2027-10-31/
END:VEVENT
BEGIN:VEVENT
DTSTART;TZID=America/New_York:20271103T183000
DTEND;TZID=America/New_York:20271103T200000
DTSTAMP:20260420T234055
CREATED:20171030T033600Z
LAST-MODIFIED:20171030T033600Z
UID:13574-1825266600-1825272000@theconnection.ws
SUMMARY:Women's Connect Group
DESCRIPTION:Will meet in the back of the sanctuary unless announced otherwise.
URL:https://theconnection.ws/event/700pm-womans-connect-group-2021-01-06/2027-11-03/
END:VEVENT
BEGIN:VEVENT
DTSTART;TZID=America/New_York:20271103T183000
DTEND;TZID=America/New_York:20271103T203000
DTSTAMP:20260420T234055
CREATED:20171031T011231Z
LAST-MODIFIED:20171031T011231Z
UID:13573-1825266600-1825273800@theconnection.ws
SUMMARY:Hspc Prayer Service
DESCRIPTION:Will meet in the Fellowship Hall.  See Pastor Robson for details.
URL:https://theconnection.ws/event/630-hspc-prayer-service-2021-01-06/2027-11-03/
END:VEVENT
BEGIN:VEVENT
DTSTART;TZID=America/New_York:20271107T100000
DTEND;TZID=America/New_York:20271107T113000
DTSTAMP:20260420T234055
CREATED:20171028T045217Z
LAST-MODIFIED:20171028T045217Z
UID:13575-1825581600-1825587000@theconnection.ws
SUMMARY:Sunday Morning Service
DESCRIPTION:Come worship with us.  Expect a time of singing\, prayer\, and hearing a message from God’s Word!  We look forward to seeing you! \nWill meet in the Main Sanctuary.
URL:https://theconnection.ws/event/sunday-worship-service/2027-11-07/
END:VEVENT
BEGIN:VEVENT
DTSTART;TZID=America/New_York:20271107T150000
DTEND;TZID=America/New_York:20271107T170000
DTSTAMP:20260420T234055
CREATED:20171030T032015Z
LAST-MODIFIED:20171030T032015Z
UID:13576-1825599600-1825606800@theconnection.ws
SUMMARY:Hspc Service
DESCRIPTION:Our Hispanic Service meets in the Main Sanctuary.
URL:https://theconnection.ws/event/300-hspc-service/2027-11-07/
END:VEVENT
BEGIN:VEVENT
DTSTART;TZID=America/New_York:20271110T183000
DTEND;TZID=America/New_York:20271110T200000
DTSTAMP:20260420T234055
CREATED:20171030T033600Z
LAST-MODIFIED:20171030T033600Z
UID:13578-1825871400-1825876800@theconnection.ws
SUMMARY:Women's Connect Group
DESCRIPTION:Will meet in the back of the sanctuary unless announced otherwise.
URL:https://theconnection.ws/event/700pm-womans-connect-group-2021-01-06/2027-11-10/
END:VEVENT
BEGIN:VEVENT
DTSTART;TZID=America/New_York:20271110T183000
DTEND;TZID=America/New_York:20271110T203000
DTSTAMP:20260420T234055
CREATED:20171031T011231Z
LAST-MODIFIED:20171031T011231Z
UID:13577-1825871400-1825878600@theconnection.ws
SUMMARY:Hspc Prayer Service
DESCRIPTION:Will meet in the Fellowship Hall.  See Pastor Robson for details.
URL:https://theconnection.ws/event/630-hspc-prayer-service-2021-01-06/2027-11-10/
END:VEVENT
BEGIN:VEVENT
DTSTART;TZID=America/New_York:20271114T100000
DTEND;TZID=America/New_York:20271114T113000
DTSTAMP:20260420T234055
CREATED:20171028T045217Z
LAST-MODIFIED:20171028T045217Z
UID:13579-1826186400-1826191800@theconnection.ws
SUMMARY:Sunday Morning Service
DESCRIPTION:Come worship with us.  Expect a time of singing\, prayer\, and hearing a message from God’s Word!  We look forward to seeing you! \nWill meet in the Main Sanctuary.
URL:https://theconnection.ws/event/sunday-worship-service/2027-11-14/
END:VEVENT
BEGIN:VEVENT
DTSTART;TZID=America/New_York:20271114T150000
DTEND;TZID=America/New_York:20271114T170000
DTSTAMP:20260420T234055
CREATED:20171030T032015Z
LAST-MODIFIED:20171030T032015Z
UID:13580-1826204400-1826211600@theconnection.ws
SUMMARY:Hspc Service
DESCRIPTION:Our Hispanic Service meets in the Main Sanctuary.
URL:https://theconnection.ws/event/300-hspc-service/2027-11-14/
END:VEVENT
BEGIN:VEVENT
DTSTART;TZID=America/New_York:20271117T183000
DTEND;TZID=America/New_York:20271117T200000
DTSTAMP:20260420T234055
CREATED:20171030T033600Z
LAST-MODIFIED:20171030T033600Z
UID:13588-1826476200-1826481600@theconnection.ws
SUMMARY:Women's Connect Group
DESCRIPTION:Will meet in the back of the sanctuary unless announced otherwise.
URL:https://theconnection.ws/event/700pm-womans-connect-group-2021-01-06/2027-11-17/
END:VEVENT
BEGIN:VEVENT
DTSTART;TZID=America/New_York:20271117T183000
DTEND;TZID=America/New_York:20271117T203000
DTSTAMP:20260420T234055
CREATED:20171031T011231Z
LAST-MODIFIED:20171031T011231Z
UID:13587-1826476200-1826483400@theconnection.ws
SUMMARY:Hspc Prayer Service
DESCRIPTION:Will meet in the Fellowship Hall.  See Pastor Robson for details.
URL:https://theconnection.ws/event/630-hspc-prayer-service-2021-01-06/2027-11-17/
END:VEVENT
BEGIN:VEVENT
DTSTART;TZID=America/New_York:20271119T190000
DTEND;TZID=America/New_York:20271119T203000
DTSTAMP:20260420T234055
CREATED:20240903T223631Z
LAST-MODIFIED:20240903T223631Z
UID:13589-1826650800-1826656200@theconnection.ws
SUMMARY:Worship Night
DESCRIPTION:This event will be held in the main sanctuary.  Please see Doug Fentiman for details.
URL:https://theconnection.ws/event/worship-night-2/2027-11-19/
LOCATION:Main Sanctuary
END:VEVENT
BEGIN:VEVENT
DTSTART;TZID=America/New_York:20271121T100000
DTEND;TZID=America/New_York:20271121T113000
DTSTAMP:20260420T234055
CREATED:20171028T045217Z
LAST-MODIFIED:20171028T045217Z
UID:13590-1826791200-1826796600@theconnection.ws
SUMMARY:Sunday Morning Service
DESCRIPTION:Come worship with us.  Expect a time of singing\, prayer\, and hearing a message from God’s Word!  We look forward to seeing you! \nWill meet in the Main Sanctuary.
URL:https://theconnection.ws/event/sunday-worship-service/2027-11-21/
END:VEVENT
BEGIN:VEVENT
DTSTART;TZID=America/New_York:20271121T150000
DTEND;TZID=America/New_York:20271121T170000
DTSTAMP:20260420T234055
CREATED:20171030T032015Z
LAST-MODIFIED:20171030T032015Z
UID:13591-1826809200-1826816400@theconnection.ws
SUMMARY:Hspc Service
DESCRIPTION:Our Hispanic Service meets in the Main Sanctuary.
URL:https://theconnection.ws/event/300-hspc-service/2027-11-21/
END:VEVENT
BEGIN:VEVENT
DTSTART;TZID=America/New_York:20271124T183000
DTEND;TZID=America/New_York:20271124T200000
DTSTAMP:20260420T234055
CREATED:20171030T033600Z
LAST-MODIFIED:20171030T033600Z
UID:13593-1827081000-1827086400@theconnection.ws
SUMMARY:Women's Connect Group
DESCRIPTION:Will meet in the back of the sanctuary unless announced otherwise.
URL:https://theconnection.ws/event/700pm-womans-connect-group-2021-01-06/2027-11-24/
END:VEVENT
BEGIN:VEVENT
DTSTART;TZID=America/New_York:20271124T183000
DTEND;TZID=America/New_York:20271124T203000
DTSTAMP:20260420T234055
CREATED:20171031T011231Z
LAST-MODIFIED:20171031T011231Z
UID:13592-1827081000-1827088200@theconnection.ws
SUMMARY:Hspc Prayer Service
DESCRIPTION:Will meet in the Fellowship Hall.  See Pastor Robson for details.
URL:https://theconnection.ws/event/630-hspc-prayer-service-2021-01-06/2027-11-24/
END:VEVENT
BEGIN:VEVENT
DTSTART;TZID=America/New_York:20271128T100000
DTEND;TZID=America/New_York:20271128T113000
DTSTAMP:20260420T234055
CREATED:20171028T045217Z
LAST-MODIFIED:20171028T045217Z
UID:13594-1827396000-1827401400@theconnection.ws
SUMMARY:Sunday Morning Service
DESCRIPTION:Come worship with us.  Expect a time of singing\, prayer\, and hearing a message from God’s Word!  We look forward to seeing you! \nWill meet in the Main Sanctuary.
URL:https://theconnection.ws/event/sunday-worship-service/2027-11-28/
END:VEVENT
BEGIN:VEVENT
DTSTART;TZID=America/New_York:20271128T150000
DTEND;TZID=America/New_York:20271128T170000
DTSTAMP:20260420T234055
CREATED:20171030T032015Z
LAST-MODIFIED:20171030T032015Z
UID:13595-1827414000-1827421200@theconnection.ws
SUMMARY:Hspc Service
DESCRIPTION:Our Hispanic Service meets in the Main Sanctuary.
URL:https://theconnection.ws/event/300-hspc-service/2027-11-28/
END:VEVENT
END:VCALENDAR