BEGIN:VCALENDAR
VERSION:2.0
PRODID:-//The Connection Church - ECPv6.5.1.5//NONSGML v1.0//EN
CALSCALE:GREGORIAN
METHOD:PUBLISH
X-WR-CALNAME:The Connection Church
X-ORIGINAL-URL:https://theconnection.ws
X-WR-CALDESC:Events for The Connection Church
REFRESH-INTERVAL;VALUE=DURATION:PT1H
X-Robots-Tag:noindex
X-PUBLISHED-TTL:PT1H
BEGIN:VTIMEZONE
TZID:America/New_York
BEGIN:DAYLIGHT
TZOFFSETFROM:-0500
TZOFFSETTO:-0400
TZNAME:EDT
DTSTART:20230312T070000
END:DAYLIGHT
BEGIN:STANDARD
TZOFFSETFROM:-0400
TZOFFSETTO:-0500
TZNAME:EST
DTSTART:20231105T060000
END:STANDARD
BEGIN:DAYLIGHT
TZOFFSETFROM:-0500
TZOFFSETTO:-0400
TZNAME:EDT
DTSTART:20240310T070000
END:DAYLIGHT
BEGIN:STANDARD
TZOFFSETFROM:-0400
TZOFFSETTO:-0500
TZNAME:EST
DTSTART:20241103T060000
END:STANDARD
END:VTIMEZONE
BEGIN:VEVENT
DTSTART;TZID=America/New_York:20240522T183000
DTEND;TZID=America/New_York:20240522T203000
DTSTAMP:20260422T053439
CREATED:20171031T011231Z
LAST-MODIFIED:20171031T011231Z
UID:12716-1716402600-1716409800@theconnection.ws
SUMMARY:Hspc Prayer Service
DESCRIPTION:Will meet in the Fellowship Hall.  See Pastor Robson for details.
URL:https://theconnection.ws/event/630-hspc-prayer-service-2021-01-06/2024-05-22/
END:VEVENT
BEGIN:VEVENT
DTSTART;TZID=America/New_York:20240519T150000
DTEND;TZID=America/New_York:20240519T170000
DTSTAMP:20260422T053439
CREATED:20171030T032015Z
LAST-MODIFIED:20250226T231810Z
UID:9237-1716130800-1716138000@theconnection.ws
SUMMARY:Hspc Service
DESCRIPTION:Our Hispanic Service meets in the Main Sanctuary.
URL:https://theconnection.ws/event/300-hspc-service/2024-05-19/
END:VEVENT
BEGIN:VEVENT
DTSTART;TZID=America/New_York:20240519T100000
DTEND;TZID=America/New_York:20240519T113000
DTSTAMP:20260422T053439
CREATED:20171028T045217Z
LAST-MODIFIED:20250226T231332Z
UID:9236-1716112800-1716118200@theconnection.ws
SUMMARY:Sunday Morning Service
DESCRIPTION:Come worship with us.  Expect a time of singing\, prayer\, and hearing a message from God’s Word!  We look forward to seeing you! \nWill meet in the Main Sanctuary.
URL:https://theconnection.ws/event/sunday-worship-service/2024-05-19/
END:VEVENT
BEGIN:VEVENT
DTSTART;TZID=America/New_York:20240515T183000
DTEND;TZID=America/New_York:20240515T203000
DTSTAMP:20260422T053439
CREATED:20171031T011231Z
LAST-MODIFIED:20171031T011231Z
UID:12715-1715797800-1715805000@theconnection.ws
SUMMARY:Hspc Prayer Service
DESCRIPTION:Will meet in the Fellowship Hall.  See Pastor Robson for details.
URL:https://theconnection.ws/event/630-hspc-prayer-service-2021-01-06/2024-05-15/
END:VEVENT
BEGIN:VEVENT
DTSTART;TZID=America/New_York:20240512T150000
DTEND;TZID=America/New_York:20240512T170000
DTSTAMP:20260422T053439
CREATED:20171030T032015Z
LAST-MODIFIED:20250226T231809Z
UID:9227-1715526000-1715533200@theconnection.ws
SUMMARY:Hspc Service
DESCRIPTION:Our Hispanic Service meets in the Main Sanctuary.
URL:https://theconnection.ws/event/300-hspc-service/2024-05-12/
END:VEVENT
BEGIN:VEVENT
DTSTART;TZID=America/New_York:20240512T100000
DTEND;TZID=America/New_York:20240512T113000
DTSTAMP:20260422T053439
CREATED:20171028T045217Z
LAST-MODIFIED:20250226T231332Z
UID:9226-1715508000-1715513400@theconnection.ws
SUMMARY:Sunday Morning Service
DESCRIPTION:Come worship with us.  Expect a time of singing\, prayer\, and hearing a message from God’s Word!  We look forward to seeing you! \nWill meet in the Main Sanctuary.
URL:https://theconnection.ws/event/sunday-worship-service/2024-05-12/
END:VEVENT
BEGIN:VEVENT
DTSTART;TZID=America/New_York:20240508T183000
DTEND;TZID=America/New_York:20240508T203000
DTSTAMP:20260422T053439
CREATED:20171031T011231Z
LAST-MODIFIED:20171031T011231Z
UID:12714-1715193000-1715200200@theconnection.ws
SUMMARY:Hspc Prayer Service
DESCRIPTION:Will meet in the Fellowship Hall.  See Pastor Robson for details.
URL:https://theconnection.ws/event/630-hspc-prayer-service-2021-01-06/2024-05-08/
END:VEVENT
BEGIN:VEVENT
DTSTART;TZID=America/New_York:20240505T150000
DTEND;TZID=America/New_York:20240505T170000
DTSTAMP:20260422T053439
CREATED:20171030T032015Z
LAST-MODIFIED:20250226T231809Z
UID:9217-1714921200-1714928400@theconnection.ws
SUMMARY:Hspc Service
DESCRIPTION:Our Hispanic Service meets in the Main Sanctuary.
URL:https://theconnection.ws/event/300-hspc-service/2024-05-05/
END:VEVENT
BEGIN:VEVENT
DTSTART;TZID=America/New_York:20240505T100000
DTEND;TZID=America/New_York:20240505T113000
DTSTAMP:20260422T053439
CREATED:20171028T045217Z
LAST-MODIFIED:20250226T231331Z
UID:9216-1714903200-1714908600@theconnection.ws
SUMMARY:Sunday Morning Service
DESCRIPTION:Come worship with us.  Expect a time of singing\, prayer\, and hearing a message from God’s Word!  We look forward to seeing you! \nWill meet in the Main Sanctuary.
URL:https://theconnection.ws/event/sunday-worship-service/2024-05-05/
END:VEVENT
BEGIN:VEVENT
DTSTART;TZID=America/New_York:20240501T183000
DTEND;TZID=America/New_York:20240501T203000
DTSTAMP:20260422T053439
CREATED:20171031T011231Z
LAST-MODIFIED:20171031T011231Z
UID:12713-1714588200-1714595400@theconnection.ws
SUMMARY:Hspc Prayer Service
DESCRIPTION:Will meet in the Fellowship Hall.  See Pastor Robson for details.
URL:https://theconnection.ws/event/630-hspc-prayer-service-2021-01-06/2024-05-01/
END:VEVENT
BEGIN:VEVENT
DTSTART;TZID=America/New_York:20240428T150000
DTEND;TZID=America/New_York:20240428T170000
DTSTAMP:20260422T053439
CREATED:20171030T032015Z
LAST-MODIFIED:20250226T231808Z
UID:9194-1714316400-1714323600@theconnection.ws
SUMMARY:Hspc Service
DESCRIPTION:Our Hispanic Service meets in the Main Sanctuary.
URL:https://theconnection.ws/event/300-hspc-service/2024-04-28/
END:VEVENT
BEGIN:VEVENT
DTSTART;TZID=America/New_York:20240428T100000
DTEND;TZID=America/New_York:20240428T113000
DTSTAMP:20260422T053439
CREATED:20171028T045217Z
LAST-MODIFIED:20250226T231331Z
UID:9193-1714298400-1714303800@theconnection.ws
SUMMARY:Sunday Morning Service
DESCRIPTION:Come worship with us.  Expect a time of singing\, prayer\, and hearing a message from God’s Word!  We look forward to seeing you! \nWill meet in the Main Sanctuary.
URL:https://theconnection.ws/event/sunday-worship-service/2024-04-28/
END:VEVENT
BEGIN:VEVENT
DTSTART;TZID=America/New_York:20240424T183000
DTEND;TZID=America/New_York:20240424T203000
DTSTAMP:20260422T053439
CREATED:20171031T011231Z
LAST-MODIFIED:20171031T011231Z
UID:12712-1713983400-1713990600@theconnection.ws
SUMMARY:Hspc Prayer Service
DESCRIPTION:Will meet in the Fellowship Hall.  See Pastor Robson for details.
URL:https://theconnection.ws/event/630-hspc-prayer-service-2021-01-06/2024-04-24/
END:VEVENT
BEGIN:VEVENT
DTSTART;TZID=America/New_York:20240421T150000
DTEND;TZID=America/New_York:20240421T170000
DTSTAMP:20260422T053439
CREATED:20171030T032015Z
LAST-MODIFIED:20250226T231808Z
UID:9184-1713711600-1713718800@theconnection.ws
SUMMARY:Hspc Service
DESCRIPTION:Our Hispanic Service meets in the Main Sanctuary.
URL:https://theconnection.ws/event/300-hspc-service/2024-04-21/
END:VEVENT
BEGIN:VEVENT
DTSTART;TZID=America/New_York:20240421T100000
DTEND;TZID=America/New_York:20240421T113000
DTSTAMP:20260422T053439
CREATED:20171028T045217Z
LAST-MODIFIED:20250226T231331Z
UID:9183-1713693600-1713699000@theconnection.ws
SUMMARY:Sunday Morning Service
DESCRIPTION:Come worship with us.  Expect a time of singing\, prayer\, and hearing a message from God’s Word!  We look forward to seeing you! \nWill meet in the Main Sanctuary.
URL:https://theconnection.ws/event/sunday-worship-service/2024-04-21/
END:VEVENT
BEGIN:VEVENT
DTSTART;TZID=America/New_York:20240406T080000
DTEND;TZID=America/New_York:20240406T120000
DTSTAMP:20260422T053439
CREATED:20240402T164524Z
LAST-MODIFIED:20240402T164524Z
UID:11421-1712390400-1712404800@theconnection.ws
SUMMARY:8-12am HSPC Women's Fasting Event
DESCRIPTION:See Pastor Robson for details
URL:https://theconnection.ws/event/8-12am-hspc-womens-fasting-event/
LOCATION:Main Sanctuary
END:VEVENT
BEGIN:VEVENT
DTSTART;TZID=America/New_York:20240309T130000
DTEND;TZID=America/New_York:20240309T190000
DTSTAMP:20260422T053439
CREATED:20240215T034521Z
LAST-MODIFIED:20240215T034521Z
UID:11082-1709989200-1710010800@theconnection.ws
SUMMARY:1:00-7:00pm Private Event
DESCRIPTION:See Pastor Robson for details.
URL:https://theconnection.ws/event/100-700pm-private-event/
LOCATION:Fellowship Hall
END:VEVENT
BEGIN:VEVENT
DTSTART;TZID=America/New_York:20240301T080000
DTEND;TZID=America/New_York:20240301T170000
DTSTAMP:20260422T053439
CREATED:20240226T060743Z
LAST-MODIFIED:20240226T060743Z
UID:11120-1709280000-1709312400@theconnection.ws
SUMMARY:Private event
DESCRIPTION:See Joetta Beaver for details
URL:https://theconnection.ws/event/private-event-4/
LOCATION:Fellowship Hall
END:VEVENT
BEGIN:VEVENT
DTSTART;TZID=America/New_York:20240222T190000
DTEND;TZID=America/New_York:20240222T200000
DTSTAMP:20260422T053439
CREATED:20240221T055928Z
LAST-MODIFIED:20240221T060137Z
UID:11086-1708628400-1708632000@theconnection.ws
SUMMARY:7:00pm Men's Bible Study
DESCRIPTION:See John Ellas for details.
URL:https://theconnection.ws/event/700pm-mens-bible-study-2/
END:VEVENT
BEGIN:VEVENT
DTSTART;TZID=America/New_York:20240215T190000
DTEND;TZID=America/New_York:20240215T200000
DTSTAMP:20260422T053439
CREATED:20240212T173005Z
LAST-MODIFIED:20240212T173005Z
UID:11080-1708023600-1708027200@theconnection.ws
SUMMARY:7:00pm Men's Bible Study
DESCRIPTION:See John Ellas for details.
URL:https://theconnection.ws/event/700pm-mens-bible-study/
LOCATION:Main Sanctuary
END:VEVENT
BEGIN:VEVENT
DTSTART;TZID=America/New_York:20240212T183000
DTEND;TZID=America/New_York:20240212T203000
DTSTAMP:20260422T053439
CREATED:20240212T172518Z
LAST-MODIFIED:20240212T172518Z
UID:11078-1707762600-1707769800@theconnection.ws
SUMMARY:6:30-8:30pm FFI Team Meeting
DESCRIPTION:See Joetta Beaver for details.
URL:https://theconnection.ws/event/630-830pm-ffi-team-meeting-2/
LOCATION:Main Sanctuary
END:VEVENT
BEGIN:VEVENT
DTSTART;TZID=America/New_York:20240106T080000
DTEND;TZID=America/New_York:20240106T120000
DTSTAMP:20260422T053439
CREATED:20231208T204959Z
LAST-MODIFIED:20231208T205028Z
UID:11048-1704528000-1704542400@theconnection.ws
SUMMARY:HSPC Women's Fasting Morning
DESCRIPTION:This will be held in the Fellowship Hall.  Please see Pastor Robson for details.
URL:https://theconnection.ws/event/hspc-womens-fasting-morning/
LOCATION:Fellowship Hall
END:VEVENT
BEGIN:VEVENT
DTSTART;TZID=America/New_York:20231130T173000
DTEND;TZID=America/New_York:20231130T200000
DTSTAMP:20260422T053439
CREATED:20231111T222306Z
LAST-MODIFIED:20231111T222321Z
UID:11021-1701365400-1701374400@theconnection.ws
SUMMARY:5:30-8:00pm FFI Team Meeting
DESCRIPTION:See Joetta Beaver for details
URL:https://theconnection.ws/event/530-800pm-ffi-team-meeting/
LOCATION:Main Sanctuary
END:VEVENT
BEGIN:VEVENT
DTSTART;TZID=America/New_York:20231125T180000
DTEND;TZID=America/New_York:20231125T220000
DTSTAMP:20260422T053439
CREATED:20231122T155808Z
LAST-MODIFIED:20231122T160031Z
UID:11024-1700935200-1700949600@theconnection.ws
SUMMARY:6:00pm Memorial Service
DESCRIPTION:See Pastor Robson for details
URL:https://theconnection.ws/event/600-memorial-service/
LOCATION:Main Sanctuary
END:VEVENT
BEGIN:VEVENT
DTSTART;TZID=America/New_York:20231110T183000
DTEND;TZID=America/New_York:20231110T210000
DTSTAMP:20260422T053439
CREATED:20231021T234323Z
LAST-MODIFIED:20231021T234323Z
UID:11016-1699641000-1699650000@theconnection.ws
SUMMARY:6:30pm HSPC Women's Tea
DESCRIPTION:See Pastor Robson for details.
URL:https://theconnection.ws/event/630pm-hspc-womens-tea/
LOCATION:Fellowship Hall
END:VEVENT
BEGIN:VEVENT
DTSTART;TZID=America/New_York:20231027T190000
DTEND;TZID=America/New_York:20231027T213000
DTSTAMP:20260422T053439
CREATED:20231012T210919Z
LAST-MODIFIED:20231012T211218Z
UID:10993-1698433200-1698442200@theconnection.ws
SUMMARY:7:00 HSPC Worship Service
DESCRIPTION:Please see Pastor Robson for details.
URL:https://theconnection.ws/event/hspc-worship-service/
LOCATION:Main Sanctuary
END:VEVENT
BEGIN:VEVENT
DTSTART;TZID=America/New_York:20231020T190000
DTEND;TZID=America/New_York:20231020T213000
DTSTAMP:20260422T053439
CREATED:20231021T234532Z
LAST-MODIFIED:20231021T234532Z
UID:11018-1697828400-1697837400@theconnection.ws
SUMMARY:7:00 HSPC Youth Ministry
DESCRIPTION:Please see Pastor Robson for details.
URL:https://theconnection.ws/event/700-hspc-youth-ministry/
LOCATION:Fellowship Hall
END:VEVENT
BEGIN:VEVENT
DTSTART;TZID=America/New_York:20231013T190000
DTEND;TZID=America/New_York:20231013T210000
DTSTAMP:20260422T053439
CREATED:20231012T211054Z
LAST-MODIFIED:20231012T211054Z
UID:10995-1697223600-1697230800@theconnection.ws
SUMMARY:7:00 Prayer for Israel
DESCRIPTION:See Pastor Ron Joseph for details.
URL:https://theconnection.ws/event/700-prayer-for-israel/
LOCATION:Main Sanctuary
END:VEVENT
BEGIN:VEVENT
DTSTART;TZID=America/New_York:20231007T080000
DTEND;TZID=America/New_York:20231007T190000
DTSTAMP:20260422T053439
CREATED:20230901T010650Z
LAST-MODIFIED:20230901T010650Z
UID:10951-1696665600-1696705200@theconnection.ws
SUMMARY:8am-7pm FFI Conference Overcoming Anger
DESCRIPTION:Please see Joetta Beaver for details
URL:https://theconnection.ws/event/8am-7pm-ffi-conference-overcoming-anger/
LOCATION:The Connection Church\, 5532 Sinclair Rd\, Columbus\, OH\, 43229\, United States
END:VEVENT
BEGIN:VEVENT
DTSTART;TZID=America/New_York:20230825T190000
DTEND;TZID=America/New_York:20230825T220000
DTSTAMP:20260422T053439
CREATED:20230812T200350Z
LAST-MODIFIED:20230812T200350Z
UID:10913-1692990000-1693000800@theconnection.ws
SUMMARY:7:00-9:30 HSPC Worship Service
DESCRIPTION:Please see Pastor Robson for further details.
URL:https://theconnection.ws/event/700-930-hspc-worship-service/
LOCATION:Main Sanctuary
END:VEVENT
END:VCALENDAR