BEGIN:VCALENDAR
VERSION:2.0
PRODID:-//The Connection Church - ECPv6.5.1.5//NONSGML v1.0//EN
CALSCALE:GREGORIAN
METHOD:PUBLISH
X-WR-CALNAME:The Connection Church
X-ORIGINAL-URL:https://theconnection.ws
X-WR-CALDESC:Events for The Connection Church
REFRESH-INTERVAL;VALUE=DURATION:PT1H
X-Robots-Tag:noindex
X-PUBLISHED-TTL:PT1H
BEGIN:VTIMEZONE
TZID:America/New_York
BEGIN:DAYLIGHT
TZOFFSETFROM:-0500
TZOFFSETTO:-0400
TZNAME:EDT
DTSTART:20270314T070000
END:DAYLIGHT
BEGIN:STANDARD
TZOFFSETFROM:-0400
TZOFFSETTO:-0500
TZNAME:EST
DTSTART:20271107T060000
END:STANDARD
BEGIN:DAYLIGHT
TZOFFSETFROM:-0500
TZOFFSETTO:-0400
TZNAME:EDT
DTSTART:20280312T070000
END:DAYLIGHT
BEGIN:STANDARD
TZOFFSETFROM:-0400
TZOFFSETTO:-0500
TZNAME:EST
DTSTART:20281105T060000
END:STANDARD
END:VTIMEZONE
BEGIN:VEVENT
DTSTART;TZID=America/New_York:20271114T150000
DTEND;TZID=America/New_York:20271114T170000
DTSTAMP:20260421T123851
CREATED:20171030T032015Z
LAST-MODIFIED:20171030T032015Z
UID:13580-1826204400-1826211600@theconnection.ws
SUMMARY:Hspc Service
DESCRIPTION:Our Hispanic Service meets in the Main Sanctuary.
URL:https://theconnection.ws/event/300-hspc-service/2027-11-14/
END:VEVENT
BEGIN:VEVENT
DTSTART;TZID=America/New_York:20271117T183000
DTEND;TZID=America/New_York:20271117T200000
DTSTAMP:20260421T123851
CREATED:20171030T033600Z
LAST-MODIFIED:20171030T033600Z
UID:13588-1826476200-1826481600@theconnection.ws
SUMMARY:Women's Connect Group
DESCRIPTION:Will meet in the back of the sanctuary unless announced otherwise.
URL:https://theconnection.ws/event/700pm-womans-connect-group-2021-01-06/2027-11-17/
END:VEVENT
BEGIN:VEVENT
DTSTART;TZID=America/New_York:20271117T183000
DTEND;TZID=America/New_York:20271117T203000
DTSTAMP:20260421T123851
CREATED:20171031T011231Z
LAST-MODIFIED:20171031T011231Z
UID:13587-1826476200-1826483400@theconnection.ws
SUMMARY:Hspc Prayer Service
DESCRIPTION:Will meet in the Fellowship Hall.  See Pastor Robson for details.
URL:https://theconnection.ws/event/630-hspc-prayer-service-2021-01-06/2027-11-17/
END:VEVENT
BEGIN:VEVENT
DTSTART;TZID=America/New_York:20271119T190000
DTEND;TZID=America/New_York:20271119T203000
DTSTAMP:20260421T123851
CREATED:20240903T223631Z
LAST-MODIFIED:20240903T223631Z
UID:13589-1826650800-1826656200@theconnection.ws
SUMMARY:Worship Night
DESCRIPTION:This event will be held in the main sanctuary.  Please see Doug Fentiman for details.
URL:https://theconnection.ws/event/worship-night-2/2027-11-19/
LOCATION:Main Sanctuary
END:VEVENT
BEGIN:VEVENT
DTSTART;TZID=America/New_York:20271121T100000
DTEND;TZID=America/New_York:20271121T113000
DTSTAMP:20260421T123851
CREATED:20171028T045217Z
LAST-MODIFIED:20171028T045217Z
UID:13590-1826791200-1826796600@theconnection.ws
SUMMARY:Sunday Morning Service
DESCRIPTION:Come worship with us.  Expect a time of singing\, prayer\, and hearing a message from God’s Word!  We look forward to seeing you! \nWill meet in the Main Sanctuary.
URL:https://theconnection.ws/event/sunday-worship-service/2027-11-21/
END:VEVENT
BEGIN:VEVENT
DTSTART;TZID=America/New_York:20271121T150000
DTEND;TZID=America/New_York:20271121T170000
DTSTAMP:20260421T123851
CREATED:20171030T032015Z
LAST-MODIFIED:20171030T032015Z
UID:13591-1826809200-1826816400@theconnection.ws
SUMMARY:Hspc Service
DESCRIPTION:Our Hispanic Service meets in the Main Sanctuary.
URL:https://theconnection.ws/event/300-hspc-service/2027-11-21/
END:VEVENT
BEGIN:VEVENT
DTSTART;TZID=America/New_York:20271124T183000
DTEND;TZID=America/New_York:20271124T200000
DTSTAMP:20260421T123851
CREATED:20171030T033600Z
LAST-MODIFIED:20171030T033600Z
UID:13593-1827081000-1827086400@theconnection.ws
SUMMARY:Women's Connect Group
DESCRIPTION:Will meet in the back of the sanctuary unless announced otherwise.
URL:https://theconnection.ws/event/700pm-womans-connect-group-2021-01-06/2027-11-24/
END:VEVENT
BEGIN:VEVENT
DTSTART;TZID=America/New_York:20271124T183000
DTEND;TZID=America/New_York:20271124T203000
DTSTAMP:20260421T123851
CREATED:20171031T011231Z
LAST-MODIFIED:20171031T011231Z
UID:13592-1827081000-1827088200@theconnection.ws
SUMMARY:Hspc Prayer Service
DESCRIPTION:Will meet in the Fellowship Hall.  See Pastor Robson for details.
URL:https://theconnection.ws/event/630-hspc-prayer-service-2021-01-06/2027-11-24/
END:VEVENT
BEGIN:VEVENT
DTSTART;TZID=America/New_York:20271128T100000
DTEND;TZID=America/New_York:20271128T113000
DTSTAMP:20260421T123851
CREATED:20171028T045217Z
LAST-MODIFIED:20171028T045217Z
UID:13594-1827396000-1827401400@theconnection.ws
SUMMARY:Sunday Morning Service
DESCRIPTION:Come worship with us.  Expect a time of singing\, prayer\, and hearing a message from God’s Word!  We look forward to seeing you! \nWill meet in the Main Sanctuary.
URL:https://theconnection.ws/event/sunday-worship-service/2027-11-28/
END:VEVENT
BEGIN:VEVENT
DTSTART;TZID=America/New_York:20271128T150000
DTEND;TZID=America/New_York:20271128T170000
DTSTAMP:20260421T123851
CREATED:20171030T032015Z
LAST-MODIFIED:20171030T032015Z
UID:13595-1827414000-1827421200@theconnection.ws
SUMMARY:Hspc Service
DESCRIPTION:Our Hispanic Service meets in the Main Sanctuary.
URL:https://theconnection.ws/event/300-hspc-service/2027-11-28/
END:VEVENT
BEGIN:VEVENT
DTSTART;TZID=America/New_York:20271201T183000
DTEND;TZID=America/New_York:20271201T200000
DTSTAMP:20260421T123851
CREATED:20171030T033600Z
LAST-MODIFIED:20171030T033600Z
UID:13597-1827685800-1827691200@theconnection.ws
SUMMARY:Women's Connect Group
DESCRIPTION:Will meet in the back of the sanctuary unless announced otherwise.
URL:https://theconnection.ws/event/700pm-womans-connect-group-2021-01-06/2027-12-01/
END:VEVENT
BEGIN:VEVENT
DTSTART;TZID=America/New_York:20271201T183000
DTEND;TZID=America/New_York:20271201T203000
DTSTAMP:20260421T123851
CREATED:20171031T011231Z
LAST-MODIFIED:20171031T011231Z
UID:13596-1827685800-1827693000@theconnection.ws
SUMMARY:Hspc Prayer Service
DESCRIPTION:Will meet in the Fellowship Hall.  See Pastor Robson for details.
URL:https://theconnection.ws/event/630-hspc-prayer-service-2021-01-06/2027-12-01/
END:VEVENT
BEGIN:VEVENT
DTSTART;TZID=America/New_York:20271205T100000
DTEND;TZID=America/New_York:20271205T113000
DTSTAMP:20260421T123851
CREATED:20171028T045217Z
LAST-MODIFIED:20171028T045217Z
UID:13598-1828000800-1828006200@theconnection.ws
SUMMARY:Sunday Morning Service
DESCRIPTION:Come worship with us.  Expect a time of singing\, prayer\, and hearing a message from God’s Word!  We look forward to seeing you! \nWill meet in the Main Sanctuary.
URL:https://theconnection.ws/event/sunday-worship-service/2027-12-05/
END:VEVENT
BEGIN:VEVENT
DTSTART;TZID=America/New_York:20271205T150000
DTEND;TZID=America/New_York:20271205T170000
DTSTAMP:20260421T123851
CREATED:20171030T032015Z
LAST-MODIFIED:20171030T032015Z
UID:13599-1828018800-1828026000@theconnection.ws
SUMMARY:Hspc Service
DESCRIPTION:Our Hispanic Service meets in the Main Sanctuary.
URL:https://theconnection.ws/event/300-hspc-service/2027-12-05/
END:VEVENT
BEGIN:VEVENT
DTSTART;TZID=America/New_York:20271208T183000
DTEND;TZID=America/New_York:20271208T200000
DTSTAMP:20260421T123851
CREATED:20171030T033600Z
LAST-MODIFIED:20171030T033600Z
UID:13607-1828290600-1828296000@theconnection.ws
SUMMARY:Women's Connect Group
DESCRIPTION:Will meet in the back of the sanctuary unless announced otherwise.
URL:https://theconnection.ws/event/700pm-womans-connect-group-2021-01-06/2027-12-08/
END:VEVENT
BEGIN:VEVENT
DTSTART;TZID=America/New_York:20271208T183000
DTEND;TZID=America/New_York:20271208T203000
DTSTAMP:20260421T123851
CREATED:20171031T011231Z
LAST-MODIFIED:20171031T011231Z
UID:13606-1828290600-1828297800@theconnection.ws
SUMMARY:Hspc Prayer Service
DESCRIPTION:Will meet in the Fellowship Hall.  See Pastor Robson for details.
URL:https://theconnection.ws/event/630-hspc-prayer-service-2021-01-06/2027-12-08/
END:VEVENT
BEGIN:VEVENT
DTSTART;TZID=America/New_York:20271212T100000
DTEND;TZID=America/New_York:20271212T113000
DTSTAMP:20260421T123851
CREATED:20171028T045217Z
LAST-MODIFIED:20171028T045217Z
UID:13608-1828605600-1828611000@theconnection.ws
SUMMARY:Sunday Morning Service
DESCRIPTION:Come worship with us.  Expect a time of singing\, prayer\, and hearing a message from God’s Word!  We look forward to seeing you! \nWill meet in the Main Sanctuary.
URL:https://theconnection.ws/event/sunday-worship-service/2027-12-12/
END:VEVENT
BEGIN:VEVENT
DTSTART;TZID=America/New_York:20271212T150000
DTEND;TZID=America/New_York:20271212T170000
DTSTAMP:20260421T123851
CREATED:20171030T032015Z
LAST-MODIFIED:20171030T032015Z
UID:13609-1828623600-1828630800@theconnection.ws
SUMMARY:Hspc Service
DESCRIPTION:Our Hispanic Service meets in the Main Sanctuary.
URL:https://theconnection.ws/event/300-hspc-service/2027-12-12/
END:VEVENT
BEGIN:VEVENT
DTSTART;TZID=America/New_York:20271215T183000
DTEND;TZID=America/New_York:20271215T200000
DTSTAMP:20260421T123851
CREATED:20171030T033600Z
LAST-MODIFIED:20171030T033600Z
UID:13611-1828895400-1828900800@theconnection.ws
SUMMARY:Women's Connect Group
DESCRIPTION:Will meet in the back of the sanctuary unless announced otherwise.
URL:https://theconnection.ws/event/700pm-womans-connect-group-2021-01-06/2027-12-15/
END:VEVENT
BEGIN:VEVENT
DTSTART;TZID=America/New_York:20271215T183000
DTEND;TZID=America/New_York:20271215T203000
DTSTAMP:20260421T123851
CREATED:20171031T011231Z
LAST-MODIFIED:20171031T011231Z
UID:13610-1828895400-1828902600@theconnection.ws
SUMMARY:Hspc Prayer Service
DESCRIPTION:Will meet in the Fellowship Hall.  See Pastor Robson for details.
URL:https://theconnection.ws/event/630-hspc-prayer-service-2021-01-06/2027-12-15/
END:VEVENT
BEGIN:VEVENT
DTSTART;TZID=America/New_York:20271217T190000
DTEND;TZID=America/New_York:20271217T203000
DTSTAMP:20260421T123851
CREATED:20240903T223631Z
LAST-MODIFIED:20240903T223631Z
UID:13612-1829070000-1829075400@theconnection.ws
SUMMARY:Worship Night
DESCRIPTION:This event will be held in the main sanctuary.  Please see Doug Fentiman for details.
URL:https://theconnection.ws/event/worship-night-2/2027-12-17/
LOCATION:Main Sanctuary
END:VEVENT
BEGIN:VEVENT
DTSTART;TZID=America/New_York:20271219T100000
DTEND;TZID=America/New_York:20271219T113000
DTSTAMP:20260421T123851
CREATED:20171028T045217Z
LAST-MODIFIED:20171028T045217Z
UID:13613-1829210400-1829215800@theconnection.ws
SUMMARY:Sunday Morning Service
DESCRIPTION:Come worship with us.  Expect a time of singing\, prayer\, and hearing a message from God’s Word!  We look forward to seeing you! \nWill meet in the Main Sanctuary.
URL:https://theconnection.ws/event/sunday-worship-service/2027-12-19/
END:VEVENT
BEGIN:VEVENT
DTSTART;TZID=America/New_York:20271219T150000
DTEND;TZID=America/New_York:20271219T170000
DTSTAMP:20260421T123851
CREATED:20171030T032015Z
LAST-MODIFIED:20171030T032015Z
UID:13614-1829228400-1829235600@theconnection.ws
SUMMARY:Hspc Service
DESCRIPTION:Our Hispanic Service meets in the Main Sanctuary.
URL:https://theconnection.ws/event/300-hspc-service/2027-12-19/
END:VEVENT
BEGIN:VEVENT
DTSTART;TZID=America/New_York:20271222T183000
DTEND;TZID=America/New_York:20271222T200000
DTSTAMP:20260421T123851
CREATED:20171030T033600Z
LAST-MODIFIED:20171030T033600Z
UID:13616-1829500200-1829505600@theconnection.ws
SUMMARY:Women's Connect Group
DESCRIPTION:Will meet in the back of the sanctuary unless announced otherwise.
URL:https://theconnection.ws/event/700pm-womans-connect-group-2021-01-06/2027-12-22/
END:VEVENT
BEGIN:VEVENT
DTSTART;TZID=America/New_York:20271222T183000
DTEND;TZID=America/New_York:20271222T203000
DTSTAMP:20260421T123851
CREATED:20171031T011231Z
LAST-MODIFIED:20171031T011231Z
UID:13615-1829500200-1829507400@theconnection.ws
SUMMARY:Hspc Prayer Service
DESCRIPTION:Will meet in the Fellowship Hall.  See Pastor Robson for details.
URL:https://theconnection.ws/event/630-hspc-prayer-service-2021-01-06/2027-12-22/
END:VEVENT
BEGIN:VEVENT
DTSTART;TZID=America/New_York:20271226T100000
DTEND;TZID=America/New_York:20271226T113000
DTSTAMP:20260421T123851
CREATED:20171028T045217Z
LAST-MODIFIED:20171028T045217Z
UID:13617-1829815200-1829820600@theconnection.ws
SUMMARY:Sunday Morning Service
DESCRIPTION:Come worship with us.  Expect a time of singing\, prayer\, and hearing a message from God’s Word!  We look forward to seeing you! \nWill meet in the Main Sanctuary.
URL:https://theconnection.ws/event/sunday-worship-service/2027-12-26/
END:VEVENT
BEGIN:VEVENT
DTSTART;TZID=America/New_York:20271226T150000
DTEND;TZID=America/New_York:20271226T170000
DTSTAMP:20260421T123851
CREATED:20171030T032015Z
LAST-MODIFIED:20171030T032015Z
UID:13618-1829833200-1829840400@theconnection.ws
SUMMARY:Hspc Service
DESCRIPTION:Our Hispanic Service meets in the Main Sanctuary.
URL:https://theconnection.ws/event/300-hspc-service/2027-12-26/
END:VEVENT
BEGIN:VEVENT
DTSTART;TZID=America/New_York:20271229T183000
DTEND;TZID=America/New_York:20271229T200000
DTSTAMP:20260421T123851
CREATED:20171030T033600Z
LAST-MODIFIED:20171030T033600Z
UID:13620-1830105000-1830110400@theconnection.ws
SUMMARY:Women's Connect Group
DESCRIPTION:Will meet in the back of the sanctuary unless announced otherwise.
URL:https://theconnection.ws/event/700pm-womans-connect-group-2021-01-06/2027-12-29/
END:VEVENT
BEGIN:VEVENT
DTSTART;TZID=America/New_York:20271229T183000
DTEND;TZID=America/New_York:20271229T203000
DTSTAMP:20260421T123851
CREATED:20171031T011231Z
LAST-MODIFIED:20171031T011231Z
UID:13619-1830105000-1830112200@theconnection.ws
SUMMARY:Hspc Prayer Service
DESCRIPTION:Will meet in the Fellowship Hall.  See Pastor Robson for details.
URL:https://theconnection.ws/event/630-hspc-prayer-service-2021-01-06/2027-12-29/
END:VEVENT
BEGIN:VEVENT
DTSTART;TZID=America/New_York:20280102T100000
DTEND;TZID=America/New_York:20280102T113000
DTSTAMP:20260421T123851
CREATED:20171028T045217Z
LAST-MODIFIED:20171028T045217Z
UID:13621-1830420000-1830425400@theconnection.ws
SUMMARY:Sunday Morning Service
DESCRIPTION:Come worship with us.  Expect a time of singing\, prayer\, and hearing a message from God’s Word!  We look forward to seeing you! \nWill meet in the Main Sanctuary.
URL:https://theconnection.ws/event/sunday-worship-service/2028-01-02/
END:VEVENT
END:VCALENDAR