BEGIN:VCALENDAR
VERSION:2.0
PRODID:-//The Connection Church - ECPv6.5.1.5//NONSGML v1.0//EN
CALSCALE:GREGORIAN
METHOD:PUBLISH
X-WR-CALNAME:The Connection Church
X-ORIGINAL-URL:https://theconnection.ws
X-WR-CALDESC:Events for The Connection Church
REFRESH-INTERVAL;VALUE=DURATION:PT1H
X-Robots-Tag:noindex
X-PUBLISHED-TTL:PT1H
BEGIN:VTIMEZONE
TZID:America/New_York
BEGIN:DAYLIGHT
TZOFFSETFROM:-0500
TZOFFSETTO:-0400
TZNAME:EDT
DTSTART:20210314T070000
END:DAYLIGHT
BEGIN:STANDARD
TZOFFSETFROM:-0400
TZOFFSETTO:-0500
TZNAME:EST
DTSTART:20211107T060000
END:STANDARD
BEGIN:DAYLIGHT
TZOFFSETFROM:-0500
TZOFFSETTO:-0400
TZNAME:EDT
DTSTART:20220313T070000
END:DAYLIGHT
BEGIN:STANDARD
TZOFFSETFROM:-0400
TZOFFSETTO:-0500
TZNAME:EST
DTSTART:20221106T060000
END:STANDARD
BEGIN:DAYLIGHT
TZOFFSETFROM:-0500
TZOFFSETTO:-0400
TZNAME:EDT
DTSTART:20230312T070000
END:DAYLIGHT
BEGIN:STANDARD
TZOFFSETFROM:-0400
TZOFFSETTO:-0500
TZNAME:EST
DTSTART:20231105T060000
END:STANDARD
END:VTIMEZONE
BEGIN:VEVENT
DTSTART;TZID=America/New_York:20230204T090000
DTEND;TZID=America/New_York:20230204T180000
DTSTAMP:20260424T092638
CREATED:20221020T190640Z
LAST-MODIFIED:20230105T000510Z
UID:9722-1675501200-1675533600@theconnection.ws
SUMMARY:9:00am-6:00pm FFI Blessing Generations Seminar
DESCRIPTION:Please see Joetta Beaver for details.  This will be held in the Main Sanctuary and in the Fellowship Hall areas.
URL:https://theconnection.ws/event/900am-600pm-ffi-blessing-generations-seminar/
LOCATION:Main Sanctuary
END:VEVENT
BEGIN:VEVENT
DTSTART;TZID=America/New_York:20230203T180000
DTEND;TZID=America/New_York:20230203T213000
DTSTAMP:20260424T092638
CREATED:20221020T190448Z
LAST-MODIFIED:20230105T000410Z
UID:9720-1675447200-1675459800@theconnection.ws
SUMMARY:6-9:30pm FFI Blessing Generations Seminar
DESCRIPTION:Please see Joetta Beaver for details.  This will be held in the Main Sanctuary and in the Fellowship Hall wing.
URL:https://theconnection.ws/event/6-930pm-ffi-blessing-generations-seminar/
LOCATION:Main Sanctuary
END:VEVENT
BEGIN:VEVENT
DTSTART;TZID=America/New_York:20230123T183000
DTEND;TZID=America/New_York:20230123T203000
DTSTAMP:20260424T092638
CREATED:20230118T061931Z
LAST-MODIFIED:20230118T061931Z
UID:10441-1674498600-1674505800@theconnection.ws
SUMMARY:6:30-8:30pm FFI Leadership Team Meeting
DESCRIPTION:Please see Joetta Beaver for details. \n 
URL:https://theconnection.ws/event/630-830pm-ffi-leadership-team-meeting/
LOCATION:Main Sanctuary
END:VEVENT
BEGIN:VEVENT
DTSTART;TZID=America/New_York:20230121T080000
DTEND;TZID=America/New_York:20230121T120000
DTSTAMP:20260424T092638
CREATED:20230111T173405Z
LAST-MODIFIED:20230111T173405Z
UID:10427-1674288000-1674302400@theconnection.ws
SUMMARY:8:00am-12:00pm HSPC Fasting Event
DESCRIPTION:See Pastor Robson for details.  This is a fasting event held by the women of The Connection Hispanic congregation.
URL:https://theconnection.ws/event/800am-1200pm-hspc-fasting-event/
LOCATION:Fellowship Hall
END:VEVENT
BEGIN:VEVENT
DTSTART;TZID=America/New_York:20221119T103000
DTEND;TZID=America/New_York:20221119T113000
DTSTAMP:20260424T092638
CREATED:20221113T012054Z
LAST-MODIFIED:20221113T012054Z
UID:10299-1668853800-1668857400@theconnection.ws
SUMMARY:10:30am ShoeBox Packing Party for Operation Christmas Child
DESCRIPTION:See Beth Joseph for details.
URL:https://theconnection.ws/event/1030am-shoebox-packing-party-for-operation-christmas-child/
END:VEVENT
BEGIN:VEVENT
DTSTART;TZID=America/New_York:20221114T183000
DTEND;TZID=America/New_York:20221114T210000
DTSTAMP:20260424T092638
CREATED:20221112T195730Z
LAST-MODIFIED:20221112T195730Z
UID:10293-1668450600-1668459600@theconnection.ws
SUMMARY:6:30-9pm FFI Process Group
DESCRIPTION:See Joetta Beaver for details.
URL:https://theconnection.ws/event/630-9pm-ffi-process-group/2022-11-14/
LOCATION:Main Sanctuary
END:VEVENT
BEGIN:VEVENT
DTSTART;TZID=America/New_York:20221105T090000
DTEND;TZID=America/New_York:20221105T180000
DTSTAMP:20260424T092638
CREATED:20221006T204122Z
LAST-MODIFIED:20221006T204122Z
UID:9577-1667638800-1667671200@theconnection.ws
SUMMARY:9am-6pm FFI Seminar 'Overcoming Anger'
DESCRIPTION:Please see Joetta Beaver for details.
URL:https://theconnection.ws/event/9am-6pm-ffi-seminar-overcoming-anger/
LOCATION:Main Sanctuary
END:VEVENT
BEGIN:VEVENT
DTSTART;TZID=America/New_York:20221031T180000
DTEND;TZID=America/New_York:20221031T200000
DTSTAMP:20260424T092638
CREATED:20221020T194702Z
LAST-MODIFIED:20221020T194702Z
UID:10221-1667239200-1667246400@theconnection.ws
SUMMARY:6pm Trunk or Treat
DESCRIPTION:See Anna Kasongo for details.
URL:https://theconnection.ws/event/6pm-trunk-or-treat/
END:VEVENT
BEGIN:VEVENT
DTSTART;TZID=America/New_York:20221024T183000
DTEND;TZID=America/New_York:20221024T203000
DTSTAMP:20260424T092638
CREATED:20221020T190123Z
LAST-MODIFIED:20221020T190123Z
UID:9718-1666636200-1666643400@theconnection.ws
SUMMARY:6:30-8:30pm FFI Team Meeting
DESCRIPTION:Please see Joetta Beaver for details.
URL:https://theconnection.ws/event/630-830pm-ffi-team-meeting/
LOCATION:Main Sanctuary
END:VEVENT
BEGIN:VEVENT
DTSTART;TZID=America/New_York:20221010T190000
DTEND;TZID=America/New_York:20221010T210000
DTSTAMP:20260424T092638
CREATED:20221006T203316Z
LAST-MODIFIED:20221006T203316Z
UID:9575-1665428400-1665435600@theconnection.ws
SUMMARY:7-9pm FFI Team Meeting
DESCRIPTION:Please see Joetta Beaver for details.
URL:https://theconnection.ws/event/7-9pm-ffi-team-meeting/
LOCATION:Main Sanctuary
END:VEVENT
BEGIN:VEVENT
DTSTART;TZID=America/New_York:20220822T183000
DTEND;TZID=America/New_York:20220822T203000
DTSTAMP:20260424T092638
CREATED:20220818T162942Z
LAST-MODIFIED:20220818T163147Z
UID:9453-1661193000-1661200200@theconnection.ws
SUMMARY:6:30-8:30pm FFI Process Group
DESCRIPTION:These are follow-up meetings to an FFI conference that has already happened and are closed to members who were not a part of the conference.  See Joetta Beaver for details.
URL:https://theconnection.ws/event/630-830-ffi-process-group/2022-08-22/
LOCATION:Main Sanctuary
END:VEVENT
BEGIN:VEVENT
DTSTART;TZID=America/New_York:20220820T080000
DTEND;TZID=America/New_York:20220820T180000
DTSTAMP:20260424T092638
CREATED:20220723T131246Z
LAST-MODIFIED:20220723T131443Z
UID:9400-1660982400-1661018400@theconnection.ws
SUMMARY:Private Event 9:00am-6:00pm
DESCRIPTION:This is a private event.  See Doug Fentiman for details. This will be held in the Fellowship Hall of the church.
URL:https://theconnection.ws/event/private-event-900am-600pm/
LOCATION:Fellowship Hall
END:VEVENT
BEGIN:VEVENT
DTSTART;TZID=America/New_York:20220813T090000
DTEND;TZID=America/New_York:20220813T190000
DTSTAMP:20260424T092638
CREATED:20220723T132759Z
LAST-MODIFIED:20220723T132759Z
UID:9405-1660381200-1660417200@theconnection.ws
SUMMARY:FFI Seminar (All Day)
DESCRIPTION:This event will be held in the Main Sanctuary.  Please see Joetta Beaver for details.
URL:https://theconnection.ws/event/ffi-seminar-all-day/
LOCATION:Main Sanctuary
END:VEVENT
BEGIN:VEVENT
DTSTART;TZID=America/New_York:20220812T170000
DTEND;TZID=America/New_York:20220812T220000
DTSTAMP:20260424T092638
CREATED:20220723T132618Z
LAST-MODIFIED:20220723T132618Z
UID:9403-1660323600-1660341600@theconnection.ws
SUMMARY:FFI Seminar (Evening)
DESCRIPTION:This event will be held in the Main Sanctuary.  Please see Joetta Beaver for details.
URL:https://theconnection.ws/event/ffi-seminar-evening/
LOCATION:Main Sanctuary
END:VEVENT
BEGIN:VEVENT
DTSTART;TZID=America/New_York:20220723T080000
DTEND;TZID=America/New_York:20220723T190000
DTSTAMP:20260424T092638
CREATED:20220629T212354Z
LAST-MODIFIED:20220629T212354Z
UID:9317-1658563200-1658602800@theconnection.ws
SUMMARY:Private Event 8:00am-6:00pm
DESCRIPTION:This is a safety class headed by Janet Bryan.  See Doug Fentiman for details.
URL:https://theconnection.ws/event/private-event-800am-600pm/
LOCATION:Fellowship Hall
END:VEVENT
BEGIN:VEVENT
DTSTART;TZID=America/New_York:20220221T183000
DTEND;TZID=America/New_York:20220221T203000
DTSTAMP:20260424T092638
CREATED:20220127T020328Z
LAST-MODIFIED:20220127T020348Z
UID:8983-1645468200-1645475400@theconnection.ws
SUMMARY:6:30-8:30pm FFI Process Group
DESCRIPTION:This group will use the main sanctuary.  Please see Joetta Beaver for details.
URL:https://theconnection.ws/event/630-830pm-ffi-process-group/2022-02-21/
LOCATION:Main Sanctuary
END:VEVENT
BEGIN:VEVENT
DTSTART;TZID=America/New_York:20220212T090000
DTEND;TZID=America/New_York:20220212T180000
DTSTAMP:20260424T092638
CREATED:20211209T194157Z
LAST-MODIFIED:20211209T194724Z
UID:8865-1644656400-1644688800@theconnection.ws
SUMMARY:~9:00am-6:00pm FFI Conference
DESCRIPTION:Please see Joetta Beaver for details.  This conference will use both the Main Sanctuary and the Fellowship Hall
URL:https://theconnection.ws/event/900am-600pm-tbd-ffi-conference/
LOCATION:Main Sanctuary
END:VEVENT
BEGIN:VEVENT
DTSTART;TZID=America/New_York:20220211T180000
DTEND;TZID=America/New_York:20220211T220000
DTSTAMP:20260424T092638
CREATED:20211209T194008Z
LAST-MODIFIED:20220127T015758Z
UID:8863-1644602400-1644616800@theconnection.ws
SUMMARY:6:30-10:00pm FFI Conference
DESCRIPTION:See Joetta Beaver for details.  This event will use both the Main Sanctuary and the Fellowship Hall
URL:https://theconnection.ws/event/6-1000pm-tbd-ffi-conference/
LOCATION:Main Sanctuary
END:VEVENT
BEGIN:VEVENT
DTSTART;TZID=America/New_York:20220128T180000
DTEND;TZID=America/New_York:20220128T220000
DTSTAMP:20260424T092638
CREATED:20211209T193800Z
LAST-MODIFIED:20220127T015911Z
UID:8861-1643392800-1643407200@theconnection.ws
SUMMARY:6:30-9:00pm FFI Event
DESCRIPTION:See Joetta Beaver for details
URL:https://theconnection.ws/event/6-900pm-tbd-ffi-event-2/
LOCATION:Main Sanctuary
END:VEVENT
BEGIN:VEVENT
DTSTART;TZID=America/New_York:20220114T180000
DTEND;TZID=America/New_York:20220114T220000
DTSTAMP:20260424T092638
CREATED:20211209T193638Z
LAST-MODIFIED:20211209T194612Z
UID:8859-1642183200-1642197600@theconnection.ws
SUMMARY:~6-9:00pm FFI Event
DESCRIPTION:See Joetta Beaver for details
URL:https://theconnection.ws/event/6-900pm-tbd-ffi-event/
LOCATION:Main Sanctuary
END:VEVENT
BEGIN:VEVENT
DTSTART;TZID=America/New_York:20220108T090000
DTEND;TZID=America/New_York:20220108T160000
DTSTAMP:20260424T092638
CREATED:20211213T181713Z
LAST-MODIFIED:20211213T181713Z
UID:8879-1641632400-1641657600@theconnection.ws
SUMMARY:9-3:00pm Private Event
DESCRIPTION:See Doug Fentiman for details.
URL:https://theconnection.ws/event/9-300pm-private-event/
LOCATION:Fellowship Hall
END:VEVENT
BEGIN:VEVENT
DTSTART;TZID=America/New_York:20211231T180000
DTEND;TZID=America/New_York:20211231T220000
DTSTAMP:20260424T092638
CREATED:20211209T193443Z
LAST-MODIFIED:20211209T194546Z
UID:8857-1640973600-1640988000@theconnection.ws
SUMMARY:~6:00-9:00 FFI Event
DESCRIPTION:See Joetta Beaver for details
URL:https://theconnection.ws/event/600-900-tbd-ffi-event/
LOCATION:Main Sanctuary
END:VEVENT
BEGIN:VEVENT
DTSTART;TZID=America/New_York:20211217T190000
DTEND;TZID=America/New_York:20211217T210000
DTSTAMP:20260424T092638
CREATED:20211209T195231Z
LAST-MODIFIED:20211209T195231Z
UID:8872-1639767600-1639774800@theconnection.ws
SUMMARY:7-9:00pm  Esther's Place Christmas Party
DESCRIPTION:See Anna Teye for details.  The event will be held in the Fellowship Hall.
URL:https://theconnection.ws/event/7-900pm-esthers-place-christmas-party/
LOCATION:Fellowship Hall
END:VEVENT
BEGIN:VEVENT
DTSTART;TZID=America/New_York:20211113T130000
DTEND;TZID=America/New_York:20211113T160000
DTSTAMP:20260424T092638
CREATED:20211107T045231Z
LAST-MODIFIED:20211107T045231Z
UID:8775-1636808400-1636819200@theconnection.ws
SUMMARY:1:00pm Shoe-box Christmas Packing Party
DESCRIPTION:See Bev Mann for details
URL:https://theconnection.ws/event/100pm-shoe-box-christmas-packing-party/
END:VEVENT
BEGIN:VEVENT
DTSTART;TZID=America/New_York:20211112T180000
DTEND;TZID=America/New_York:20211112T210000
DTSTAMP:20260424T092638
CREATED:20211026T015554Z
LAST-MODIFIED:20211026T015554Z
UID:8745-1636740000-1636750800@theconnection.ws
SUMMARY:6-9:00pm FFI Team Meeting
DESCRIPTION:Contact Joetta Beaver for details.
URL:https://theconnection.ws/event/6-900pm-ffi-team-meeting/
LOCATION:Main Sanctuary
END:VEVENT
BEGIN:VEVENT
DTSTART;TZID=America/New_York:20211105T190000
DTEND;TZID=America/New_York:20211105T210000
DTSTAMP:20260424T092638
CREATED:20211023T174747Z
LAST-MODIFIED:20211023T190923Z
UID:8706-1636138800-1636146000@theconnection.ws
SUMMARY:7:00pm Influence Conference BUSINESS SPHERE (Click Featured Event Link For More Information)
DESCRIPTION:If you are employed of involved in the area of Business\, come receive from the Lord to help influence your sphere for the Kingdom of God.
URL:https://theconnection.ws/event/700pm-influence-conference-business-sphere-click-event-link-on-homepage-for-more-information/
LOCATION:Main Sanctuary
END:VEVENT
BEGIN:VEVENT
DTSTART;TZID=America/New_York:20211104T190000
DTEND;TZID=America/New_York:20211104T210000
DTSTAMP:20260424T092638
CREATED:20211023T174431Z
LAST-MODIFIED:20211023T190905Z
UID:8703-1636052400-1636059600@theconnection.ws
SUMMARY:7:00pm Influence Conference HEALTHCARE SPHERE (Click Featured Event Link For More Information)
DESCRIPTION:If you are employed of involved in the area of Healthcare\, come receive from the Lord to help influence your sphere for the Kingdom of God.
URL:https://theconnection.ws/event/700pm-influence-conference-healthcare-sphere-click-event-link-on-homepage-for-more-information/
LOCATION:Main Sanctuary
END:VEVENT
BEGIN:VEVENT
DTSTART;TZID=America/New_York:20211103T190000
DTEND;TZID=America/New_York:20211103T210000
DTSTAMP:20260424T092638
CREATED:20211023T173719Z
LAST-MODIFIED:20211023T190848Z
UID:8700-1635966000-1635973200@theconnection.ws
SUMMARY:7:00pm Influence Conference ARTS / MEDIA / ENTERTAIN.. SPHERE (Click Featured Event Link For More Information)
DESCRIPTION:If you are employed of involved in the area of Arts\, Media or Entertainment\, come receive from the Lord to help influence your sphere for the Kingdom of God.
URL:https://theconnection.ws/event/700pm-influence-conference-arts-media-entertainment-sphere-click-event-link-on-homepage-for-more-information/
LOCATION:Main Sanctuary
END:VEVENT
BEGIN:VEVENT
DTSTART;TZID=America/New_York:20211102T190000
DTEND;TZID=America/New_York:20211102T210000
DTSTAMP:20260424T092638
CREATED:20211023T172100Z
LAST-MODIFIED:20211023T190830Z
UID:8695-1635879600-1635886800@theconnection.ws
SUMMARY:7:00pm Influence Conference GOVT / LAW ENFORCE.. SPHERE (Click Featured Event Link For More Information)
DESCRIPTION:If you are employed of involved in the area of Government or Law Enforcement\, come receive from the Lord to help influence your sphere for the Kingdom of God.
URL:https://theconnection.ws/event/700pm-influence-conference-government-law-enforcement-sphere/
LOCATION:Main Sanctuary
END:VEVENT
BEGIN:VEVENT
DTSTART;TZID=America/New_York:20211101T190000
DTEND;TZID=America/New_York:20211101T210000
DTSTAMP:20260424T092638
CREATED:20211023T171404Z
LAST-MODIFIED:20211023T190808Z
UID:8692-1635793200-1635800400@theconnection.ws
SUMMARY:7:00pm Influence Conference EDUCATION SPHERE (Click Featured Event Link For More Information)
DESCRIPTION:If you are employed of involved in the area of Education\, come receive from the Lord to help influence your sphere for the Kingdom of God.
URL:https://theconnection.ws/event/700pm-influence-conference-education-sphere-click-event-link-on-homepage-for-more-information/
LOCATION:Main Sanctuary
END:VEVENT
END:VCALENDAR