BEGIN:VCALENDAR
VERSION:2.0
PRODID:-//The Connection Church - ECPv6.5.1.5//NONSGML v1.0//EN
CALSCALE:GREGORIAN
METHOD:PUBLISH
X-WR-CALNAME:The Connection Church
X-ORIGINAL-URL:https://theconnection.ws
X-WR-CALDESC:Events for The Connection Church
REFRESH-INTERVAL;VALUE=DURATION:PT1H
X-Robots-Tag:noindex
X-PUBLISHED-TTL:PT1H
BEGIN:VTIMEZONE
TZID:America/New_York
BEGIN:DAYLIGHT
TZOFFSETFROM:-0500
TZOFFSETTO:-0400
TZNAME:EDT
DTSTART:20210314T070000
END:DAYLIGHT
BEGIN:STANDARD
TZOFFSETFROM:-0400
TZOFFSETTO:-0500
TZNAME:EST
DTSTART:20211107T060000
END:STANDARD
END:VTIMEZONE
BEGIN:VEVENT
DTSTART;TZID=America/New_York:20211231T180000
DTEND;TZID=America/New_York:20211231T220000
DTSTAMP:20260425T213524
CREATED:20211209T193443Z
LAST-MODIFIED:20211209T194546Z
UID:8857-1640973600-1640988000@theconnection.ws
SUMMARY:~6:00-9:00 FFI Event
DESCRIPTION:See Joetta Beaver for details
URL:https://theconnection.ws/event/600-900-tbd-ffi-event/
LOCATION:Main Sanctuary
END:VEVENT
BEGIN:VEVENT
DTSTART;TZID=America/New_York:20211217T190000
DTEND;TZID=America/New_York:20211217T210000
DTSTAMP:20260425T213524
CREATED:20211209T195231Z
LAST-MODIFIED:20211209T195231Z
UID:8872-1639767600-1639774800@theconnection.ws
SUMMARY:7-9:00pm  Esther's Place Christmas Party
DESCRIPTION:See Anna Teye for details.  The event will be held in the Fellowship Hall.
URL:https://theconnection.ws/event/7-900pm-esthers-place-christmas-party/
LOCATION:Fellowship Hall
END:VEVENT
BEGIN:VEVENT
DTSTART;TZID=America/New_York:20211113T130000
DTEND;TZID=America/New_York:20211113T160000
DTSTAMP:20260425T213524
CREATED:20211107T045231Z
LAST-MODIFIED:20211107T045231Z
UID:8775-1636808400-1636819200@theconnection.ws
SUMMARY:1:00pm Shoe-box Christmas Packing Party
DESCRIPTION:See Bev Mann for details
URL:https://theconnection.ws/event/100pm-shoe-box-christmas-packing-party/
END:VEVENT
BEGIN:VEVENT
DTSTART;TZID=America/New_York:20211112T180000
DTEND;TZID=America/New_York:20211112T210000
DTSTAMP:20260425T213524
CREATED:20211026T015554Z
LAST-MODIFIED:20211026T015554Z
UID:8745-1636740000-1636750800@theconnection.ws
SUMMARY:6-9:00pm FFI Team Meeting
DESCRIPTION:Contact Joetta Beaver for details.
URL:https://theconnection.ws/event/6-900pm-ffi-team-meeting/
LOCATION:Main Sanctuary
END:VEVENT
BEGIN:VEVENT
DTSTART;TZID=America/New_York:20211105T190000
DTEND;TZID=America/New_York:20211105T210000
DTSTAMP:20260425T213524
CREATED:20211023T174747Z
LAST-MODIFIED:20211023T190923Z
UID:8706-1636138800-1636146000@theconnection.ws
SUMMARY:7:00pm Influence Conference BUSINESS SPHERE (Click Featured Event Link For More Information)
DESCRIPTION:If you are employed of involved in the area of Business\, come receive from the Lord to help influence your sphere for the Kingdom of God.
URL:https://theconnection.ws/event/700pm-influence-conference-business-sphere-click-event-link-on-homepage-for-more-information/
LOCATION:Main Sanctuary
END:VEVENT
BEGIN:VEVENT
DTSTART;TZID=America/New_York:20211104T190000
DTEND;TZID=America/New_York:20211104T210000
DTSTAMP:20260425T213524
CREATED:20211023T174431Z
LAST-MODIFIED:20211023T190905Z
UID:8703-1636052400-1636059600@theconnection.ws
SUMMARY:7:00pm Influence Conference HEALTHCARE SPHERE (Click Featured Event Link For More Information)
DESCRIPTION:If you are employed of involved in the area of Healthcare\, come receive from the Lord to help influence your sphere for the Kingdom of God.
URL:https://theconnection.ws/event/700pm-influence-conference-healthcare-sphere-click-event-link-on-homepage-for-more-information/
LOCATION:Main Sanctuary
END:VEVENT
BEGIN:VEVENT
DTSTART;TZID=America/New_York:20211103T190000
DTEND;TZID=America/New_York:20211103T210000
DTSTAMP:20260425T213524
CREATED:20211023T173719Z
LAST-MODIFIED:20211023T190848Z
UID:8700-1635966000-1635973200@theconnection.ws
SUMMARY:7:00pm Influence Conference ARTS / MEDIA / ENTERTAIN.. SPHERE (Click Featured Event Link For More Information)
DESCRIPTION:If you are employed of involved in the area of Arts\, Media or Entertainment\, come receive from the Lord to help influence your sphere for the Kingdom of God.
URL:https://theconnection.ws/event/700pm-influence-conference-arts-media-entertainment-sphere-click-event-link-on-homepage-for-more-information/
LOCATION:Main Sanctuary
END:VEVENT
BEGIN:VEVENT
DTSTART;TZID=America/New_York:20211102T190000
DTEND;TZID=America/New_York:20211102T210000
DTSTAMP:20260425T213524
CREATED:20211023T172100Z
LAST-MODIFIED:20211023T190830Z
UID:8695-1635879600-1635886800@theconnection.ws
SUMMARY:7:00pm Influence Conference GOVT / LAW ENFORCE.. SPHERE (Click Featured Event Link For More Information)
DESCRIPTION:If you are employed of involved in the area of Government or Law Enforcement\, come receive from the Lord to help influence your sphere for the Kingdom of God.
URL:https://theconnection.ws/event/700pm-influence-conference-government-law-enforcement-sphere/
LOCATION:Main Sanctuary
END:VEVENT
BEGIN:VEVENT
DTSTART;TZID=America/New_York:20211101T190000
DTEND;TZID=America/New_York:20211101T210000
DTSTAMP:20260425T213524
CREATED:20211023T171404Z
LAST-MODIFIED:20211023T190808Z
UID:8692-1635793200-1635800400@theconnection.ws
SUMMARY:7:00pm Influence Conference EDUCATION SPHERE (Click Featured Event Link For More Information)
DESCRIPTION:If you are employed of involved in the area of Education\, come receive from the Lord to help influence your sphere for the Kingdom of God.
URL:https://theconnection.ws/event/700pm-influence-conference-education-sphere-click-event-link-on-homepage-for-more-information/
LOCATION:Main Sanctuary
END:VEVENT
BEGIN:VEVENT
DTSTART;TZID=America/New_York:20211030T120000
DTEND;TZID=America/New_York:20211030T150000
DTSTAMP:20260425T213524
CREATED:20210909T002623Z
LAST-MODIFIED:20210909T002623Z
UID:8464-1635595200-1635606000@theconnection.ws
SUMMARY:12-3:00pm Private Event
DESCRIPTION:See Anna Teye for details.  This is a baby shower for Leigha.
URL:https://theconnection.ws/event/12-300pm-private-event/
LOCATION:Fellowship Hall
END:VEVENT
BEGIN:VEVENT
DTSTART;TZID=America/New_York:20211029T190000
DTEND;TZID=America/New_York:20211029T233000
DTSTAMP:20260425T213524
CREATED:20211003T023557Z
LAST-MODIFIED:20211003T023557Z
UID:8637-1635534000-1635550200@theconnection.ws
SUMMARY:7:00-12:00pm HSPC Prayer Vigil
DESCRIPTION:See Pastor Robson for details and typically length of event.
URL:https://theconnection.ws/event/700-1200pm-hspc-prayer-vigil-4/
LOCATION:Main Sanctuary
END:VEVENT
BEGIN:VEVENT
DTSTART;TZID=America/New_York:20211028T160000
DTEND;TZID=America/New_York:20211028T210000
DTSTAMP:20260425T213524
CREATED:20211026T021316Z
LAST-MODIFIED:20211026T021316Z
UID:8747-1635436800-1635454800@theconnection.ws
SUMMARY:4-9:00pm Set Up For Saturday Event
DESCRIPTION:Fellowship Hall set up for private event.  Contact Anna Teye for details.
URL:https://theconnection.ws/event/4-900pm-set-up-for-saturday-event/
LOCATION:Fellowship Hall
END:VEVENT
BEGIN:VEVENT
DTSTART;TZID=America/New_York:20211009T090000
DTEND;TZID=America/New_York:20211009T183000
DTSTAMP:20260425T213524
CREATED:20210909T003305Z
LAST-MODIFIED:20210909T003305Z
UID:8468-1633770000-1633804200@theconnection.ws
SUMMARY:9:00am-6:30pm FFI Transforming Hearts Seminar
DESCRIPTION:See Joetta Beaver for details or registration information
URL:https://theconnection.ws/event/900am-630pm-ffi-transforming-hearts-seminar/
LOCATION:Main Sanctuary
END:VEVENT
BEGIN:VEVENT
DTSTART;TZID=America/New_York:20211008T183000
DTEND;TZID=America/New_York:20211008T220000
DTSTAMP:20260425T213524
CREATED:20210909T003122Z
LAST-MODIFIED:20210909T003122Z
UID:8466-1633717800-1633730400@theconnection.ws
SUMMARY:6:30-10:00pm FFI Transforming Hearts Seminar
DESCRIPTION:See Joetta Beaver for details or registration information.
URL:https://theconnection.ws/event/630-1000pm-ffi-transforming-hearts-seminar/
LOCATION:Main Sanctuary
END:VEVENT
BEGIN:VEVENT
DTSTART;TZID=America/New_York:20211005T180000
DTEND;TZID=America/New_York:20211005T213000
DTSTAMP:20260425T213524
CREATED:20210909T004928Z
LAST-MODIFIED:20210909T004928Z
UID:8478-1633456800-1633469400@theconnection.ws
SUMMARY:6-9:30pm FFI Process Group
DESCRIPTION:See Joetta Beaver for details.  This is a closed group.
URL:https://theconnection.ws/event/6-930pm-ffi-process-group-4/
LOCATION:Main Sanctuary
END:VEVENT
BEGIN:VEVENT
DTSTART;TZID=America/New_York:20210928T180000
DTEND;TZID=America/New_York:20210928T213000
DTSTAMP:20260425T213524
CREATED:20210909T004839Z
LAST-MODIFIED:20210909T004839Z
UID:8476-1632852000-1632864600@theconnection.ws
SUMMARY:6-9:30pm FFI Process Group
DESCRIPTION:See Joetta Beaver for details.  This is a closed group.
URL:https://theconnection.ws/event/6-930pm-ffi-process-group-3/
LOCATION:Main Sanctuary
END:VEVENT
BEGIN:VEVENT
DTSTART;TZID=America/New_York:20210924T190000
DTEND;TZID=America/New_York:20210924T230000
DTSTAMP:20260425T213524
CREATED:20210904T154242Z
LAST-MODIFIED:20210904T154242Z
UID:8453-1632510000-1632524400@theconnection.ws
SUMMARY:7-11:00pm HSPC Prayer Vigil
DESCRIPTION:See Pastor Robson for details
URL:https://theconnection.ws/event/7-1100pm-hspc-prayer-vigil/
LOCATION:Main Sanctuary
END:VEVENT
BEGIN:VEVENT
DTSTART;TZID=America/New_York:20210921T180000
DTEND;TZID=America/New_York:20210921T213000
DTSTAMP:20260425T213524
CREATED:20210909T004749Z
LAST-MODIFIED:20210909T004749Z
UID:8474-1632247200-1632259800@theconnection.ws
SUMMARY:6-9:30pm FFI Process Group
DESCRIPTION:See Joetta Beaver for details.  This is a closed group.
URL:https://theconnection.ws/event/6-930pm-ffi-process-group-2/
LOCATION:Main Sanctuary
END:VEVENT
BEGIN:VEVENT
DTSTART;TZID=America/New_York:20210914T180000
DTEND;TZID=America/New_York:20210914T213000
DTSTAMP:20260425T213524
CREATED:20210909T004634Z
LAST-MODIFIED:20210909T004634Z
UID:8472-1631642400-1631655000@theconnection.ws
SUMMARY:6-9:30pm FFI Process Group
DESCRIPTION:See Joetta Beaver for details.  This is a closed group.
URL:https://theconnection.ws/event/6-930pm-ffi-process-group/
LOCATION:Main Sanctuary
END:VEVENT
BEGIN:VEVENT
DTSTART;TZID=America/New_York:20210906T090000
DTEND;TZID=America/New_York:20210906T180000
DTSTAMP:20260425T213524
CREATED:20210814T000622Z
LAST-MODIFIED:20210814T000622Z
UID:8403-1630918800-1630951200@theconnection.ws
SUMMARY:9:00am-6:00pm FFI Event
DESCRIPTION:See Joetta Beaver for details.  Times not determined at time of publishing
URL:https://theconnection.ws/event/900am-600pm-ffi-event/
LOCATION:Main Sanctuary
END:VEVENT
BEGIN:VEVENT
DTSTART;TZID=America/New_York:20210905T180000
DTEND;TZID=America/New_York:20210905T220000
DTSTAMP:20260425T213524
CREATED:20210814T000429Z
LAST-MODIFIED:20210814T000429Z
UID:8401-1630864800-1630879200@theconnection.ws
SUMMARY:6:00pm FFI Event
DESCRIPTION:See Joetta Beaver for details
URL:https://theconnection.ws/event/600pm-ffi-event/
LOCATION:Main Sanctuary
END:VEVENT
BEGIN:VEVENT
DTSTART;TZID=America/New_York:20210904T090000
DTEND;TZID=America/New_York:20210904T120000
DTSTAMP:20260425T213524
CREATED:20210817T173321Z
LAST-MODIFIED:20210817T173321Z
UID:8410-1630746000-1630756800@theconnection.ws
SUMMARY:9:00-12:00 FFI Event
DESCRIPTION:See Joetta Beaver for details
URL:https://theconnection.ws/event/900-1200-ffi-event/
LOCATION:Main Sanctuary
END:VEVENT
BEGIN:VEVENT
DTSTART;TZID=America/New_York:20210821T090000
DTEND;TZID=America/New_York:20210821T180000
DTSTAMP:20260425T213524
CREATED:20210727T034528Z
LAST-MODIFIED:20210727T034528Z
UID:8354-1629536400-1629568800@theconnection.ws
SUMMARY:9:00-6:00pm Private Event
DESCRIPTION:Private event. Please see Doug Fentiman for details.
URL:https://theconnection.ws/event/900-600pm-private-event/
LOCATION:Fellowship Hall
END:VEVENT
BEGIN:VEVENT
DTSTART;TZID=America/New_York:20210628T180000
DTEND;TZID=America/New_York:20210628T210000
DTSTAMP:20260425T213524
CREATED:20210616T201744Z
LAST-MODIFIED:20210616T201956Z
UID:7942-1624903200-1624914000@theconnection.ws
SUMMARY:6-9:00pm FFI Celebration/ Fellowship
DESCRIPTION:An FFI Celebration/Fellowship event which is by invitation only.  Please see Joetta Beaver for details.
URL:https://theconnection.ws/event/6-900pm-ffi-celebration-fellowship/
LOCATION:Main Sanctuary
END:VEVENT
BEGIN:VEVENT
DTSTART;TZID=America/New_York:20210619T140000
DTEND;TZID=America/New_York:20210619T210000
DTSTAMP:20260425T213524
CREATED:20210303T222323Z
LAST-MODIFIED:20210306T191039Z
UID:7585-1624111200-1624136400@theconnection.ws
SUMMARY:2:00-9:00pm Private Wedding Event
DESCRIPTION:Please see Pastor Robson for details.  This event will use both the Sanctuary and the Fellowship Hall.
URL:https://theconnection.ws/event/200-900pm-private-wedding-event/
LOCATION:Main Sanctuary
END:VEVENT
BEGIN:VEVENT
DTSTART;TZID=America/New_York:20210618T140000
DTEND;TZID=America/New_York:20210618T220000
DTSTAMP:20260425T213524
CREATED:20210303T222601Z
LAST-MODIFIED:20210306T190931Z
UID:7587-1624024800-1624053600@theconnection.ws
SUMMARY:Private Wedding Setup
DESCRIPTION:See Pastor Robson for details.
URL:https://theconnection.ws/event/private-wedding-setup/
LOCATION:Main Sanctuary
END:VEVENT
BEGIN:VEVENT
DTSTART;TZID=America/New_York:20210605T080000
DTEND;TZID=America/New_York:20210605T180000
DTSTAMP:20260425T213524
CREATED:20210412T140716Z
LAST-MODIFIED:20210412T141023Z
UID:7694-1622880000-1622916000@theconnection.ws
SUMMARY:9-6pm FFI Training
DESCRIPTION:See Joetta Beaver for details.
URL:https://theconnection.ws/event/9-6pm-ffi-training/
LOCATION:Main Sanctuary
END:VEVENT
BEGIN:VEVENT
DTSTART;TZID=America/New_York:20210604T090000
DTEND;TZID=America/New_York:20210604T170000
DTSTAMP:20260425T213524
CREATED:20210412T140614Z
LAST-MODIFIED:20210412T141010Z
UID:7692-1622797200-1622826000@theconnection.ws
SUMMARY:9-5pm FFI Training
DESCRIPTION:See Joetta Beaver for details.
URL:https://theconnection.ws/event/9-5pm-ffi-training-2/
LOCATION:Main Sanctuary
END:VEVENT
BEGIN:VEVENT
DTSTART;TZID=America/New_York:20210603T090000
DTEND;TZID=America/New_York:20210603T170000
DTSTAMP:20260425T213524
CREATED:20210412T140454Z
LAST-MODIFIED:20210412T140454Z
UID:7690-1622710800-1622739600@theconnection.ws
SUMMARY:9-5pm FFI Training
DESCRIPTION:This event will use the Main Sanctuary and possibly the Fellowship Hall.  Contact Joetta Beaver for more information.
URL:https://theconnection.ws/event/9-5pm-ffi-training/
END:VEVENT
BEGIN:VEVENT
DTSTART;TZID=America/New_York:20210515T103000
DTEND;TZID=America/New_York:20210515T150000
DTSTAMP:20260425T213524
CREATED:20210409T044957Z
LAST-MODIFIED:20210409T044957Z
UID:7674-1621074600-1621090800@theconnection.ws
SUMMARY:10:30am Pastor Paul Walls Celebration of Life Service
DESCRIPTION:A celebration of the life of Pastor Paul Walls.
URL:https://theconnection.ws/event/1030am-pastor-paul-walls-celebration-of-life-service/
LOCATION:The Connection Church\, 5532 Sinclair Rd\, Columbus\, OH\, 43229\, United States
END:VEVENT
END:VCALENDAR