BEGIN:VCALENDAR
VERSION:2.0
PRODID:-//The Connection Church - ECPv6.5.1.5//NONSGML v1.0//EN
CALSCALE:GREGORIAN
METHOD:PUBLISH
X-ORIGINAL-URL:https://theconnection.ws
X-WR-CALDESC:Events for The Connection Church
REFRESH-INTERVAL;VALUE=DURATION:PT1H
X-Robots-Tag:noindex
X-PUBLISHED-TTL:PT1H
BEGIN:VTIMEZONE
TZID:America/New_York
BEGIN:DAYLIGHT
TZOFFSETFROM:-0500
TZOFFSETTO:-0400
TZNAME:EDT
DTSTART:20280312T070000
END:DAYLIGHT
BEGIN:STANDARD
TZOFFSETFROM:-0400
TZOFFSETTO:-0500
TZNAME:EST
DTSTART:20281105T060000
END:STANDARD
END:VTIMEZONE
BEGIN:VEVENT
DTSTART;TZID=America/New_York:20280326T150000
DTEND;TZID=America/New_York:20280326T170000
DTSTAMP:20260424T080910
CREATED:20171030T032015Z
LAST-MODIFIED:20171030T032015Z
UID:13674-1837695600-1837702800@theconnection.ws
SUMMARY:Hspc Service
DESCRIPTION:Our Hispanic Service meets in the Main Sanctuary.
URL:https://theconnection.ws/event/300-hspc-service/2028-03-26/
END:VEVENT
BEGIN:VEVENT
DTSTART;TZID=America/New_York:20280329T183000
DTEND;TZID=America/New_York:20280329T200000
DTSTAMP:20260424T080910
CREATED:20171030T033600Z
LAST-MODIFIED:20171030T033600Z
UID:13676-1837967400-1837972800@theconnection.ws
SUMMARY:Women's Connect Group
DESCRIPTION:Will meet in the back of the sanctuary unless announced otherwise.
URL:https://theconnection.ws/event/700pm-womans-connect-group-2021-01-06/2028-03-29/
END:VEVENT
BEGIN:VEVENT
DTSTART;TZID=America/New_York:20280329T183000
DTEND;TZID=America/New_York:20280329T203000
DTSTAMP:20260424T080910
CREATED:20171031T011231Z
LAST-MODIFIED:20171031T011231Z
UID:13675-1837967400-1837974600@theconnection.ws
SUMMARY:Hspc Prayer Service
DESCRIPTION:Will meet in the Fellowship Hall.  See Pastor Robson for details.
URL:https://theconnection.ws/event/630-hspc-prayer-service-2021-01-06/2028-03-29/
END:VEVENT
BEGIN:VEVENT
DTSTART;TZID=America/New_York:20280402T100000
DTEND;TZID=America/New_York:20280402T113000
DTSTAMP:20260424T080910
CREATED:20171028T045217Z
LAST-MODIFIED:20171028T045217Z
UID:13677-1838282400-1838287800@theconnection.ws
SUMMARY:Sunday Morning Service
DESCRIPTION:Come worship with us.  Expect a time of singing\, prayer\, and hearing a message from God’s Word!  We look forward to seeing you! \nWill meet in the Main Sanctuary.
URL:https://theconnection.ws/event/sunday-worship-service/2028-04-02/
END:VEVENT
BEGIN:VEVENT
DTSTART;TZID=America/New_York:20280402T150000
DTEND;TZID=America/New_York:20280402T170000
DTSTAMP:20260424T080910
CREATED:20171030T032015Z
LAST-MODIFIED:20171030T032015Z
UID:13678-1838300400-1838307600@theconnection.ws
SUMMARY:Hspc Service
DESCRIPTION:Our Hispanic Service meets in the Main Sanctuary.
URL:https://theconnection.ws/event/300-hspc-service/2028-04-02/
END:VEVENT
BEGIN:VEVENT
DTSTART;TZID=America/New_York:20280405T183000
DTEND;TZID=America/New_York:20280405T200000
DTSTAMP:20260424T080910
CREATED:20171030T033600Z
LAST-MODIFIED:20171030T033600Z
UID:13680-1838572200-1838577600@theconnection.ws
SUMMARY:Women's Connect Group
DESCRIPTION:Will meet in the back of the sanctuary unless announced otherwise.
URL:https://theconnection.ws/event/700pm-womans-connect-group-2021-01-06/2028-04-05/
END:VEVENT
BEGIN:VEVENT
DTSTART;TZID=America/New_York:20280405T183000
DTEND;TZID=America/New_York:20280405T203000
DTSTAMP:20260424T080910
CREATED:20171031T011231Z
LAST-MODIFIED:20171031T011231Z
UID:13679-1838572200-1838579400@theconnection.ws
SUMMARY:Hspc Prayer Service
DESCRIPTION:Will meet in the Fellowship Hall.  See Pastor Robson for details.
URL:https://theconnection.ws/event/630-hspc-prayer-service-2021-01-06/2028-04-05/
END:VEVENT
BEGIN:VEVENT
DTSTART;TZID=America/New_York:20280409T100000
DTEND;TZID=America/New_York:20280409T113000
DTSTAMP:20260424T080910
CREATED:20171028T045217Z
LAST-MODIFIED:20171028T045217Z
UID:13681-1838887200-1838892600@theconnection.ws
SUMMARY:Sunday Morning Service
DESCRIPTION:Come worship with us.  Expect a time of singing\, prayer\, and hearing a message from God’s Word!  We look forward to seeing you! \nWill meet in the Main Sanctuary.
URL:https://theconnection.ws/event/sunday-worship-service/2028-04-09/
END:VEVENT
BEGIN:VEVENT
DTSTART;TZID=America/New_York:20280409T150000
DTEND;TZID=America/New_York:20280409T170000
DTSTAMP:20260424T080910
CREATED:20171030T032015Z
LAST-MODIFIED:20171030T032015Z
UID:13682-1838905200-1838912400@theconnection.ws
SUMMARY:Hspc Service
DESCRIPTION:Our Hispanic Service meets in the Main Sanctuary.
URL:https://theconnection.ws/event/300-hspc-service/2028-04-09/
END:VEVENT
BEGIN:VEVENT
DTSTART;TZID=America/New_York:20280412T183000
DTEND;TZID=America/New_York:20280412T200000
DTSTAMP:20260424T080910
CREATED:20171030T033600Z
LAST-MODIFIED:20171030T033600Z
UID:13684-1839177000-1839182400@theconnection.ws
SUMMARY:Women's Connect Group
DESCRIPTION:Will meet in the back of the sanctuary unless announced otherwise.
URL:https://theconnection.ws/event/700pm-womans-connect-group-2021-01-06/2028-04-12/
END:VEVENT
BEGIN:VEVENT
DTSTART;TZID=America/New_York:20280412T183000
DTEND;TZID=America/New_York:20280412T203000
DTSTAMP:20260424T080910
CREATED:20171031T011231Z
LAST-MODIFIED:20171031T011231Z
UID:13683-1839177000-1839184200@theconnection.ws
SUMMARY:Hspc Prayer Service
DESCRIPTION:Will meet in the Fellowship Hall.  See Pastor Robson for details.
URL:https://theconnection.ws/event/630-hspc-prayer-service-2021-01-06/2028-04-12/
END:VEVENT
BEGIN:VEVENT
DTSTART;TZID=America/New_York:20280416T100000
DTEND;TZID=America/New_York:20280416T113000
DTSTAMP:20260424T080910
CREATED:20171028T045217Z
LAST-MODIFIED:20171028T045217Z
UID:13685-1839492000-1839497400@theconnection.ws
SUMMARY:Sunday Morning Service
DESCRIPTION:Come worship with us.  Expect a time of singing\, prayer\, and hearing a message from God’s Word!  We look forward to seeing you! \nWill meet in the Main Sanctuary.
URL:https://theconnection.ws/event/sunday-worship-service/2028-04-16/
END:VEVENT
BEGIN:VEVENT
DTSTART;TZID=America/New_York:20280416T150000
DTEND;TZID=America/New_York:20280416T170000
DTSTAMP:20260424T080910
CREATED:20171030T032015Z
LAST-MODIFIED:20171030T032015Z
UID:13686-1839510000-1839517200@theconnection.ws
SUMMARY:Hspc Service
DESCRIPTION:Our Hispanic Service meets in the Main Sanctuary.
URL:https://theconnection.ws/event/300-hspc-service/2028-04-16/
END:VEVENT
BEGIN:VEVENT
DTSTART;TZID=America/New_York:20280419T183000
DTEND;TZID=America/New_York:20280419T200000
DTSTAMP:20260424T080910
CREATED:20171030T033600Z
LAST-MODIFIED:20171030T033600Z
UID:13688-1839781800-1839787200@theconnection.ws
SUMMARY:Women's Connect Group
DESCRIPTION:Will meet in the back of the sanctuary unless announced otherwise.
URL:https://theconnection.ws/event/700pm-womans-connect-group-2021-01-06/2028-04-19/
END:VEVENT
BEGIN:VEVENT
DTSTART;TZID=America/New_York:20280419T183000
DTEND;TZID=America/New_York:20280419T203000
DTSTAMP:20260424T080910
CREATED:20171031T011231Z
LAST-MODIFIED:20171031T011231Z
UID:13687-1839781800-1839789000@theconnection.ws
SUMMARY:Hspc Prayer Service
DESCRIPTION:Will meet in the Fellowship Hall.  See Pastor Robson for details.
URL:https://theconnection.ws/event/630-hspc-prayer-service-2021-01-06/2028-04-19/
END:VEVENT
BEGIN:VEVENT
DTSTART;TZID=America/New_York:20280421T190000
DTEND;TZID=America/New_York:20280421T203000
DTSTAMP:20260424T080910
CREATED:20240903T223631Z
LAST-MODIFIED:20240903T223631Z
UID:13689-1839956400-1839961800@theconnection.ws
SUMMARY:Worship Night
DESCRIPTION:This event will be held in the main sanctuary.  Please see Doug Fentiman for details.
URL:https://theconnection.ws/event/worship-night-2/2028-04-21/
LOCATION:Main Sanctuary
END:VEVENT
END:VCALENDAR