BEGIN:VCALENDAR
VERSION:2.0
PRODID:-//The Connection Church - ECPv6.5.1.5//NONSGML v1.0//EN
CALSCALE:GREGORIAN
METHOD:PUBLISH
X-ORIGINAL-URL:https://theconnection.ws
X-WR-CALDESC:Events for The Connection Church
REFRESH-INTERVAL;VALUE=DURATION:PT1H
X-Robots-Tag:noindex
X-PUBLISHED-TTL:PT1H
BEGIN:VTIMEZONE
TZID:America/New_York
BEGIN:DAYLIGHT
TZOFFSETFROM:-0500
TZOFFSETTO:-0400
TZNAME:EDT
DTSTART:20280312T070000
END:DAYLIGHT
BEGIN:STANDARD
TZOFFSETFROM:-0400
TZOFFSETTO:-0500
TZNAME:EST
DTSTART:20281105T060000
END:STANDARD
END:VTIMEZONE
BEGIN:VEVENT
DTSTART;TZID=America/New_York:20280206T150000
DTEND;TZID=America/New_York:20280206T170000
DTSTAMP:20260425T122917
CREATED:20171030T032015Z
LAST-MODIFIED:20171030T032015Z
UID:13643-1833462000-1833469200@theconnection.ws
SUMMARY:Hspc Service
DESCRIPTION:Our Hispanic Service meets in the Main Sanctuary.
URL:https://theconnection.ws/event/300-hspc-service/2028-02-06/
END:VEVENT
BEGIN:VEVENT
DTSTART;TZID=America/New_York:20280209T183000
DTEND;TZID=America/New_York:20280209T200000
DTSTAMP:20260425T122917
CREATED:20171030T033600Z
LAST-MODIFIED:20171030T033600Z
UID:13646-1833733800-1833739200@theconnection.ws
SUMMARY:Women's Connect Group
DESCRIPTION:Will meet in the back of the sanctuary unless announced otherwise.
URL:https://theconnection.ws/event/700pm-womans-connect-group-2021-01-06/2028-02-09/
END:VEVENT
BEGIN:VEVENT
DTSTART;TZID=America/New_York:20280209T183000
DTEND;TZID=America/New_York:20280209T203000
DTSTAMP:20260425T122917
CREATED:20171031T011231Z
LAST-MODIFIED:20171031T011231Z
UID:13645-1833733800-1833741000@theconnection.ws
SUMMARY:Hspc Prayer Service
DESCRIPTION:Will meet in the Fellowship Hall.  See Pastor Robson for details.
URL:https://theconnection.ws/event/630-hspc-prayer-service-2021-01-06/2028-02-09/
END:VEVENT
BEGIN:VEVENT
DTSTART;TZID=America/New_York:20280213T100000
DTEND;TZID=America/New_York:20280213T113000
DTSTAMP:20260425T122917
CREATED:20171028T045217Z
LAST-MODIFIED:20171028T045217Z
UID:13647-1834048800-1834054200@theconnection.ws
SUMMARY:Sunday Morning Service
DESCRIPTION:Come worship with us.  Expect a time of singing\, prayer\, and hearing a message from God’s Word!  We look forward to seeing you! \nWill meet in the Main Sanctuary.
URL:https://theconnection.ws/event/sunday-worship-service/2028-02-13/
END:VEVENT
BEGIN:VEVENT
DTSTART;TZID=America/New_York:20280213T150000
DTEND;TZID=America/New_York:20280213T170000
DTSTAMP:20260425T122917
CREATED:20171030T032015Z
LAST-MODIFIED:20171030T032015Z
UID:13648-1834066800-1834074000@theconnection.ws
SUMMARY:Hspc Service
DESCRIPTION:Our Hispanic Service meets in the Main Sanctuary.
URL:https://theconnection.ws/event/300-hspc-service/2028-02-13/
END:VEVENT
BEGIN:VEVENT
DTSTART;TZID=America/New_York:20280216T183000
DTEND;TZID=America/New_York:20280216T200000
DTSTAMP:20260425T122917
CREATED:20171030T033600Z
LAST-MODIFIED:20171030T033600Z
UID:13650-1834338600-1834344000@theconnection.ws
SUMMARY:Women's Connect Group
DESCRIPTION:Will meet in the back of the sanctuary unless announced otherwise.
URL:https://theconnection.ws/event/700pm-womans-connect-group-2021-01-06/2028-02-16/
END:VEVENT
BEGIN:VEVENT
DTSTART;TZID=America/New_York:20280216T183000
DTEND;TZID=America/New_York:20280216T203000
DTSTAMP:20260425T122917
CREATED:20171031T011231Z
LAST-MODIFIED:20171031T011231Z
UID:13649-1834338600-1834345800@theconnection.ws
SUMMARY:Hspc Prayer Service
DESCRIPTION:Will meet in the Fellowship Hall.  See Pastor Robson for details.
URL:https://theconnection.ws/event/630-hspc-prayer-service-2021-01-06/2028-02-16/
END:VEVENT
BEGIN:VEVENT
DTSTART;TZID=America/New_York:20280218T190000
DTEND;TZID=America/New_York:20280218T203000
DTSTAMP:20260425T122917
CREATED:20240903T223631Z
LAST-MODIFIED:20240903T223631Z
UID:13651-1834513200-1834518600@theconnection.ws
SUMMARY:Worship Night
DESCRIPTION:This event will be held in the main sanctuary.  Please see Doug Fentiman for details.
URL:https://theconnection.ws/event/worship-night-2/2028-02-18/
LOCATION:Main Sanctuary
END:VEVENT
BEGIN:VEVENT
DTSTART;TZID=America/New_York:20280220T100000
DTEND;TZID=America/New_York:20280220T113000
DTSTAMP:20260425T122917
CREATED:20171028T045217Z
LAST-MODIFIED:20171028T045217Z
UID:13652-1834653600-1834659000@theconnection.ws
SUMMARY:Sunday Morning Service
DESCRIPTION:Come worship with us.  Expect a time of singing\, prayer\, and hearing a message from God’s Word!  We look forward to seeing you! \nWill meet in the Main Sanctuary.
URL:https://theconnection.ws/event/sunday-worship-service/2028-02-20/
END:VEVENT
BEGIN:VEVENT
DTSTART;TZID=America/New_York:20280220T150000
DTEND;TZID=America/New_York:20280220T170000
DTSTAMP:20260425T122917
CREATED:20171030T032015Z
LAST-MODIFIED:20171030T032015Z
UID:13653-1834671600-1834678800@theconnection.ws
SUMMARY:Hspc Service
DESCRIPTION:Our Hispanic Service meets in the Main Sanctuary.
URL:https://theconnection.ws/event/300-hspc-service/2028-02-20/
END:VEVENT
BEGIN:VEVENT
DTSTART;TZID=America/New_York:20280223T183000
DTEND;TZID=America/New_York:20280223T200000
DTSTAMP:20260425T122917
CREATED:20171030T033600Z
LAST-MODIFIED:20171030T033600Z
UID:13655-1834943400-1834948800@theconnection.ws
SUMMARY:Women's Connect Group
DESCRIPTION:Will meet in the back of the sanctuary unless announced otherwise.
URL:https://theconnection.ws/event/700pm-womans-connect-group-2021-01-06/2028-02-23/
END:VEVENT
BEGIN:VEVENT
DTSTART;TZID=America/New_York:20280223T183000
DTEND;TZID=America/New_York:20280223T203000
DTSTAMP:20260425T122917
CREATED:20171031T011231Z
LAST-MODIFIED:20171031T011231Z
UID:13654-1834943400-1834950600@theconnection.ws
SUMMARY:Hspc Prayer Service
DESCRIPTION:Will meet in the Fellowship Hall.  See Pastor Robson for details.
URL:https://theconnection.ws/event/630-hspc-prayer-service-2021-01-06/2028-02-23/
END:VEVENT
BEGIN:VEVENT
DTSTART;TZID=America/New_York:20280227T100000
DTEND;TZID=America/New_York:20280227T113000
DTSTAMP:20260425T122917
CREATED:20171028T045217Z
LAST-MODIFIED:20171028T045217Z
UID:13656-1835258400-1835263800@theconnection.ws
SUMMARY:Sunday Morning Service
DESCRIPTION:Come worship with us.  Expect a time of singing\, prayer\, and hearing a message from God’s Word!  We look forward to seeing you! \nWill meet in the Main Sanctuary.
URL:https://theconnection.ws/event/sunday-worship-service/2028-02-27/
END:VEVENT
BEGIN:VEVENT
DTSTART;TZID=America/New_York:20280227T150000
DTEND;TZID=America/New_York:20280227T170000
DTSTAMP:20260425T122917
CREATED:20171030T032015Z
LAST-MODIFIED:20171030T032015Z
UID:13657-1835276400-1835283600@theconnection.ws
SUMMARY:Hspc Service
DESCRIPTION:Our Hispanic Service meets in the Main Sanctuary.
URL:https://theconnection.ws/event/300-hspc-service/2028-02-27/
END:VEVENT
BEGIN:VEVENT
DTSTART;TZID=America/New_York:20280301T183000
DTEND;TZID=America/New_York:20280301T200000
DTSTAMP:20260425T122917
CREATED:20171030T033600Z
LAST-MODIFIED:20171030T033600Z
UID:13659-1835548200-1835553600@theconnection.ws
SUMMARY:Women's Connect Group
DESCRIPTION:Will meet in the back of the sanctuary unless announced otherwise.
URL:https://theconnection.ws/event/700pm-womans-connect-group-2021-01-06/2028-03-01/
END:VEVENT
BEGIN:VEVENT
DTSTART;TZID=America/New_York:20280301T183000
DTEND;TZID=America/New_York:20280301T203000
DTSTAMP:20260425T122917
CREATED:20171031T011231Z
LAST-MODIFIED:20171031T011231Z
UID:13658-1835548200-1835555400@theconnection.ws
SUMMARY:Hspc Prayer Service
DESCRIPTION:Will meet in the Fellowship Hall.  See Pastor Robson for details.
URL:https://theconnection.ws/event/630-hspc-prayer-service-2021-01-06/2028-03-01/
END:VEVENT
BEGIN:VEVENT
DTSTART;TZID=America/New_York:20280305T100000
DTEND;TZID=America/New_York:20280305T113000
DTSTAMP:20260425T122917
CREATED:20171028T045217Z
LAST-MODIFIED:20171028T045217Z
UID:13660-1835863200-1835868600@theconnection.ws
SUMMARY:Sunday Morning Service
DESCRIPTION:Come worship with us.  Expect a time of singing\, prayer\, and hearing a message from God’s Word!  We look forward to seeing you! \nWill meet in the Main Sanctuary.
URL:https://theconnection.ws/event/sunday-worship-service/2028-03-05/
END:VEVENT
BEGIN:VEVENT
DTSTART;TZID=America/New_York:20280305T150000
DTEND;TZID=America/New_York:20280305T170000
DTSTAMP:20260425T122917
CREATED:20171030T032015Z
LAST-MODIFIED:20171030T032015Z
UID:13661-1835881200-1835888400@theconnection.ws
SUMMARY:Hspc Service
DESCRIPTION:Our Hispanic Service meets in the Main Sanctuary.
URL:https://theconnection.ws/event/300-hspc-service/2028-03-05/
END:VEVENT
BEGIN:VEVENT
DTSTART;TZID=America/New_York:20280308T183000
DTEND;TZID=America/New_York:20280308T200000
DTSTAMP:20260425T122917
CREATED:20171030T033600Z
LAST-MODIFIED:20171030T033600Z
UID:13663-1836153000-1836158400@theconnection.ws
SUMMARY:Women's Connect Group
DESCRIPTION:Will meet in the back of the sanctuary unless announced otherwise.
URL:https://theconnection.ws/event/700pm-womans-connect-group-2021-01-06/2028-03-08/
END:VEVENT
BEGIN:VEVENT
DTSTART;TZID=America/New_York:20280308T183000
DTEND;TZID=America/New_York:20280308T203000
DTSTAMP:20260425T122917
CREATED:20171031T011231Z
LAST-MODIFIED:20171031T011231Z
UID:13662-1836153000-1836160200@theconnection.ws
SUMMARY:Hspc Prayer Service
DESCRIPTION:Will meet in the Fellowship Hall.  See Pastor Robson for details.
URL:https://theconnection.ws/event/630-hspc-prayer-service-2021-01-06/2028-03-08/
END:VEVENT
BEGIN:VEVENT
DTSTART;TZID=America/New_York:20280312T100000
DTEND;TZID=America/New_York:20280312T113000
DTSTAMP:20260425T122917
CREATED:20171028T045217Z
LAST-MODIFIED:20171028T045217Z
UID:13664-1836468000-1836473400@theconnection.ws
SUMMARY:Sunday Morning Service
DESCRIPTION:Come worship with us.  Expect a time of singing\, prayer\, and hearing a message from God’s Word!  We look forward to seeing you! \nWill meet in the Main Sanctuary.
URL:https://theconnection.ws/event/sunday-worship-service/2028-03-12/
END:VEVENT
BEGIN:VEVENT
DTSTART;TZID=America/New_York:20280312T150000
DTEND;TZID=America/New_York:20280312T170000
DTSTAMP:20260425T122917
CREATED:20171030T032015Z
LAST-MODIFIED:20171030T032015Z
UID:13665-1836486000-1836493200@theconnection.ws
SUMMARY:Hspc Service
DESCRIPTION:Our Hispanic Service meets in the Main Sanctuary.
URL:https://theconnection.ws/event/300-hspc-service/2028-03-12/
END:VEVENT
BEGIN:VEVENT
DTSTART;TZID=America/New_York:20280315T183000
DTEND;TZID=America/New_York:20280315T200000
DTSTAMP:20260425T122917
CREATED:20171030T033600Z
LAST-MODIFIED:20171030T033600Z
UID:13667-1836757800-1836763200@theconnection.ws
SUMMARY:Women's Connect Group
DESCRIPTION:Will meet in the back of the sanctuary unless announced otherwise.
URL:https://theconnection.ws/event/700pm-womans-connect-group-2021-01-06/2028-03-15/
END:VEVENT
BEGIN:VEVENT
DTSTART;TZID=America/New_York:20280315T183000
DTEND;TZID=America/New_York:20280315T203000
DTSTAMP:20260425T122917
CREATED:20171031T011231Z
LAST-MODIFIED:20171031T011231Z
UID:13666-1836757800-1836765000@theconnection.ws
SUMMARY:Hspc Prayer Service
DESCRIPTION:Will meet in the Fellowship Hall.  See Pastor Robson for details.
URL:https://theconnection.ws/event/630-hspc-prayer-service-2021-01-06/2028-03-15/
END:VEVENT
BEGIN:VEVENT
DTSTART;TZID=America/New_York:20280317T190000
DTEND;TZID=America/New_York:20280317T203000
DTSTAMP:20260425T122917
CREATED:20240903T223631Z
LAST-MODIFIED:20240903T223631Z
UID:13668-1836932400-1836937800@theconnection.ws
SUMMARY:Worship Night
DESCRIPTION:This event will be held in the main sanctuary.  Please see Doug Fentiman for details.
URL:https://theconnection.ws/event/worship-night-2/2028-03-17/
LOCATION:Main Sanctuary
END:VEVENT
BEGIN:VEVENT
DTSTART;TZID=America/New_York:20280319T100000
DTEND;TZID=America/New_York:20280319T113000
DTSTAMP:20260425T122917
CREATED:20171028T045217Z
LAST-MODIFIED:20171028T045217Z
UID:13669-1837072800-1837078200@theconnection.ws
SUMMARY:Sunday Morning Service
DESCRIPTION:Come worship with us.  Expect a time of singing\, prayer\, and hearing a message from God’s Word!  We look forward to seeing you! \nWill meet in the Main Sanctuary.
URL:https://theconnection.ws/event/sunday-worship-service/2028-03-19/
END:VEVENT
BEGIN:VEVENT
DTSTART;TZID=America/New_York:20280319T150000
DTEND;TZID=America/New_York:20280319T170000
DTSTAMP:20260425T122917
CREATED:20171030T032015Z
LAST-MODIFIED:20171030T032015Z
UID:13670-1837090800-1837098000@theconnection.ws
SUMMARY:Hspc Service
DESCRIPTION:Our Hispanic Service meets in the Main Sanctuary.
URL:https://theconnection.ws/event/300-hspc-service/2028-03-19/
END:VEVENT
BEGIN:VEVENT
DTSTART;TZID=America/New_York:20280322T183000
DTEND;TZID=America/New_York:20280322T200000
DTSTAMP:20260425T122917
CREATED:20171030T033600Z
LAST-MODIFIED:20171030T033600Z
UID:13672-1837362600-1837368000@theconnection.ws
SUMMARY:Women's Connect Group
DESCRIPTION:Will meet in the back of the sanctuary unless announced otherwise.
URL:https://theconnection.ws/event/700pm-womans-connect-group-2021-01-06/2028-03-22/
END:VEVENT
BEGIN:VEVENT
DTSTART;TZID=America/New_York:20280322T183000
DTEND;TZID=America/New_York:20280322T203000
DTSTAMP:20260425T122917
CREATED:20171031T011231Z
LAST-MODIFIED:20171031T011231Z
UID:13671-1837362600-1837369800@theconnection.ws
SUMMARY:Hspc Prayer Service
DESCRIPTION:Will meet in the Fellowship Hall.  See Pastor Robson for details.
URL:https://theconnection.ws/event/630-hspc-prayer-service-2021-01-06/2028-03-22/
END:VEVENT
BEGIN:VEVENT
DTSTART;TZID=America/New_York:20280326T100000
DTEND;TZID=America/New_York:20280326T113000
DTSTAMP:20260425T122917
CREATED:20171028T045217Z
LAST-MODIFIED:20171028T045217Z
UID:13673-1837677600-1837683000@theconnection.ws
SUMMARY:Sunday Morning Service
DESCRIPTION:Come worship with us.  Expect a time of singing\, prayer\, and hearing a message from God’s Word!  We look forward to seeing you! \nWill meet in the Main Sanctuary.
URL:https://theconnection.ws/event/sunday-worship-service/2028-03-26/
END:VEVENT
END:VCALENDAR