BEGIN:VCALENDAR
VERSION:2.0
PRODID:-//The Connection Church - ECPv6.5.1.5//NONSGML v1.0//EN
CALSCALE:GREGORIAN
METHOD:PUBLISH
X-ORIGINAL-URL:https://theconnection.ws
X-WR-CALDESC:Events for The Connection Church
REFRESH-INTERVAL;VALUE=DURATION:PT1H
X-Robots-Tag:noindex
X-PUBLISHED-TTL:PT1H
BEGIN:VTIMEZONE
TZID:America/New_York
BEGIN:DAYLIGHT
TZOFFSETFROM:-0500
TZOFFSETTO:-0400
TZNAME:EDT
DTSTART:20250309T070000
END:DAYLIGHT
BEGIN:STANDARD
TZOFFSETFROM:-0400
TZOFFSETTO:-0500
TZNAME:EST
DTSTART:20251102T060000
END:STANDARD
END:VTIMEZONE
BEGIN:VEVENT
DTSTART;TZID=America/New_York:20250202T100000
DTEND;TZID=America/New_York:20250202T113000
DTSTAMP:20260421T214443
CREATED:20171028T045217Z
LAST-MODIFIED:20250226T231346Z
UID:10485-1738490400-1738495800@theconnection.ws
SUMMARY:Sunday Morning Service
DESCRIPTION:Come worship with us.  Expect a time of singing\, prayer\, and hearing a message from God’s Word!  We look forward to seeing you! \nWill meet in the Main Sanctuary.
URL:https://theconnection.ws/event/sunday-worship-service/2025-02-02/
END:VEVENT
BEGIN:VEVENT
DTSTART;TZID=America/New_York:20250202T150000
DTEND;TZID=America/New_York:20250202T170000
DTSTAMP:20260421T214443
CREATED:20171030T032015Z
LAST-MODIFIED:20250226T231826Z
UID:10486-1738508400-1738515600@theconnection.ws
SUMMARY:Hspc Service
DESCRIPTION:Our Hispanic Service meets in the Main Sanctuary.
URL:https://theconnection.ws/event/300-hspc-service/2025-02-02/
END:VEVENT
BEGIN:VEVENT
DTSTART;TZID=America/New_York:20250205T183000
DTEND;TZID=America/New_York:20250205T203000
DTSTAMP:20260421T214443
CREATED:20171031T011231Z
LAST-MODIFIED:20250226T230529Z
UID:10501-1738780200-1738787400@theconnection.ws
SUMMARY:Hspc Prayer Service
DESCRIPTION:Will meet in the Fellowship Hall.  See Pastor Robson for details.
URL:https://theconnection.ws/event/630-hspc-prayer-service-2021-01-06/2025-02-05/
END:VEVENT
BEGIN:VEVENT
DTSTART;TZID=America/New_York:20250209T100000
DTEND;TZID=America/New_York:20250209T113000
DTSTAMP:20260421T214443
CREATED:20171028T045217Z
LAST-MODIFIED:20250226T231347Z
UID:10504-1739095200-1739100600@theconnection.ws
SUMMARY:Sunday Morning Service
DESCRIPTION:Come worship with us.  Expect a time of singing\, prayer\, and hearing a message from God’s Word!  We look forward to seeing you! \nWill meet in the Main Sanctuary.
URL:https://theconnection.ws/event/sunday-worship-service/2025-02-09/
END:VEVENT
BEGIN:VEVENT
DTSTART;TZID=America/New_York:20250209T150000
DTEND;TZID=America/New_York:20250209T170000
DTSTAMP:20260421T214443
CREATED:20171030T032015Z
LAST-MODIFIED:20250226T231827Z
UID:10505-1739113200-1739120400@theconnection.ws
SUMMARY:Hspc Service
DESCRIPTION:Our Hispanic Service meets in the Main Sanctuary.
URL:https://theconnection.ws/event/300-hspc-service/2025-02-09/
END:VEVENT
BEGIN:VEVENT
DTSTART;TZID=America/New_York:20250212T183000
DTEND;TZID=America/New_York:20250212T203000
DTSTAMP:20260421T214443
CREATED:20171031T011231Z
LAST-MODIFIED:20250226T230529Z
UID:10513-1739385000-1739392200@theconnection.ws
SUMMARY:Hspc Prayer Service
DESCRIPTION:Will meet in the Fellowship Hall.  See Pastor Robson for details.
URL:https://theconnection.ws/event/630-hspc-prayer-service-2021-01-06/2025-02-12/
END:VEVENT
BEGIN:VEVENT
DTSTART;TZID=America/New_York:20250216T100000
DTEND;TZID=America/New_York:20250216T113000
DTSTAMP:20260421T214443
CREATED:20171028T045217Z
LAST-MODIFIED:20250226T231347Z
UID:10516-1739700000-1739705400@theconnection.ws
SUMMARY:Sunday Morning Service
DESCRIPTION:Come worship with us.  Expect a time of singing\, prayer\, and hearing a message from God’s Word!  We look forward to seeing you! \nWill meet in the Main Sanctuary.
URL:https://theconnection.ws/event/sunday-worship-service/2025-02-16/
END:VEVENT
BEGIN:VEVENT
DTSTART;TZID=America/New_York:20250216T150000
DTEND;TZID=America/New_York:20250216T170000
DTSTAMP:20260421T214443
CREATED:20171030T032015Z
LAST-MODIFIED:20250226T231827Z
UID:10517-1739718000-1739725200@theconnection.ws
SUMMARY:Hspc Service
DESCRIPTION:Our Hispanic Service meets in the Main Sanctuary.
URL:https://theconnection.ws/event/300-hspc-service/2025-02-16/
END:VEVENT
BEGIN:VEVENT
DTSTART;TZID=America/New_York:20250219T183000
DTEND;TZID=America/New_York:20250219T203000
DTSTAMP:20260421T214443
CREATED:20171031T011231Z
LAST-MODIFIED:20250226T230531Z
UID:10523-1739989800-1739997000@theconnection.ws
SUMMARY:Hspc Prayer Service
DESCRIPTION:Will meet in the Fellowship Hall.  See Pastor Robson for details.
URL:https://theconnection.ws/event/630-hspc-prayer-service-2021-01-06/2025-02-19/
END:VEVENT
BEGIN:VEVENT
DTSTART;TZID=America/New_York:20250221T190000
DTEND;TZID=America/New_York:20250221T203000
DTSTAMP:20260421T214443
CREATED:20240903T223631Z
LAST-MODIFIED:20240903T223631Z
UID:11497-1740164400-1740169800@theconnection.ws
SUMMARY:Worship Night
DESCRIPTION:This event will be held in the main sanctuary.  Please see Doug Fentiman for details.
URL:https://theconnection.ws/event/worship-night-2/2025-02-21/
LOCATION:Main Sanctuary
END:VEVENT
BEGIN:VEVENT
DTSTART;TZID=America/New_York:20250223T100000
DTEND;TZID=America/New_York:20250223T113000
DTSTAMP:20260421T214443
CREATED:20171028T045217Z
LAST-MODIFIED:20250226T231347Z
UID:10526-1740304800-1740310200@theconnection.ws
SUMMARY:Sunday Morning Service
DESCRIPTION:Come worship with us.  Expect a time of singing\, prayer\, and hearing a message from God’s Word!  We look forward to seeing you! \nWill meet in the Main Sanctuary.
URL:https://theconnection.ws/event/sunday-worship-service/2025-02-23/
END:VEVENT
BEGIN:VEVENT
DTSTART;TZID=America/New_York:20250223T150000
DTEND;TZID=America/New_York:20250223T170000
DTSTAMP:20260421T214443
CREATED:20171030T032015Z
LAST-MODIFIED:20250226T231828Z
UID:10527-1740322800-1740330000@theconnection.ws
SUMMARY:Hspc Service
DESCRIPTION:Our Hispanic Service meets in the Main Sanctuary.
URL:https://theconnection.ws/event/300-hspc-service/2025-02-23/
END:VEVENT
BEGIN:VEVENT
DTSTART;TZID=America/New_York:20250226T183000
DTEND;TZID=America/New_York:20250226T203000
DTSTAMP:20260421T214443
CREATED:20171031T011231Z
LAST-MODIFIED:20250226T230532Z
UID:10533-1740594600-1740601800@theconnection.ws
SUMMARY:Hspc Prayer Service
DESCRIPTION:Will meet in the Fellowship Hall.  See Pastor Robson for details.
URL:https://theconnection.ws/event/630-hspc-prayer-service-2021-01-06/2025-02-26/
END:VEVENT
END:VCALENDAR