BEGIN:VCALENDAR
VERSION:2.0
PRODID:-//The Connection Church - ECPv6.5.1.5//NONSGML v1.0//EN
CALSCALE:GREGORIAN
METHOD:PUBLISH
X-ORIGINAL-URL:https://theconnection.ws
X-WR-CALDESC:Events for The Connection Church
REFRESH-INTERVAL;VALUE=DURATION:PT1H
X-Robots-Tag:noindex
X-PUBLISHED-TTL:PT1H
BEGIN:VTIMEZONE
TZID:America/New_York
BEGIN:DAYLIGHT
TZOFFSETFROM:-0500
TZOFFSETTO:-0400
TZNAME:EDT
DTSTART:20250309T070000
END:DAYLIGHT
BEGIN:STANDARD
TZOFFSETFROM:-0400
TZOFFSETTO:-0500
TZNAME:EST
DTSTART:20251102T060000
END:STANDARD
END:VTIMEZONE
BEGIN:VEVENT
DTSTART;TZID=America/New_York:20250503T140000
DTEND;TZID=America/New_York:20250503T190000
DTSTAMP:20260420T055805
CREATED:20250411T230850Z
LAST-MODIFIED:20250414T225808Z
UID:13409-1746280800-1746298800@theconnection.ws
SUMMARY:Private Event
DESCRIPTION:Private Event.  See Pastor Doug Fentiman for details
URL:https://theconnection.ws/event/private-event-7/
LOCATION:Main Sanctuary
END:VEVENT
BEGIN:VEVENT
DTSTART;TZID=America/New_York:20250504T100000
DTEND;TZID=America/New_York:20250504T113000
DTSTAMP:20260420T055805
CREATED:20171028T045217Z
LAST-MODIFIED:20250226T231351Z
UID:10684-1746352800-1746358200@theconnection.ws
SUMMARY:Sunday Morning Service
DESCRIPTION:Come worship with us.  Expect a time of singing\, prayer\, and hearing a message from God’s Word!  We look forward to seeing you! \nWill meet in the Main Sanctuary.
URL:https://theconnection.ws/event/sunday-worship-service/2025-05-04/
END:VEVENT
BEGIN:VEVENT
DTSTART;TZID=America/New_York:20250504T150000
DTEND;TZID=America/New_York:20250504T170000
DTSTAMP:20260420T055805
CREATED:20171030T032015Z
LAST-MODIFIED:20250226T231833Z
UID:10685-1746370800-1746378000@theconnection.ws
SUMMARY:Hspc Service
DESCRIPTION:Our Hispanic Service meets in the Main Sanctuary.
URL:https://theconnection.ws/event/300-hspc-service/2025-05-04/
END:VEVENT
BEGIN:VEVENT
DTSTART;TZID=America/New_York:20250507T183000
DTEND;TZID=America/New_York:20250507T203000
DTSTAMP:20260420T055805
CREATED:20171031T011231Z
LAST-MODIFIED:20250226T230537Z
UID:10692-1746642600-1746649800@theconnection.ws
SUMMARY:Hspc Prayer Service
DESCRIPTION:Will meet in the Fellowship Hall.  See Pastor Robson for details.
URL:https://theconnection.ws/event/630-hspc-prayer-service-2021-01-06/2025-05-07/
END:VEVENT
BEGIN:VEVENT
DTSTART;TZID=America/New_York:20250511T100000
DTEND;TZID=America/New_York:20250511T113000
DTSTAMP:20260420T055805
CREATED:20171028T045217Z
LAST-MODIFIED:20250226T231351Z
UID:10695-1746957600-1746963000@theconnection.ws
SUMMARY:Sunday Morning Service
DESCRIPTION:Come worship with us.  Expect a time of singing\, prayer\, and hearing a message from God’s Word!  We look forward to seeing you! \nWill meet in the Main Sanctuary.
URL:https://theconnection.ws/event/sunday-worship-service/2025-05-11/
END:VEVENT
BEGIN:VEVENT
DTSTART;TZID=America/New_York:20250511T150000
DTEND;TZID=America/New_York:20250511T170000
DTSTAMP:20260420T055805
CREATED:20171030T032015Z
LAST-MODIFIED:20250226T231834Z
UID:10696-1746975600-1746982800@theconnection.ws
SUMMARY:Hspc Service
DESCRIPTION:Our Hispanic Service meets in the Main Sanctuary.
URL:https://theconnection.ws/event/300-hspc-service/2025-05-11/
END:VEVENT
BEGIN:VEVENT
DTSTART;TZID=America/New_York:20250514T183000
DTEND;TZID=America/New_York:20250514T203000
DTSTAMP:20260420T055805
CREATED:20171031T011231Z
LAST-MODIFIED:20250226T230538Z
UID:10702-1747247400-1747254600@theconnection.ws
SUMMARY:Hspc Prayer Service
DESCRIPTION:Will meet in the Fellowship Hall.  See Pastor Robson for details.
URL:https://theconnection.ws/event/630-hspc-prayer-service-2021-01-06/2025-05-14/
END:VEVENT
BEGIN:VEVENT
DTSTART;TZID=America/New_York:20250516T190000
DTEND;TZID=America/New_York:20250516T203000
DTSTAMP:20260420T055805
CREATED:20240903T223631Z
LAST-MODIFIED:20240903T223631Z
UID:11500-1747422000-1747427400@theconnection.ws
SUMMARY:Worship Night
DESCRIPTION:This event will be held in the main sanctuary.  Please see Doug Fentiman for details.
URL:https://theconnection.ws/event/worship-night-2/2025-05-16/
LOCATION:Main Sanctuary
END:VEVENT
BEGIN:VEVENT
DTSTART;TZID=America/New_York:20250518T100000
DTEND;TZID=America/New_York:20250518T113000
DTSTAMP:20260420T055805
CREATED:20171028T045217Z
LAST-MODIFIED:20250226T231351Z
UID:10705-1747562400-1747567800@theconnection.ws
SUMMARY:Sunday Morning Service
DESCRIPTION:Come worship with us.  Expect a time of singing\, prayer\, and hearing a message from God’s Word!  We look forward to seeing you! \nWill meet in the Main Sanctuary.
URL:https://theconnection.ws/event/sunday-worship-service/2025-05-18/
END:VEVENT
BEGIN:VEVENT
DTSTART;TZID=America/New_York:20250518T150000
DTEND;TZID=America/New_York:20250518T170000
DTSTAMP:20260420T055805
CREATED:20171030T032015Z
LAST-MODIFIED:20250226T231834Z
UID:10706-1747580400-1747587600@theconnection.ws
SUMMARY:Hspc Service
DESCRIPTION:Our Hispanic Service meets in the Main Sanctuary.
URL:https://theconnection.ws/event/300-hspc-service/2025-05-18/
END:VEVENT
BEGIN:VEVENT
DTSTART;TZID=America/New_York:20250521T183000
DTEND;TZID=America/New_York:20250521T203000
DTSTAMP:20260420T055805
CREATED:20171031T011231Z
LAST-MODIFIED:20250226T230538Z
UID:10744-1747852200-1747859400@theconnection.ws
SUMMARY:Hspc Prayer Service
DESCRIPTION:Will meet in the Fellowship Hall.  See Pastor Robson for details.
URL:https://theconnection.ws/event/630-hspc-prayer-service-2021-01-06/2025-05-21/
END:VEVENT
BEGIN:VEVENT
DTSTART;TZID=America/New_York:20250525T100000
DTEND;TZID=America/New_York:20250525T113000
DTSTAMP:20260420T055805
CREATED:20171028T045217Z
LAST-MODIFIED:20250226T231352Z
UID:10747-1748167200-1748172600@theconnection.ws
SUMMARY:Sunday Morning Service
DESCRIPTION:Come worship with us.  Expect a time of singing\, prayer\, and hearing a message from God’s Word!  We look forward to seeing you! \nWill meet in the Main Sanctuary.
URL:https://theconnection.ws/event/sunday-worship-service/2025-05-25/
END:VEVENT
BEGIN:VEVENT
DTSTART;TZID=America/New_York:20250525T150000
DTEND;TZID=America/New_York:20250525T170000
DTSTAMP:20260420T055805
CREATED:20171030T032015Z
LAST-MODIFIED:20250226T231834Z
UID:10748-1748185200-1748192400@theconnection.ws
SUMMARY:Hspc Service
DESCRIPTION:Our Hispanic Service meets in the Main Sanctuary.
URL:https://theconnection.ws/event/300-hspc-service/2025-05-25/
END:VEVENT
BEGIN:VEVENT
DTSTART;TZID=America/New_York:20250528T183000
DTEND;TZID=America/New_York:20250528T203000
DTSTAMP:20260420T055805
CREATED:20171031T011231Z
LAST-MODIFIED:20250226T230539Z
UID:10754-1748457000-1748464200@theconnection.ws
SUMMARY:Hspc Prayer Service
DESCRIPTION:Will meet in the Fellowship Hall.  See Pastor Robson for details.
URL:https://theconnection.ws/event/630-hspc-prayer-service-2021-01-06/2025-05-28/
END:VEVENT
END:VCALENDAR